BEGIN:VCALENDAR
VERSION:2.0
PRODID:-//Prime Timers of Baltimore - ECPv6.15.20//NONSGML v1.0//EN
CALSCALE:GREGORIAN
METHOD:PUBLISH
X-WR-CALNAME:Prime Timers of Baltimore
X-ORIGINAL-URL:https://chapters.theprimetimersww.com/baltimore
X-WR-CALDESC:Events for Prime Timers of Baltimore
REFRESH-INTERVAL;VALUE=DURATION:PT1H
X-Robots-Tag:noindex
X-PUBLISHED-TTL:PT1H
BEGIN:VTIMEZONE
TZID:America/New_York
BEGIN:DAYLIGHT
TZOFFSETFROM:-0500
TZOFFSETTO:-0400
TZNAME:EDT
DTSTART:20250309T070000
END:DAYLIGHT
BEGIN:STANDARD
TZOFFSETFROM:-0400
TZOFFSETTO:-0500
TZNAME:EST
DTSTART:20251102T060000
END:STANDARD
BEGIN:DAYLIGHT
TZOFFSETFROM:-0500
TZOFFSETTO:-0400
TZNAME:EDT
DTSTART:20260308T070000
END:DAYLIGHT
BEGIN:STANDARD
TZOFFSETFROM:-0400
TZOFFSETTO:-0500
TZNAME:EST
DTSTART:20261101T060000
END:STANDARD
BEGIN:DAYLIGHT
TZOFFSETFROM:-0500
TZOFFSETTO:-0400
TZNAME:EDT
DTSTART:20270314T070000
END:DAYLIGHT
BEGIN:STANDARD
TZOFFSETFROM:-0400
TZOFFSETTO:-0500
TZNAME:EST
DTSTART:20271107T060000
END:STANDARD
END:VTIMEZONE
BEGIN:VEVENT
DTSTART;TZID=America/New_York:20260502T180000
DTEND;TZID=America/New_York:20260502T203000
DTSTAMP:20260422T220253
CREATED:20240814T020533Z
LAST-MODIFIED:20260419T184741Z
UID:10000067-1777744800-1777753800@chapters.theprimetimersww.com
SUMMARY:Dining OUT
DESCRIPTION:The Prime Timers of Baltimore’s monthly Dining OUT will happen next at Silver Spring Mining Company\, 8634 Belair Road\, Perry Hall\, Maryland 21236 \nThey pride themselves on their service\, quality of food and family atmosphere. From appetizers to main course to dessert\, they have a nice  variety of meals that should please everyone. \nRSVP to event leader Richard at diningout@ptbalto.org by Tuesday\, April 28 at 6:00 p.m.
URL:https://chapters.theprimetimersww.com/baltimore/event/diningout/
LOCATION:Silver Spring Mining Company\, 8634 Bel Air Road\, Perry Hall\, MD\, 21236\, United States
ATTACH;FMTTYPE=image/jpeg:https://chapters.theprimetimersww.com/baltimore/wp-content/uploads/2022/07/edward-franklin-Nb_Q-M3Cdzg-unsplashrestaurant-scaled.jpg
ORGANIZER;CN="Richard":MAILTO:diningout@ptbalto.org
END:VEVENT
END:VCALENDAR