BEGIN:VCALENDAR
VERSION:2.0
PRODID:-//Prime Timers of Baltimore - ECPv6.15.20//NONSGML v1.0//EN
CALSCALE:GREGORIAN
METHOD:PUBLISH
X-WR-CALNAME:Prime Timers of Baltimore
X-ORIGINAL-URL:https://chapters.theprimetimersww.com/baltimore
X-WR-CALDESC:Events for Prime Timers of Baltimore
REFRESH-INTERVAL;VALUE=DURATION:PT1H
X-Robots-Tag:noindex
X-PUBLISHED-TTL:PT1H
BEGIN:VTIMEZONE
TZID:America/New_York
BEGIN:DAYLIGHT
TZOFFSETFROM:-0500
TZOFFSETTO:-0400
TZNAME:EDT
DTSTART:20250309T070000
END:DAYLIGHT
BEGIN:STANDARD
TZOFFSETFROM:-0400
TZOFFSETTO:-0500
TZNAME:EST
DTSTART:20251102T060000
END:STANDARD
BEGIN:DAYLIGHT
TZOFFSETFROM:-0500
TZOFFSETTO:-0400
TZNAME:EDT
DTSTART:20260308T070000
END:DAYLIGHT
BEGIN:STANDARD
TZOFFSETFROM:-0400
TZOFFSETTO:-0500
TZNAME:EST
DTSTART:20261101T060000
END:STANDARD
BEGIN:DAYLIGHT
TZOFFSETFROM:-0500
TZOFFSETTO:-0400
TZNAME:EDT
DTSTART:20270314T070000
END:DAYLIGHT
BEGIN:STANDARD
TZOFFSETFROM:-0400
TZOFFSETTO:-0500
TZNAME:EST
DTSTART:20271107T060000
END:STANDARD
END:VTIMEZONE
BEGIN:VEVENT
DTSTART;TZID=America/New_York:20260508T190000
DTEND;TZID=America/New_York:20260508T210000
DTSTAMP:20260423T075329
CREATED:20220731T143024Z
LAST-MODIFIED:20260419T184908Z
UID:10000012-1778266800-1778274000@chapters.theprimetimersww.com
SUMMARY:Book Club
DESCRIPTION:Book selection\, “Open\, Heaven\,” by Seán Hewitt \n\nOpen\, Heaven is Seán Hewitt’s debut novel\, a lyrical coming of age story about two teenage boys\, James and Luke\, exploring first love and desire in a remote English village in the early 2000s. The novel follows the sheltered James as he meets the charismatic but troubled Luke\, and their intense\, transformative relationship unfolds over the course of a year\, exploring themes of sexuality\, memory\, and the conflict between personal longing and community expectations. It has been praised for its poetic prose and poignant depiction of queer adolescence. \nOur group will meet at Anthony’s home in Rodger’s Forge in Towson. Note the new time of 7:00 p.m. to meet. Contact event leader Paige at “bookclub at ptbalto dot org” for information. \nPhoto by Ed Robertson on Unsplash \n 
URL:https://chapters.theprimetimersww.com/baltimore/event/book-club/
LOCATION:Anthony’s House\, 7104 York Road\, Towson\, MD\, 21204\, United States
ATTACH;FMTTYPE=image/jpeg:https://chapters.theprimetimersww.com/baltimore/wp-content/uploads/2022/07/ed-robertson-eeSdJfLfx1A-unsplashbooks-scaled.jpg
ORGANIZER;CN="Paige":MAILTO:pglazejr@gmail.com
END:VEVENT
BEGIN:VEVENT
DTSTART;TZID=America/New_York:20260508T200000
DTEND;TZID=America/New_York:20260508T220000
DTSTAMP:20260423T075329
CREATED:20260419T011809Z
LAST-MODIFIED:20260419T011809Z
UID:10000168-1778270400-1778277600@chapters.theprimetimersww.com
SUMMARY:Steve Hostetter - Comedy Show
DESCRIPTION:Join the Prime Timers of Baltimore for a night of comedy with Steve Hostetter at the Baltimore Soundstage on Friday\, May 8 at 8:00 p.m.! \nYou can see some of his up-front intelligent comedy on his Facebook page. \nSteve has over a billion views on YouTube\, Facebook\, and Instagram\, is a Nobel Peace Prize-nominated comedian. His book\, “Ginger Kid” is a top-5 pick on Amazon and debuted at #1 in its category. He was the host and executive producer of season one of Laughs on FOX and he has been on The Late Late Show with Craig Ferguson and E! True Hollywood Story\, Comics Unleashed\, Comedy All-Stars\, Quite Frankly\, White Boyz in the Hood\, Countdown\, and more. He’s been in four movies\, and he has had two top 20 comedy albums (including one that hit number 1 on iTunes comedy charts). He is a former columnist for Sports Illustrated and the NHL\, and has also written for Maxim and the New York Times\, among others. \nGet your tickets for general admission seats here.  There is parking in the area and you can purchase a parking space when you purchase your tickets. \nIf you plan to go\, contact event leader Mike Bernard at primetimersbaltimore @ gmail dot com so we can meet and sit together.
URL:https://chapters.theprimetimersww.com/baltimore/event/steve-hostetter-comedy-show/
LOCATION:Baltimore Soundstage\, 124 Market Place\, Baltimore\, MD\, 21202-5690\, United States
ATTACH;FMTTYPE=image/jpeg:https://chapters.theprimetimersww.com/baltimore/wp-content/uploads/2026/04/Steve-H.jpg
ORGANIZER;CN="Mike":MAILTO:PrimeTimersBaltimore@gmail.com
END:VEVENT
END:VCALENDAR