BEGIN:VCALENDAR
VERSION:2.0
PRODID:-//Canton OH Prime Timers - ECPv6.15.20//NONSGML v1.0//EN
CALSCALE:GREGORIAN
METHOD:PUBLISH
X-WR-CALNAME:Canton OH Prime Timers
X-ORIGINAL-URL:https://chapters.theprimetimersww.com/canton
X-WR-CALDESC:Events for Canton OH Prime Timers
REFRESH-INTERVAL;VALUE=DURATION:PT1H
X-Robots-Tag:noindex
X-PUBLISHED-TTL:PT1H
BEGIN:VTIMEZONE
TZID:America/New_York
BEGIN:DAYLIGHT
TZOFFSETFROM:-0500
TZOFFSETTO:-0400
TZNAME:EDT
DTSTART:20210314T070000
END:DAYLIGHT
BEGIN:STANDARD
TZOFFSETFROM:-0400
TZOFFSETTO:-0500
TZNAME:EST
DTSTART:20211107T060000
END:STANDARD
BEGIN:DAYLIGHT
TZOFFSETFROM:-0500
TZOFFSETTO:-0400
TZNAME:EDT
DTSTART:20220313T070000
END:DAYLIGHT
BEGIN:STANDARD
TZOFFSETFROM:-0400
TZOFFSETTO:-0500
TZNAME:EST
DTSTART:20221106T060000
END:STANDARD
BEGIN:DAYLIGHT
TZOFFSETFROM:-0500
TZOFFSETTO:-0400
TZNAME:EDT
DTSTART:20230312T070000
END:DAYLIGHT
BEGIN:STANDARD
TZOFFSETFROM:-0400
TZOFFSETTO:-0500
TZNAME:EST
DTSTART:20231105T060000
END:STANDARD
BEGIN:DAYLIGHT
TZOFFSETFROM:-0500
TZOFFSETTO:-0400
TZNAME:EDT
DTSTART:20240310T070000
END:DAYLIGHT
BEGIN:STANDARD
TZOFFSETFROM:-0400
TZOFFSETTO:-0500
TZNAME:EST
DTSTART:20241103T060000
END:STANDARD
BEGIN:DAYLIGHT
TZOFFSETFROM:-0500
TZOFFSETTO:-0400
TZNAME:EDT
DTSTART:20250309T070000
END:DAYLIGHT
BEGIN:STANDARD
TZOFFSETFROM:-0400
TZOFFSETTO:-0500
TZNAME:EST
DTSTART:20251102T060000
END:STANDARD
BEGIN:DAYLIGHT
TZOFFSETFROM:-0500
TZOFFSETTO:-0400
TZNAME:EDT
DTSTART:20260308T070000
END:DAYLIGHT
BEGIN:STANDARD
TZOFFSETFROM:-0400
TZOFFSETTO:-0500
TZNAME:EST
DTSTART:20261101T060000
END:STANDARD
END:VTIMEZONE
BEGIN:VEVENT
DTSTART;TZID=America/New_York:20250913T160000
DTEND;TZID=America/New_York:20250913T210000
DTSTAMP:20260423T070219
CREATED:20250619T215103Z
LAST-MODIFIED:20250619T215103Z
UID:717-1757779200-1757797200@chapters.theprimetimersww.com
SUMMARY:COPT Club Picnic
DESCRIPTION:
URL:https://chapters.theprimetimersww.com/canton/event/copt-club-picnic/
LOCATION:Brian Swinford’s Home
ORGANIZER;CN="Secretary Don W.":MAILTO:donw44720@aol.com
END:VEVENT
BEGIN:VEVENT
DTSTART;TZID=America/New_York:20240831T160000
DTEND;TZID=America/New_York:20240831T210000
DTSTAMP:20260423T070219
CREATED:20240717T140555Z
LAST-MODIFIED:20240717T140555Z
UID:617-1725120000-1725138000@chapters.theprimetimersww.com
SUMMARY:Club Picnic
DESCRIPTION:
URL:https://chapters.theprimetimersww.com/canton/event/club-picnic-3/
LOCATION:Brian Swinford’s Home
ORGANIZER;CN="Secretary Don W.":MAILTO:donw44720@aol.com
END:VEVENT
BEGIN:VEVENT
DTSTART;TZID=America/New_York:20230826T150000
DTEND;TZID=America/New_York:20230826T210000
DTSTAMP:20260423T070219
CREATED:20230618T172510Z
LAST-MODIFIED:20230815T174554Z
UID:516-1693062000-1693083600@chapters.theprimetimersww.com
SUMMARY:Club Picnic
DESCRIPTION:
URL:https://chapters.theprimetimersww.com/canton/event/club-picnic-2/
LOCATION:Brian Swinford’s Home
ORGANIZER;CN="Secretary Don W.":MAILTO:donw44720@aol.com
END:VEVENT
BEGIN:VEVENT
DTSTART;TZID=America/New_York:20220827T150000
DTEND;TZID=America/New_York:20220827T210000
DTSTAMP:20260423T070219
CREATED:20220721T144804Z
LAST-MODIFIED:20220721T144804Z
UID:410-1661612400-1661634000@chapters.theprimetimersww.com
SUMMARY:Club Picnic
DESCRIPTION:
URL:https://chapters.theprimetimersww.com/canton/event/club-picnic/
LOCATION:Brian Swinford’s Home
ORGANIZER;CN="Secretary Don W.":MAILTO:donw44720@aol.com
END:VEVENT
END:VCALENDAR