BEGIN:VCALENDAR
VERSION:2.0
PRODID:-//Canton OH Prime Timers - ECPv6.15.20//NONSGML v1.0//EN
CALSCALE:GREGORIAN
METHOD:PUBLISH
X-ORIGINAL-URL:https://chapters.theprimetimersww.com/canton
X-WR-CALDESC:Events for Canton OH Prime Timers
REFRESH-INTERVAL;VALUE=DURATION:PT1H
X-Robots-Tag:noindex
X-PUBLISHED-TTL:PT1H
BEGIN:VTIMEZONE
TZID:America/New_York
BEGIN:DAYLIGHT
TZOFFSETFROM:-0500
TZOFFSETTO:-0400
TZNAME:EDT
DTSTART:20230312T070000
END:DAYLIGHT
BEGIN:STANDARD
TZOFFSETFROM:-0400
TZOFFSETTO:-0500
TZNAME:EST
DTSTART:20231105T060000
END:STANDARD
BEGIN:DAYLIGHT
TZOFFSETFROM:-0500
TZOFFSETTO:-0400
TZNAME:EDT
DTSTART:20240310T070000
END:DAYLIGHT
BEGIN:STANDARD
TZOFFSETFROM:-0400
TZOFFSETTO:-0500
TZNAME:EST
DTSTART:20241103T060000
END:STANDARD
BEGIN:DAYLIGHT
TZOFFSETFROM:-0500
TZOFFSETTO:-0400
TZNAME:EDT
DTSTART:20250309T070000
END:DAYLIGHT
BEGIN:STANDARD
TZOFFSETFROM:-0400
TZOFFSETTO:-0500
TZNAME:EST
DTSTART:20251102T060000
END:STANDARD
BEGIN:DAYLIGHT
TZOFFSETFROM:-0500
TZOFFSETTO:-0400
TZNAME:EDT
DTSTART:20260308T070000
END:DAYLIGHT
BEGIN:STANDARD
TZOFFSETFROM:-0400
TZOFFSETTO:-0500
TZNAME:EST
DTSTART:20261101T060000
END:STANDARD
BEGIN:DAYLIGHT
TZOFFSETFROM:-0500
TZOFFSETTO:-0400
TZNAME:EDT
DTSTART:20270314T070000
END:DAYLIGHT
BEGIN:STANDARD
TZOFFSETFROM:-0400
TZOFFSETTO:-0500
TZNAME:EST
DTSTART:20271107T060000
END:STANDARD
END:VTIMEZONE
BEGIN:VEVENT
DTSTART;TZID=America/New_York:20260407T183000
DTEND;TZID=America/New_York:20260407T200000
DTSTAMP:20260422T180015
CREATED:20260306T212034Z
LAST-MODIFIED:20260306T212034Z
UID:833-1775586600-1775592000@chapters.theprimetimersww.com
SUMMARY:Meeting & Dinner
DESCRIPTION:
URL:https://chapters.theprimetimersww.com/canton/event/meeting-dinner-11/
LOCATION:Grinders Above and Beyond\, 3114 Whipple Ave. NW\, Canton\, 44718\, United States
ORGANIZER;CN="Secretary Don W.":MAILTO:donw44720@aol.com
END:VEVENT
BEGIN:VEVENT
DTSTART;TZID=America/New_York:20260407T180000
DTEND;TZID=America/New_York:20260407T183000
DTSTAMP:20260422T180015
CREATED:20260306T210954Z
LAST-MODIFIED:20260306T210954Z
UID:814-1775584800-1775586600@chapters.theprimetimersww.com
SUMMARY:Board Meeting
DESCRIPTION:
URL:https://chapters.theprimetimersww.com/canton/event/board-meeting-4/
LOCATION:Grinders Above and Beyond\, 3114 Whipple Ave. NW\, Canton\, 44718\, United States
ORGANIZER;CN="Secretary Don W.":MAILTO:donw44720@aol.com
END:VEVENT
BEGIN:VEVENT
DTSTART;TZID=America/New_York:20260303T133000
DTEND;TZID=America/New_York:20260303T150000
DTSTAMP:20260422T180015
CREATED:20260205T203009Z
LAST-MODIFIED:20260205T203009Z
UID:790-1772544600-1772550000@chapters.theprimetimersww.com
SUMMARY:General Meeting & Lunch
DESCRIPTION:
URL:https://chapters.theprimetimersww.com/canton/event/general-meeting-lunch/
LOCATION:Grinders Above and Beyond\, 3114 Whipple Ave. NW\, Canton\, 44718\, United States
ORGANIZER;CN="Secretary Don W.":MAILTO:donw44720@aol.com
END:VEVENT
BEGIN:VEVENT
DTSTART;TZID=America/New_York:20260303T130000
DTEND;TZID=America/New_York:20260303T133000
DTSTAMP:20260422T180015
CREATED:20260205T202833Z
LAST-MODIFIED:20260205T202833Z
UID:787-1772542800-1772544600@chapters.theprimetimersww.com
SUMMARY:Board Meeting
DESCRIPTION:
URL:https://chapters.theprimetimersww.com/canton/event/board-meeting-3/
LOCATION:Grinders Above and Beyond\, 3114 Whipple Ave. NW\, Canton\, 44718\, United States
ORGANIZER;CN="Secretary Don W.":MAILTO:donw44720@aol.com
END:VEVENT
BEGIN:VEVENT
DTSTART;TZID=America/New_York:20260203T133000
DTEND;TZID=America/New_York:20260203T150000
DTSTAMP:20260422T180015
CREATED:20260126T214120Z
LAST-MODIFIED:20260126T215141Z
UID:775-1770125400-1770130800@chapters.theprimetimersww.com
SUMMARY:Member Meeting and Lunch
DESCRIPTION:
URL:https://chapters.theprimetimersww.com/canton/event/board-meeting/
LOCATION:Grinders Above and Beyond\, 3114 Whipple Ave. NW\, Canton\, 44718\, United States
ORGANIZER;CN="Secretary Don W.":MAILTO:donw44720@aol.com
END:VEVENT
BEGIN:VEVENT
DTSTART;TZID=America/New_York:20260203T130000
DTEND;TZID=America/New_York:20260203T133000
DTSTAMP:20260422T180015
CREATED:20260126T214355Z
LAST-MODIFIED:20260126T214355Z
UID:780-1770123600-1770125400@chapters.theprimetimersww.com
SUMMARY:Board Meeting
DESCRIPTION:
URL:https://chapters.theprimetimersww.com/canton/event/board-meeting-2/
LOCATION:Grinders Above and Beyond\, 3114 Whipple Ave. NW\, Canton\, 44718\, United States
ORGANIZER;CN="Secretary Don W.":MAILTO:donw44720@aol.com
END:VEVENT
BEGIN:VEVENT
DTSTART;TZID=America/New_York:20260106T180000
DTEND;TZID=America/New_York:20260106T200000
DTSTAMP:20260422T180015
CREATED:20251205T132256Z
LAST-MODIFIED:20251205T132256Z
UID:767-1767722400-1767729600@chapters.theprimetimersww.com
SUMMARY:Meeting and Dinner
DESCRIPTION:
URL:https://chapters.theprimetimersww.com/canton/event/meeting-and-dinner-45/
LOCATION:Grinders Above and Beyond\, 3114 Whipple Ave. NW\, Canton\, 44718\, United States
ORGANIZER;CN="Secretary Don W.":MAILTO:donw44720@aol.com
END:VEVENT
BEGIN:VEVENT
DTSTART;TZID=America/New_York:20251202T180000
DTEND;TZID=America/New_York:20251202T200000
DTSTAMP:20260422T180015
CREATED:20251027T144723Z
LAST-MODIFIED:20251027T144723Z
UID:762-1764698400-1764705600@chapters.theprimetimersww.com
SUMMARY:Meeting & Dinner
DESCRIPTION:
URL:https://chapters.theprimetimersww.com/canton/event/meeting-dinner-10/
LOCATION:Grinders Above and Beyond\, 3114 Whipple Ave. NW\, Canton\, 44718\, United States
ORGANIZER;CN="Secretary Don W.":MAILTO:donw44720@aol.com
END:VEVENT
BEGIN:VEVENT
DTSTART;TZID=America/New_York:20251104T180000
DTEND;TZID=America/New_York:20251104T200000
DTSTAMP:20260422T180015
CREATED:20251027T143511Z
LAST-MODIFIED:20251027T143511Z
UID:747-1762279200-1762286400@chapters.theprimetimersww.com
SUMMARY:Meeting & Dinner
DESCRIPTION:
URL:https://chapters.theprimetimersww.com/canton/event/meeting-dinner-9/
LOCATION:Grinders Above and Beyond\, 3114 Whipple Ave. NW\, Canton\, 44718\, United States
ORGANIZER;CN="Secretary Don W.":MAILTO:donw44720@aol.com
END:VEVENT
BEGIN:VEVENT
DTSTART;TZID=America/New_York:20251007T180000
DTEND;TZID=America/New_York:20251007T200000
DTSTAMP:20260422T180015
CREATED:20250924T144641Z
LAST-MODIFIED:20250924T144641Z
UID:735-1759860000-1759867200@chapters.theprimetimersww.com
SUMMARY:Dinner and Meeting
DESCRIPTION:
URL:https://chapters.theprimetimersww.com/canton/event/dinner-and-meeting/
LOCATION:Grinders Above and Beyond\, 3114 Whipple Ave. NW\, Canton\, 44718\, United States
ORGANIZER;CN="Secretary Don W.":MAILTO:donw44720@aol.com
END:VEVENT
BEGIN:VEVENT
DTSTART;TZID=America/New_York:20250902T180000
DTEND;TZID=America/New_York:20250902T200000
DTSTAMP:20260422T180015
CREATED:20250823T133019Z
LAST-MODIFIED:20250823T133019Z
UID:725-1756836000-1756843200@chapters.theprimetimersww.com
SUMMARY:Meeting & Dinner
DESCRIPTION:
URL:https://chapters.theprimetimersww.com/canton/event/meeting-dinner-8/
LOCATION:Grinders Above and Beyond\, 3114 Whipple Ave. NW\, Canton\, 44718\, United States
ORGANIZER;CN="Secretary Don W.":MAILTO:donw44720@aol.com
END:VEVENT
BEGIN:VEVENT
DTSTART;TZID=America/New_York:20250805T180000
DTEND;TZID=America/New_York:20250805T200000
DTSTAMP:20260422T180015
CREATED:20250728T152653Z
LAST-MODIFIED:20250728T152653Z
UID:723-1754416800-1754424000@chapters.theprimetimersww.com
SUMMARY:Meeting and Dinner
DESCRIPTION:
URL:https://chapters.theprimetimersww.com/canton/event/meeting-and-dinner-44/
LOCATION:Grinders Above and Beyond\, 3114 Whipple Ave. NW\, Canton\, 44718\, United States
ORGANIZER;CN="Secretary Don W.":MAILTO:donw44720@aol.com
END:VEVENT
BEGIN:VEVENT
DTSTART;TZID=America/New_York:20250701T180000
DTEND;TZID=America/New_York:20250701T200000
DTSTAMP:20260422T180015
CREATED:20250619T214653Z
LAST-MODIFIED:20250619T214653Z
UID:712-1751392800-1751400000@chapters.theprimetimersww.com
SUMMARY:Meeting & Dinner
DESCRIPTION:
URL:https://chapters.theprimetimersww.com/canton/event/meeting-dinner-7/
LOCATION:Grinders Above and Beyond\, 3114 Whipple Ave. NW\, Canton\, 44718\, United States
ORGANIZER;CN="Secretary Don W.":MAILTO:donw44720@aol.com
END:VEVENT
BEGIN:VEVENT
DTSTART;TZID=America/New_York:20250610T180000
DTEND;TZID=America/New_York:20250610T200000
DTSTAMP:20260422T180015
CREATED:20250525T173212Z
LAST-MODIFIED:20250525T173212Z
UID:702-1749578400-1749585600@chapters.theprimetimersww.com
SUMMARY:Meeting & Dinner
DESCRIPTION:
URL:https://chapters.theprimetimersww.com/canton/event/meeting-dinner-6/
LOCATION:Grinders Above and Beyond\, 3114 Whipple Ave. NW\, Canton\, 44718\, United States
ORGANIZER;CN="Secretary Don W.":MAILTO:donw44720@aol.com
END:VEVENT
BEGIN:VEVENT
DTSTART;TZID=America/New_York:20250513T180000
DTEND;TZID=America/New_York:20250513T200000
DTSTAMP:20260422T180015
CREATED:20250407T140826Z
LAST-MODIFIED:20250407T140826Z
UID:691-1747159200-1747166400@chapters.theprimetimersww.com
SUMMARY:Meeting & Dinner
DESCRIPTION:
URL:https://chapters.theprimetimersww.com/canton/event/meeting-dinner-5/
LOCATION:Grinders Above and Beyond\, 3114 Whipple Ave. NW\, Canton\, 44718\, United States
ORGANIZER;CN="Secretary Don W.":MAILTO:donw44720@aol.com
END:VEVENT
BEGIN:VEVENT
DTSTART;TZID=America/New_York:20250401T180000
DTEND;TZID=America/New_York:20250401T200000
DTSTAMP:20260422T180015
CREATED:20250318T181520Z
LAST-MODIFIED:20250318T182130Z
UID:683-1743530400-1743537600@chapters.theprimetimersww.com
SUMMARY:Meeting & Dinner
DESCRIPTION:
URL:https://chapters.theprimetimersww.com/canton/event/meeting-dinner-4/
LOCATION:Grinders Above and Beyond\, 3114 Whipple Ave. NW\, Canton\, 44718\, United States
ORGANIZER;CN="Secretary Don W.":MAILTO:donw44720@aol.com
END:VEVENT
BEGIN:VEVENT
DTSTART;TZID=America/New_York:20250304T180000
DTEND;TZID=America/New_York:20250304T200000
DTSTAMP:20260422T180015
CREATED:20250210T153834Z
LAST-MODIFIED:20250210T153834Z
UID:676-1741111200-1741118400@chapters.theprimetimersww.com
SUMMARY:Meeting & Dinner
DESCRIPTION:
URL:https://chapters.theprimetimersww.com/canton/event/meeting-dinner-3/
LOCATION:Grinders Above and Beyond\, 3114 Whipple Ave. NW\, Canton\, 44718\, United States
ORGANIZER;CN="Secretary Don W.":MAILTO:donw44720@aol.com
END:VEVENT
BEGIN:VEVENT
DTSTART;TZID=America/New_York:20250204T180000
DTEND;TZID=America/New_York:20250204T200000
DTSTAMP:20260422T180015
CREATED:20250124T154748Z
LAST-MODIFIED:20250124T154748Z
UID:670-1738692000-1738699200@chapters.theprimetimersww.com
SUMMARY:Meeting and Dinner
DESCRIPTION:
URL:https://chapters.theprimetimersww.com/canton/event/meeting-and-dinner-42/
LOCATION:Grinders Above and Beyond\, 3114 Whipple Ave. NW\, Canton\, 44718\, United States
ORGANIZER;CN="Secretary Don W.":MAILTO:donw44720@aol.com
END:VEVENT
BEGIN:VEVENT
DTSTART;TZID=America/New_York:20250114T180000
DTEND;TZID=America/New_York:20250114T200000
DTSTAMP:20260422T180015
CREATED:20241208T160437Z
LAST-MODIFIED:20241208T160437Z
UID:665-1736877600-1736884800@chapters.theprimetimersww.com
SUMMARY:Meeting and Dinner
DESCRIPTION:
URL:https://chapters.theprimetimersww.com/canton/event/meeting-and-dinner-41/
LOCATION:Grinders Above and Beyond\, 3114 Whipple Ave. NW\, Canton\, 44718\, United States
ORGANIZER;CN="Secretary Don W.":MAILTO:donw44720@aol.com
END:VEVENT
BEGIN:VEVENT
DTSTART;TZID=America/New_York:20241203T180000
DTEND;TZID=America/New_York:20241203T200000
DTSTAMP:20260422T180015
CREATED:20240811T165135Z
LAST-MODIFIED:20240811T165135Z
UID:631-1733248800-1733256000@chapters.theprimetimersww.com
SUMMARY:Meeting and Dinner
DESCRIPTION:
URL:https://chapters.theprimetimersww.com/canton/event/meeting-and-dinner-40/
LOCATION:Grinders Above and Beyond\, 3114 Whipple Ave. NW\, Canton\, 44718\, United States
END:VEVENT
BEGIN:VEVENT
DTSTART;TZID=America/New_York:20241105T180000
DTEND;TZID=America/New_York:20241105T200000
DTSTAMP:20260422T180015
CREATED:20241027T162440Z
LAST-MODIFIED:20241027T162440Z
UID:657-1730829600-1730836800@chapters.theprimetimersww.com
SUMMARY:Meeting & Dinner
DESCRIPTION:
URL:https://chapters.theprimetimersww.com/canton/event/meeting-dinner-2/
LOCATION:Grinders Above and Beyond\, 3114 Whipple Ave. NW\, Canton\, 44718\, United States
ORGANIZER;CN="Secretary Don W.":MAILTO:donw44720@aol.com
END:VEVENT
BEGIN:VEVENT
DTSTART;TZID=America/New_York:20241008T180000
DTEND;TZID=America/New_York:20241008T200000
DTSTAMP:20260422T180015
CREATED:20240811T164932Z
LAST-MODIFIED:20240811T164932Z
UID:629-1728410400-1728417600@chapters.theprimetimersww.com
SUMMARY:Meeting and Dinner
DESCRIPTION:
URL:https://chapters.theprimetimersww.com/canton/event/meeting-and-dinner-39/
LOCATION:Grinders Above and Beyond\, 3114 Whipple Ave. NW\, Canton\, 44718\, United States
ORGANIZER;CN="Secretary Don W.":MAILTO:donw44720@aol.com
END:VEVENT
BEGIN:VEVENT
DTSTART;TZID=America/New_York:20240903T180000
DTEND;TZID=America/New_York:20240903T200000
DTSTAMP:20260422T180015
CREATED:20240811T164108Z
LAST-MODIFIED:20240811T164108Z
UID:620-1725386400-1725393600@chapters.theprimetimersww.com
SUMMARY:Meeting and Dinner
DESCRIPTION:
URL:https://chapters.theprimetimersww.com/canton/event/meeting-and-dinner-38/
LOCATION:Grinders Above and Beyond\, 3114 Whipple Ave. NW\, Canton\, 44718\, United States
ORGANIZER;CN="Secretary Don W.":MAILTO:donw44720@aol.com
END:VEVENT
BEGIN:VEVENT
DTSTART;TZID=America/New_York:20240806T180000
DTEND;TZID=America/New_York:20240806T200000
DTSTAMP:20260422T180015
CREATED:20240717T140022Z
LAST-MODIFIED:20240717T140022Z
UID:610-1722967200-1722974400@chapters.theprimetimersww.com
SUMMARY:Meeting and Dinner
DESCRIPTION:
URL:https://chapters.theprimetimersww.com/canton/event/meeting-and-dinner-37/
LOCATION:Grinders Above and Beyond\, 3114 Whipple Ave. NW\, Canton\, 44718\, United States
ORGANIZER;CN="Secretary Don W.":MAILTO:donw44720@aol.com
END:VEVENT
BEGIN:VEVENT
DTSTART;TZID=America/New_York:20240702T180000
DTEND;TZID=America/New_York:20240702T200000
DTSTAMP:20260422T180015
CREATED:20240612T210114Z
LAST-MODIFIED:20240612T210114Z
UID:605-1719943200-1719950400@chapters.theprimetimersww.com
SUMMARY:Meeting and Dinner
DESCRIPTION:
URL:https://chapters.theprimetimersww.com/canton/event/meeting-and-dinner-36/
LOCATION:Grinders Above and Beyond\, 3114 Whipple Ave. NW\, Canton\, 44718\, United States
ORGANIZER;CN="Secretary Don W.":MAILTO:donw44720@aol.com
END:VEVENT
BEGIN:VEVENT
DTSTART;TZID=America/New_York:20240604T180000
DTEND;TZID=America/New_York:20240604T200000
DTSTAMP:20260422T180015
CREATED:20240517T152548Z
LAST-MODIFIED:20240517T152548Z
UID:599-1717524000-1717531200@chapters.theprimetimersww.com
SUMMARY:Meeting and Dinner
DESCRIPTION:
URL:https://chapters.theprimetimersww.com/canton/event/meeting-and-dinner-35/
LOCATION:Grinders Above and Beyond\, 3114 Whipple Ave. NW\, Canton\, 44718\, United States
ORGANIZER;CN="Secretary Don W.":MAILTO:donw44720@aol.com
END:VEVENT
BEGIN:VEVENT
DTSTART;TZID=America/New_York:20240507T180000
DTEND;TZID=America/New_York:20240507T200000
DTSTAMP:20260422T180015
CREATED:20240415T161043Z
LAST-MODIFIED:20240415T161043Z
UID:591-1715104800-1715112000@chapters.theprimetimersww.com
SUMMARY:Meeting and Dinner
DESCRIPTION:
URL:https://chapters.theprimetimersww.com/canton/event/meeting-and-dinner-34/
LOCATION:Grinders Above and Beyond\, 3114 Whipple Ave. NW\, Canton\, 44718\, United States
ORGANIZER;CN="Secretary Don W.":MAILTO:donw44720@aol.com
END:VEVENT
BEGIN:VEVENT
DTSTART;TZID=America/New_York:20240305T180000
DTEND;TZID=America/New_York:20240305T200000
DTSTAMP:20260422T180015
CREATED:20240218T160814Z
LAST-MODIFIED:20240218T160814Z
UID:579-1709661600-1709668800@chapters.theprimetimersww.com
SUMMARY:Meeting and Dinner
DESCRIPTION:
URL:https://chapters.theprimetimersww.com/canton/event/meeting-and-dinner-33/
LOCATION:Grinders Above and Beyond\, 3114 Whipple Ave. NW\, Canton\, 44718\, United States
ORGANIZER;CN="Secretary Don W.":MAILTO:donw44720@aol.com
END:VEVENT
BEGIN:VEVENT
DTSTART;TZID=America/New_York:20240206T180000
DTEND;TZID=America/New_York:20240206T200000
DTSTAMP:20260422T180015
CREATED:20240122T222456Z
LAST-MODIFIED:20240122T222456Z
UID:568-1707242400-1707249600@chapters.theprimetimersww.com
SUMMARY:Meeting & Dinner
DESCRIPTION:
URL:https://chapters.theprimetimersww.com/canton/event/meeting-dinner/
LOCATION:Grinders Above and Beyond\, 3114 Whipple Ave. NW\, Canton\, 44718\, United States
ORGANIZER;CN="Secretary Don W.":MAILTO:donw44720@aol.com
END:VEVENT
BEGIN:VEVENT
DTSTART;TZID=America/New_York:20240109T180000
DTEND;TZID=America/New_York:20240109T200000
DTSTAMP:20260422T180015
CREATED:20231227T171220Z
LAST-MODIFIED:20231227T171220Z
UID:557-1704823200-1704830400@chapters.theprimetimersww.com
SUMMARY:Meeting and Dinner
DESCRIPTION:
URL:https://chapters.theprimetimersww.com/canton/event/meeting-and-dinner-32/
LOCATION:Grinders Above and Beyond\, 3114 Whipple Ave. NW\, Canton\, 44718\, United States
ORGANIZER;CN="Secretary Don W.":MAILTO:donw44720@aol.com
END:VEVENT
END:VCALENDAR