BEGIN:VCALENDAR
VERSION:2.0
PRODID:-//Canton OH Prime Timers - ECPv6.15.20//NONSGML v1.0//EN
CALSCALE:GREGORIAN
METHOD:PUBLISH
X-WR-CALNAME:Canton OH Prime Timers
X-ORIGINAL-URL:https://chapters.theprimetimersww.com/canton
X-WR-CALDESC:Events for Canton OH Prime Timers
REFRESH-INTERVAL;VALUE=DURATION:PT1H
X-Robots-Tag:noindex
X-PUBLISHED-TTL:PT1H
BEGIN:VTIMEZONE
TZID:America/New_York
BEGIN:DAYLIGHT
TZOFFSETFROM:-0500
TZOFFSETTO:-0400
TZNAME:EDT
DTSTART:20190310T070000
END:DAYLIGHT
BEGIN:STANDARD
TZOFFSETFROM:-0400
TZOFFSETTO:-0500
TZNAME:EST
DTSTART:20191103T060000
END:STANDARD
BEGIN:DAYLIGHT
TZOFFSETFROM:-0500
TZOFFSETTO:-0400
TZNAME:EDT
DTSTART:20200308T070000
END:DAYLIGHT
BEGIN:STANDARD
TZOFFSETFROM:-0400
TZOFFSETTO:-0500
TZNAME:EST
DTSTART:20201101T060000
END:STANDARD
BEGIN:DAYLIGHT
TZOFFSETFROM:-0500
TZOFFSETTO:-0400
TZNAME:EDT
DTSTART:20210314T070000
END:DAYLIGHT
BEGIN:STANDARD
TZOFFSETFROM:-0400
TZOFFSETTO:-0500
TZNAME:EST
DTSTART:20211107T060000
END:STANDARD
END:VTIMEZONE
BEGIN:VTIMEZONE
TZID:UTC
BEGIN:STANDARD
TZOFFSETFROM:+0000
TZOFFSETTO:+0000
TZNAME:UTC
DTSTART:20180101T000000
END:STANDARD
END:VTIMEZONE
BEGIN:VEVENT
DTSTART;TZID=America/New_York:20200310T180000
DTEND;TZID=America/New_York:20200310T200000
DTSTAMP:20260423T094557
CREATED:20200221T204954Z
LAST-MODIFIED:20200221T204954Z
UID:209-1583863200-1583870400@chapters.theprimetimersww.com
SUMMARY:Dinner
DESCRIPTION:
URL:https://chapters.theprimetimersww.com/canton/event/dinner-6/
LOCATION:Katana Buffet & Grill\, 4758 Everhard Road\, Canton\, 44718
ORGANIZER;CN="Secretary Don W.":MAILTO:donw44720@aol.com
END:VEVENT
BEGIN:VEVENT
DTSTART;TZID=UTC:20190815T180000
DTEND;TZID=UTC:20190815T200000
DTSTAMP:20260423T094557
CREATED:20190810T005642Z
LAST-MODIFIED:20190810T005655Z
UID:77-1565892000-1565899200@chapters.theprimetimersww.com
SUMMARY:6:00 PM Thursday Dinner at Katana Buffet & Grill
DESCRIPTION:
URL:https://chapters.theprimetimersww.com/canton/event/600-pm-thursday-dinner-at-katana-buffet-grill/
LOCATION:Katana Buffet & Grill\, 4758 Everhard Road\, Canton\, 44718
ATTACH;FMTTYPE=image/jpeg:https://chapters.theprimetimersww.com/canton/wp-content/uploads/2019/08/katana-buffet.jpg
END:VEVENT
END:VCALENDAR