BEGIN:VCALENDAR
VERSION:2.0
PRODID:-//Canton OH Prime Timers - ECPv6.15.20//NONSGML v1.0//EN
CALSCALE:GREGORIAN
METHOD:PUBLISH
X-WR-CALNAME:Canton OH Prime Timers
X-ORIGINAL-URL:https://chapters.theprimetimersww.com/canton
X-WR-CALDESC:Events for Canton OH Prime Timers
REFRESH-INTERVAL;VALUE=DURATION:PT1H
X-Robots-Tag:noindex
X-PUBLISHED-TTL:PT1H
BEGIN:VTIMEZONE
TZID:America/New_York
BEGIN:DAYLIGHT
TZOFFSETFROM:-0500
TZOFFSETTO:-0400
TZNAME:EDT
DTSTART:20190310T070000
END:DAYLIGHT
BEGIN:STANDARD
TZOFFSETFROM:-0400
TZOFFSETTO:-0500
TZNAME:EST
DTSTART:20191103T060000
END:STANDARD
BEGIN:DAYLIGHT
TZOFFSETFROM:-0500
TZOFFSETTO:-0400
TZNAME:EDT
DTSTART:20200308T070000
END:DAYLIGHT
BEGIN:STANDARD
TZOFFSETFROM:-0400
TZOFFSETTO:-0500
TZNAME:EST
DTSTART:20201101T060000
END:STANDARD
BEGIN:DAYLIGHT
TZOFFSETFROM:-0500
TZOFFSETTO:-0400
TZNAME:EDT
DTSTART:20210314T070000
END:DAYLIGHT
BEGIN:STANDARD
TZOFFSETFROM:-0400
TZOFFSETTO:-0500
TZNAME:EST
DTSTART:20211107T060000
END:STANDARD
BEGIN:DAYLIGHT
TZOFFSETFROM:-0500
TZOFFSETTO:-0400
TZNAME:EDT
DTSTART:20220313T070000
END:DAYLIGHT
BEGIN:STANDARD
TZOFFSETFROM:-0400
TZOFFSETTO:-0500
TZNAME:EST
DTSTART:20221106T060000
END:STANDARD
BEGIN:DAYLIGHT
TZOFFSETFROM:-0500
TZOFFSETTO:-0400
TZNAME:EDT
DTSTART:20230312T070000
END:DAYLIGHT
BEGIN:STANDARD
TZOFFSETFROM:-0400
TZOFFSETTO:-0500
TZNAME:EST
DTSTART:20231105T060000
END:STANDARD
BEGIN:DAYLIGHT
TZOFFSETFROM:-0500
TZOFFSETTO:-0400
TZNAME:EDT
DTSTART:20240310T070000
END:DAYLIGHT
BEGIN:STANDARD
TZOFFSETFROM:-0400
TZOFFSETTO:-0500
TZNAME:EST
DTSTART:20241103T060000
END:STANDARD
BEGIN:DAYLIGHT
TZOFFSETFROM:-0500
TZOFFSETTO:-0400
TZNAME:EDT
DTSTART:20250309T070000
END:DAYLIGHT
BEGIN:STANDARD
TZOFFSETFROM:-0400
TZOFFSETTO:-0500
TZNAME:EST
DTSTART:20251102T060000
END:STANDARD
END:VTIMEZONE
BEGIN:VEVENT
DTSTART;TZID=America/New_York:20240123T180000
DTEND;TZID=America/New_York:20240123T200000
DTSTAMP:20260423T105447
CREATED:20231227T171554Z
LAST-MODIFIED:20231227T171554Z
UID:563-1706032800-1706040000@chapters.theprimetimersww.com
SUMMARY:Dinner
DESCRIPTION:
URL:https://chapters.theprimetimersww.com/canton/event/dinner-50/
LOCATION:TD’s Tailgate\, 1645 N. Main St\, North Canton\, OH\, 44720\, United States
ORGANIZER;CN="Secretary Don W.":MAILTO:donw44720@aol.com
END:VEVENT
BEGIN:VEVENT
DTSTART;TZID=America/New_York:20220316T180000
DTEND;TZID=America/New_York:20220316T200000
DTSTAMP:20260423T105447
CREATED:20220309T200134Z
LAST-MODIFIED:20220309T200134Z
UID:354-1647453600-1647460800@chapters.theprimetimersww.com
SUMMARY:Dinner
DESCRIPTION:
URL:https://chapters.theprimetimersww.com/canton/event/dinner-21/
LOCATION:TD’s Tailgate\, 1645 N. Main St\, North Canton\, OH\, 44720\, United States
ORGANIZER;CN="Secretary Don W.":MAILTO:donw44720@aol.com
END:VEVENT
BEGIN:VEVENT
DTSTART;TZID=America/New_York:20200114T180000
DTEND;TZID=America/New_York:20200114T200000
DTSTAMP:20260423T105447
CREATED:20191218T184737Z
LAST-MODIFIED:20191231T212428Z
UID:172-1579024800-1579032000@chapters.theprimetimersww.com
SUMMARY:Dinner
DESCRIPTION:
URL:https://chapters.theprimetimersww.com/canton/event/dinner-3/
LOCATION:TD’s Tailgate\, 1645 N. Main St\, North Canton\, OH\, 44720\, United States
ATTACH;FMTTYPE=image/jpeg:https://chapters.theprimetimersww.com/canton/wp-content/uploads/2019/12/2019-12-31_15-19-20.jpg
ORGANIZER;CN="Secretary Don W.":MAILTO:donw44720@aol.com
END:VEVENT
END:VCALENDAR