BEGIN:VCALENDAR
VERSION:2.0
PRODID:-//Canton OH Prime Timers - ECPv6.15.20//NONSGML v1.0//EN
CALSCALE:GREGORIAN
METHOD:PUBLISH
X-WR-CALNAME:Canton OH Prime Timers
X-ORIGINAL-URL:https://chapters.theprimetimersww.com/canton
X-WR-CALDESC:Events for Canton OH Prime Timers
REFRESH-INTERVAL;VALUE=DURATION:PT1H
X-Robots-Tag:noindex
X-PUBLISHED-TTL:PT1H
BEGIN:VTIMEZONE
TZID:America/New_York
BEGIN:DAYLIGHT
TZOFFSETFROM:-0500
TZOFFSETTO:-0400
TZNAME:EDT
DTSTART:20190310T070000
END:DAYLIGHT
BEGIN:STANDARD
TZOFFSETFROM:-0400
TZOFFSETTO:-0500
TZNAME:EST
DTSTART:20191103T060000
END:STANDARD
BEGIN:DAYLIGHT
TZOFFSETFROM:-0500
TZOFFSETTO:-0400
TZNAME:EDT
DTSTART:20200308T070000
END:DAYLIGHT
BEGIN:STANDARD
TZOFFSETFROM:-0400
TZOFFSETTO:-0500
TZNAME:EST
DTSTART:20201101T060000
END:STANDARD
BEGIN:DAYLIGHT
TZOFFSETFROM:-0500
TZOFFSETTO:-0400
TZNAME:EDT
DTSTART:20210314T070000
END:DAYLIGHT
BEGIN:STANDARD
TZOFFSETFROM:-0400
TZOFFSETTO:-0500
TZNAME:EST
DTSTART:20211107T060000
END:STANDARD
BEGIN:DAYLIGHT
TZOFFSETFROM:-0500
TZOFFSETTO:-0400
TZNAME:EDT
DTSTART:20220313T070000
END:DAYLIGHT
BEGIN:STANDARD
TZOFFSETFROM:-0400
TZOFFSETTO:-0500
TZNAME:EST
DTSTART:20221106T060000
END:STANDARD
BEGIN:DAYLIGHT
TZOFFSETFROM:-0500
TZOFFSETTO:-0400
TZNAME:EDT
DTSTART:20230312T070000
END:DAYLIGHT
BEGIN:STANDARD
TZOFFSETFROM:-0400
TZOFFSETTO:-0500
TZNAME:EST
DTSTART:20231105T060000
END:STANDARD
BEGIN:DAYLIGHT
TZOFFSETFROM:-0500
TZOFFSETTO:-0400
TZNAME:EDT
DTSTART:20240310T070000
END:DAYLIGHT
BEGIN:STANDARD
TZOFFSETFROM:-0400
TZOFFSETTO:-0500
TZNAME:EST
DTSTART:20241103T060000
END:STANDARD
BEGIN:DAYLIGHT
TZOFFSETFROM:-0500
TZOFFSETTO:-0400
TZNAME:EDT
DTSTART:20250309T070000
END:DAYLIGHT
BEGIN:STANDARD
TZOFFSETFROM:-0400
TZOFFSETTO:-0500
TZNAME:EST
DTSTART:20251102T060000
END:STANDARD
BEGIN:DAYLIGHT
TZOFFSETFROM:-0500
TZOFFSETTO:-0400
TZNAME:EDT
DTSTART:20260308T070000
END:DAYLIGHT
BEGIN:STANDARD
TZOFFSETFROM:-0400
TZOFFSETTO:-0500
TZNAME:EST
DTSTART:20261101T060000
END:STANDARD
END:VTIMEZONE
BEGIN:VEVENT
DTSTART;TZID=America/New_York:20251015T180000
DTEND;TZID=America/New_York:20251015T200000
DTSTAMP:20260423T162136
CREATED:20250924T144828Z
LAST-MODIFIED:20250924T144828Z
UID:738-1760551200-1760558400@chapters.theprimetimersww.com
SUMMARY:Dinner
DESCRIPTION:
URL:https://chapters.theprimetimersww.com/canton/event/dinner-78/
LOCATION:Tim’s Tavern\, 3323 Parkway St. NW\, Canton\, 44708\, United States
ORGANIZER;CN="Secretary Don W.":MAILTO:donw44720@aol.com
END:VEVENT
BEGIN:VEVENT
DTSTART;TZID=America/New_York:20250416T180000
DTEND;TZID=America/New_York:20250416T200000
DTSTAMP:20260423T162136
CREATED:20250318T181709Z
LAST-MODIFIED:20250318T181709Z
UID:685-1744826400-1744833600@chapters.theprimetimersww.com
SUMMARY:Dinner
DESCRIPTION:
URL:https://chapters.theprimetimersww.com/canton/event/dinner-70/
LOCATION:Tim’s Tavern\, 3323 Parkway St. NW\, Canton\, 44708\, United States
ORGANIZER;CN="Secretary Don W.":MAILTO:donw44720@aol.com
END:VEVENT
BEGIN:VEVENT
DTSTART;TZID=America/New_York:20240925T180000
DTEND;TZID=America/New_York:20240925T200000
DTSTAMP:20260423T162136
CREATED:20240811T164611Z
LAST-MODIFIED:20240811T164611Z
UID:626-1727287200-1727294400@chapters.theprimetimersww.com
SUMMARY:Dinner
DESCRIPTION:
URL:https://chapters.theprimetimersww.com/canton/event/dinner-64/
LOCATION:Tim’s Tavern\, 3323 Parkway St. NW\, Canton\, 44708\, United States
ORGANIZER;CN="Secretary Don W.":MAILTO:donw44720@aol.com
END:VEVENT
BEGIN:VEVENT
DTSTART;TZID=America/New_York:20240117T180000
DTEND;TZID=America/New_York:20240117T200000
DTSTAMP:20260423T162136
CREATED:20231227T171730Z
LAST-MODIFIED:20231227T171730Z
UID:565-1705514400-1705521600@chapters.theprimetimersww.com
SUMMARY:Dinner
DESCRIPTION:
URL:https://chapters.theprimetimersww.com/canton/event/dinner-51/
LOCATION:Tim’s Tavern\, 3323 Parkway St. NW\, Canton\, 44708\, United States
ORGANIZER;CN="Secretary Don W.":MAILTO:donw44720@aol.com
END:VEVENT
BEGIN:VEVENT
DTSTART;TZID=America/New_York:20230221T180000
DTEND;TZID=America/New_York:20230221T200000
DTSTAMP:20260423T162136
CREATED:20230106T160738Z
LAST-MODIFIED:20230106T160738Z
UID:470-1677002400-1677009600@chapters.theprimetimersww.com
SUMMARY:Dinner
DESCRIPTION:
URL:https://chapters.theprimetimersww.com/canton/event/dinner-36/
LOCATION:Tim’s Tavern\, 3323 Parkway St. NW\, Canton\, 44708\, United States
ORGANIZER;CN="Secretary Don W.":MAILTO:donw44720@aol.com
END:VEVENT
BEGIN:VEVENT
DTSTART;TZID=America/New_York:20220914T180000
DTEND;TZID=America/New_York:20220914T200000
DTSTAMP:20260423T162136
CREATED:20220807T140205Z
LAST-MODIFIED:20220807T140205Z
UID:416-1663178400-1663185600@chapters.theprimetimersww.com
SUMMARY:Dinner
DESCRIPTION:
URL:https://chapters.theprimetimersww.com/canton/event/dinner-30/
LOCATION:Tim’s Tavern\, 3323 Parkway St. NW\, Canton\, 44708\, United States
ORGANIZER;CN="Secretary Don W.":MAILTO:donw44720@aol.com
END:VEVENT
BEGIN:VEVENT
DTSTART;TZID=America/New_York:20220222T180000
DTEND;TZID=America/New_York:20220222T200000
DTSTAMP:20260423T162136
CREATED:20220120T213131Z
LAST-MODIFIED:20220204T042458Z
UID:320-1645552800-1645560000@chapters.theprimetimersww.com
SUMMARY:Dinner
DESCRIPTION:
URL:https://chapters.theprimetimersww.com/canton/event/dinner-20/
LOCATION:Tim’s Tavern\, 3323 Parkway St. NW\, Canton\, 44708\, United States
ATTACH;FMTTYPE=image/jpeg:https://chapters.theprimetimersww.com/canton/wp-content/uploads/2022/01/Tims-Tavern-logo-e1643948689976.jpg
ORGANIZER;CN="Secretary Don W.":MAILTO:donw44720@aol.com
END:VEVENT
BEGIN:VEVENT
DTSTART;TZID=America/New_York:20210623T180000
DTEND;TZID=America/New_York:20210623T200000
DTSTAMP:20260423T162136
CREATED:20210611T180603Z
LAST-MODIFIED:20210611T180603Z
UID:239-1624471200-1624478400@chapters.theprimetimersww.com
SUMMARY:Dinner
DESCRIPTION:
URL:https://chapters.theprimetimersww.com/canton/event/dinner-10/
LOCATION:Tim’s Tavern\, 3323 Parkway St. NW\, Canton\, 44708\, United States
ORGANIZER;CN="Secretary Don W.":MAILTO:donw44720@aol.com
END:VEVENT
BEGIN:VEVENT
DTSTART;TZID=America/New_York:20200225T180000
DTEND;TZID=America/New_York:20200225T200000
DTSTAMP:20260423T162136
CREATED:20200108T220744Z
LAST-MODIFIED:20200108T220744Z
UID:202-1582653600-1582660800@chapters.theprimetimersww.com
SUMMARY:Dinner
DESCRIPTION:
URL:https://chapters.theprimetimersww.com/canton/event/dinner-5/
LOCATION:Tim’s Tavern\, 3323 Parkway St. NW\, Canton\, 44708\, United States
ORGANIZER;CN="Secretary Don W.":MAILTO:donw44720@aol.com
END:VEVENT
END:VCALENDAR