BEGIN:VCALENDAR
VERSION:2.0
PRODID:-//Canton OH Prime Timers - ECPv6.15.20//NONSGML v1.0//EN
CALSCALE:GREGORIAN
METHOD:PUBLISH
X-WR-CALNAME:Canton OH Prime Timers
X-ORIGINAL-URL:https://chapters.theprimetimersww.com/canton
X-WR-CALDESC:Events for Canton OH Prime Timers
REFRESH-INTERVAL;VALUE=DURATION:PT1H
X-Robots-Tag:noindex
X-PUBLISHED-TTL:PT1H
BEGIN:VTIMEZONE
TZID:America/New_York
BEGIN:DAYLIGHT
TZOFFSETFROM:-0500
TZOFFSETTO:-0400
TZNAME:EDT
DTSTART:20210314T070000
END:DAYLIGHT
BEGIN:STANDARD
TZOFFSETFROM:-0400
TZOFFSETTO:-0500
TZNAME:EST
DTSTART:20211107T060000
END:STANDARD
BEGIN:DAYLIGHT
TZOFFSETFROM:-0500
TZOFFSETTO:-0400
TZNAME:EDT
DTSTART:20220313T070000
END:DAYLIGHT
BEGIN:STANDARD
TZOFFSETFROM:-0400
TZOFFSETTO:-0500
TZNAME:EST
DTSTART:20221106T060000
END:STANDARD
BEGIN:DAYLIGHT
TZOFFSETFROM:-0500
TZOFFSETTO:-0400
TZNAME:EDT
DTSTART:20230312T070000
END:DAYLIGHT
BEGIN:STANDARD
TZOFFSETFROM:-0400
TZOFFSETTO:-0500
TZNAME:EST
DTSTART:20231105T060000
END:STANDARD
BEGIN:DAYLIGHT
TZOFFSETFROM:-0500
TZOFFSETTO:-0400
TZNAME:EDT
DTSTART:20240310T070000
END:DAYLIGHT
BEGIN:STANDARD
TZOFFSETFROM:-0400
TZOFFSETTO:-0500
TZNAME:EST
DTSTART:20241103T060000
END:STANDARD
BEGIN:DAYLIGHT
TZOFFSETFROM:-0500
TZOFFSETTO:-0400
TZNAME:EDT
DTSTART:20250309T070000
END:DAYLIGHT
BEGIN:STANDARD
TZOFFSETFROM:-0400
TZOFFSETTO:-0500
TZNAME:EST
DTSTART:20251102T060000
END:STANDARD
BEGIN:DAYLIGHT
TZOFFSETFROM:-0500
TZOFFSETTO:-0400
TZNAME:EDT
DTSTART:20260308T070000
END:DAYLIGHT
BEGIN:STANDARD
TZOFFSETFROM:-0400
TZOFFSETTO:-0500
TZNAME:EST
DTSTART:20261101T060000
END:STANDARD
BEGIN:DAYLIGHT
TZOFFSETFROM:-0500
TZOFFSETTO:-0400
TZNAME:EDT
DTSTART:20270314T070000
END:DAYLIGHT
BEGIN:STANDARD
TZOFFSETFROM:-0400
TZOFFSETTO:-0500
TZNAME:EST
DTSTART:20271107T060000
END:STANDARD
END:VTIMEZONE
BEGIN:VEVENT
DTSTART;TZID=America/New_York:20260127T180000
DTEND;TZID=America/New_York:20260127T200000
DTSTAMP:20260423T173856
CREATED:20251205T132620Z
LAST-MODIFIED:20251205T132620Z
UID:773-1769536800-1769544000@chapters.theprimetimersww.com
SUMMARY:Dinner
DESCRIPTION:
URL:https://chapters.theprimetimersww.com/canton/event/dinner-81/
LOCATION:Top of the Viaduct\, 607 Lincolnway West\, Massillon\, OH\, 44647\, United States
ORGANIZER;CN="Secretary Don W.":MAILTO:donw44720@aol.com
END:VEVENT
BEGIN:VEVENT
DTSTART;TZID=America/New_York:20250826T180000
DTEND;TZID=America/New_York:20250826T200000
DTSTAMP:20260423T173856
CREATED:20250728T152249Z
LAST-MODIFIED:20250728T152357Z
UID:719-1756231200-1756238400@chapters.theprimetimersww.com
SUMMARY:Dinner
DESCRIPTION:
URL:https://chapters.theprimetimersww.com/canton/event/meeting-and-dinner-43/
LOCATION:Top of the Viaduct\, 607 Lincolnway West\, Massillon\, OH\, 44647\, United States
ORGANIZER;CN="Secretary Don W.":MAILTO:donw44720@aol.com
END:VEVENT
BEGIN:VEVENT
DTSTART;TZID=America/New_York:20250225T180000
DTEND;TZID=America/New_York:20250225T200000
DTSTAMP:20260423T173856
CREATED:20250124T154930Z
LAST-MODIFIED:20250124T154930Z
UID:672-1740506400-1740513600@chapters.theprimetimersww.com
SUMMARY:Dinner
DESCRIPTION:
URL:https://chapters.theprimetimersww.com/canton/event/dinner-68/
LOCATION:Top of the Viaduct\, 607 Lincolnway West\, Massillon\, OH\, 44647\, United States
ORGANIZER;CN="Secretary Don W.":MAILTO:donw44720@aol.com
END:VEVENT
BEGIN:VEVENT
DTSTART;TZID=America/New_York:20241015T180000
DTEND;TZID=America/New_York:20241015T200000
DTSTAMP:20260423T173856
CREATED:20240906T154332Z
LAST-MODIFIED:20240906T154332Z
UID:654-1729015200-1729022400@chapters.theprimetimersww.com
SUMMARY:Dinner
DESCRIPTION:
URL:https://chapters.theprimetimersww.com/canton/event/dinner-65/
LOCATION:Top of the Viaduct\, 607 Lincolnway West\, Massillon\, OH\, 44647\, United States
ORGANIZER;CN="Secretary Don W.":MAILTO:donw44720@aol.com
END:VEVENT
BEGIN:VEVENT
DTSTART;TZID=America/New_York:20240416T180000
DTEND;TZID=America/New_York:20240416T200000
DTSTAMP:20260423T173856
CREATED:20240415T160226Z
LAST-MODIFIED:20240415T160226Z
UID:585-1713290400-1713297600@chapters.theprimetimersww.com
SUMMARY:Dinner
DESCRIPTION:
URL:https://chapters.theprimetimersww.com/canton/event/dinner-56/
LOCATION:Top of the Viaduct\, 607 Lincolnway West\, Massillon\, OH\, 44647\, United States
ORGANIZER;CN="Secretary Don W.":MAILTO:donw44720@aol.com
END:VEVENT
BEGIN:VEVENT
DTSTART;TZID=America/New_York:20230727T180000
DTEND;TZID=America/New_York:20230727T200000
DTSTAMP:20260423T173856
CREATED:20230618T172308Z
LAST-MODIFIED:20230618T172324Z
UID:514-1690480800-1690488000@chapters.theprimetimersww.com
SUMMARY:Dinner
DESCRIPTION:
URL:https://chapters.theprimetimersww.com/canton/event/dinner-45/
LOCATION:Top of the Viaduct\, 607 Lincolnway West\, Massillon\, OH\, 44647\, United States
ORGANIZER;CN="Secretary Don W.":MAILTO:donw44720@aol.com
END:VEVENT
BEGIN:VEVENT
DTSTART;TZID=America/New_York:20230314T180000
DTEND;TZID=America/New_York:20230314T200000
DTSTAMP:20260423T173856
CREATED:20230215T160856Z
LAST-MODIFIED:20230215T160856Z
UID:477-1678816800-1678824000@chapters.theprimetimersww.com
SUMMARY:Dinner
DESCRIPTION:
URL:https://chapters.theprimetimersww.com/canton/event/dinner-37/
LOCATION:Top of the Viaduct\, 607 Lincolnway West\, Massillon\, OH\, 44647\, United States
ORGANIZER;CN="Secretary Don W.":MAILTO:donw44720@aol.com
END:VEVENT
BEGIN:VEVENT
DTSTART;TZID=America/New_York:20220719T060000
DTEND;TZID=America/New_York:20220719T200000
DTSTAMP:20260423T173856
CREATED:20220614T152322Z
LAST-MODIFIED:20220614T152322Z
UID:394-1658210400-1658260800@chapters.theprimetimersww.com
SUMMARY:Dinner
DESCRIPTION:
URL:https://chapters.theprimetimersww.com/canton/event/dinner-27/
LOCATION:Top of the Viaduct\, 607 Lincolnway West\, Massillon\, OH\, 44647\, United States
END:VEVENT
END:VCALENDAR