BEGIN:VCALENDAR
VERSION:2.0
PRODID:-//Canton OH Prime Timers - ECPv6.15.20//NONSGML v1.0//EN
CALSCALE:GREGORIAN
METHOD:PUBLISH
X-WR-CALNAME:Canton OH Prime Timers
X-ORIGINAL-URL:https://chapters.theprimetimersww.com/canton
X-WR-CALDESC:Events for Canton OH Prime Timers
REFRESH-INTERVAL;VALUE=DURATION:PT1H
X-Robots-Tag:noindex
X-PUBLISHED-TTL:PT1H
BEGIN:VTIMEZONE
TZID:America/New_York
BEGIN:DAYLIGHT
TZOFFSETFROM:-0500
TZOFFSETTO:-0400
TZNAME:EDT
DTSTART:20230312T070000
END:DAYLIGHT
BEGIN:STANDARD
TZOFFSETFROM:-0400
TZOFFSETTO:-0500
TZNAME:EST
DTSTART:20231105T060000
END:STANDARD
BEGIN:DAYLIGHT
TZOFFSETFROM:-0500
TZOFFSETTO:-0400
TZNAME:EDT
DTSTART:20240310T070000
END:DAYLIGHT
BEGIN:STANDARD
TZOFFSETFROM:-0400
TZOFFSETTO:-0500
TZNAME:EST
DTSTART:20241103T060000
END:STANDARD
BEGIN:DAYLIGHT
TZOFFSETFROM:-0500
TZOFFSETTO:-0400
TZNAME:EDT
DTSTART:20250309T070000
END:DAYLIGHT
BEGIN:STANDARD
TZOFFSETFROM:-0400
TZOFFSETTO:-0500
TZNAME:EST
DTSTART:20251102T060000
END:STANDARD
BEGIN:DAYLIGHT
TZOFFSETFROM:-0500
TZOFFSETTO:-0400
TZNAME:EDT
DTSTART:20260308T070000
END:DAYLIGHT
BEGIN:STANDARD
TZOFFSETFROM:-0400
TZOFFSETTO:-0500
TZNAME:EST
DTSTART:20261101T060000
END:STANDARD
BEGIN:DAYLIGHT
TZOFFSETFROM:-0500
TZOFFSETTO:-0400
TZNAME:EDT
DTSTART:20270314T070000
END:DAYLIGHT
BEGIN:STANDARD
TZOFFSETFROM:-0400
TZOFFSETTO:-0500
TZNAME:EST
DTSTART:20271107T060000
END:STANDARD
END:VTIMEZONE
BEGIN:VEVENT
DTSTART;TZID=America/New_York:20260321T170000
DTEND;TZID=America/New_York:20260321T210000
DTSTAMP:20260423T065814
CREATED:20260205T203221Z
LAST-MODIFIED:20260205T203221Z
UID:793-1774112400-1774126800@chapters.theprimetimersww.com
SUMMARY:Chili Cook-off
DESCRIPTION:
URL:https://chapters.theprimetimersww.com/canton/event/chili-cook-off/
LOCATION:Trinity UCC\, 3909 Blackburn Rd. NW\, Canton\, Ohio\, OH\, 44718\, United States
ORGANIZER;CN="Secretary Don W.":MAILTO:donw44720@aol.com
END:VEVENT
BEGIN:VEVENT
DTSTART;TZID=America/New_York:20260214T170000
DTEND;TZID=America/New_York:20260214T200000
DTSTAMP:20260423T065814
CREATED:20251027T144538Z
LAST-MODIFIED:20251027T144538Z
UID:760-1771088400-1771099200@chapters.theprimetimersww.com
SUMMARY:Valentine Dinner
DESCRIPTION:
URL:https://chapters.theprimetimersww.com/canton/event/valentine-dinner-5/
LOCATION:Trinity UCC\, 3909 Blackburn Rd. NW\, Canton\, Ohio\, OH\, 44718\, United States
ORGANIZER;CN="Secretary Don W.":MAILTO:donw44720@aol.com
END:VEVENT
BEGIN:VEVENT
DTSTART;TZID=America/New_York:20251213T170000
DTEND;TZID=America/New_York:20251213T200000
DTSTAMP:20260423T065814
CREATED:20251027T144131Z
LAST-MODIFIED:20251027T144131Z
UID:755-1765645200-1765656000@chapters.theprimetimersww.com
SUMMARY:Christmas Dinner
DESCRIPTION:
URL:https://chapters.theprimetimersww.com/canton/event/christmas-dinner-5/
LOCATION:Trinity UCC\, 3909 Blackburn Rd. NW\, Canton\, Ohio\, OH\, 44718\, United States
ORGANIZER;CN="Secretary Don W.":MAILTO:donw44720@aol.com
END:VEVENT
BEGIN:VEVENT
DTSTART;TZID=America/New_York:20251122T170000
DTEND;TZID=America/New_York:20251122T200000
DTSTAMP:20260423T065814
CREATED:20251027T143923Z
LAST-MODIFIED:20251027T143923Z
UID:753-1763830800-1763841600@chapters.theprimetimersww.com
SUMMARY:Thanksgiving Dinner
DESCRIPTION:
URL:https://chapters.theprimetimersww.com/canton/event/thanksgiving-dinner-5/
LOCATION:Trinity UCC\, 3909 Blackburn Rd. NW\, Canton\, Ohio\, OH\, 44718\, United States
ORGANIZER;CN="Secretary Don W.":MAILTO:donw44720@aol.com
END:VEVENT
BEGIN:VEVENT
DTSTART;TZID=America/New_York:20251025T170000
DTEND;TZID=America/New_York:20251025T210000
DTSTAMP:20260423T065814
CREATED:20250924T145042Z
LAST-MODIFIED:20250924T145042Z
UID:741-1761411600-1761426000@chapters.theprimetimersww.com
SUMMARY:Halloween Dinner
DESCRIPTION:
URL:https://chapters.theprimetimersww.com/canton/event/halloween-dinner-5/
LOCATION:Trinity UCC\, 3909 Blackburn Rd. NW\, Canton\, Ohio\, OH\, 44718\, United States
ORGANIZER;CN="Secretary Don W.":MAILTO:donw44720@aol.com
END:VEVENT
BEGIN:VEVENT
DTSTART;TZID=America/New_York:20250322T170000
DTEND;TZID=America/New_York:20250322T200000
DTSTAMP:20260423T065814
CREATED:20240811T170720Z
LAST-MODIFIED:20240811T170720Z
UID:649-1742662800-1742673600@chapters.theprimetimersww.com
SUMMARY:Chili Cookoff
DESCRIPTION:
URL:https://chapters.theprimetimersww.com/canton/event/chili-cookoff-5/
LOCATION:Trinity UCC\, 3909 Blackburn Rd. NW\, Canton\, Ohio\, OH\, 44718\, United States
ORGANIZER;CN="Secretary Don W.":MAILTO:donw44720@aol.com
END:VEVENT
BEGIN:VEVENT
DTSTART;TZID=America/New_York:20250208T170000
DTEND;TZID=America/New_York:20250208T210000
DTSTAMP:20260423T065814
CREATED:20240811T170305Z
LAST-MODIFIED:20240811T170305Z
UID:643-1739034000-1739048400@chapters.theprimetimersww.com
SUMMARY:Valentine Dinner
DESCRIPTION:
URL:https://chapters.theprimetimersww.com/canton/event/valentine-dinner-4/
LOCATION:Trinity UCC\, 3909 Blackburn Rd. NW\, Canton\, Ohio\, OH\, 44718\, United States
ORGANIZER;CN="Secretary Don W.":MAILTO:donw44720@aol.com
END:VEVENT
BEGIN:VEVENT
DTSTART;TZID=America/New_York:20250104T170000
DTEND;TZID=America/New_York:20250104T210000
DTSTAMP:20260423T065814
CREATED:20240811T170106Z
LAST-MODIFIED:20240811T170106Z
UID:641-1736010000-1736024400@chapters.theprimetimersww.com
SUMMARY:New Year Dinner
DESCRIPTION:
URL:https://chapters.theprimetimersww.com/canton/event/new-year-dinner/
LOCATION:Trinity UCC\, 3909 Blackburn Rd. NW\, Canton\, Ohio\, OH\, 44718\, United States
ORGANIZER;CN="Secretary Don W.":MAILTO:donw44720@aol.com
END:VEVENT
BEGIN:VEVENT
DTSTART;TZID=America/New_York:20241214T170000
DTEND;TZID=America/New_York:20241214T210000
DTSTAMP:20260423T065814
CREATED:20240811T165901Z
LAST-MODIFIED:20240811T165901Z
UID:638-1734195600-1734210000@chapters.theprimetimersww.com
SUMMARY:Christmas Dinner
DESCRIPTION:
URL:https://chapters.theprimetimersww.com/canton/event/christmas-dinner-4/
LOCATION:Trinity UCC\, 3909 Blackburn Rd. NW\, Canton\, Ohio\, OH\, 44718\, United States
ORGANIZER;CN="Secretary Don W.":MAILTO:donw44720@aol.com
END:VEVENT
BEGIN:VEVENT
DTSTART;TZID=America/New_York:20241123T170000
DTEND;TZID=America/New_York:20241123T210000
DTSTAMP:20260423T065814
CREATED:20240811T165703Z
LAST-MODIFIED:20240811T165703Z
UID:635-1732381200-1732395600@chapters.theprimetimersww.com
SUMMARY:Thanksgiving Dinner
DESCRIPTION:
URL:https://chapters.theprimetimersww.com/canton/event/thanksgiving-dinner-4/
LOCATION:Trinity UCC\, 3909 Blackburn Rd. NW\, Canton\, Ohio\, OH\, 44718\, United States
ORGANIZER;CN="Secretary Don W.":MAILTO:donw44720@aol.com
END:VEVENT
BEGIN:VEVENT
DTSTART;TZID=America/New_York:20241026T170000
DTEND;TZID=America/New_York:20241026T213000
DTSTAMP:20260423T065814
CREATED:20240811T165446Z
LAST-MODIFIED:20240811T165446Z
UID:633-1729962000-1729978200@chapters.theprimetimersww.com
SUMMARY:Halloween Dinner
DESCRIPTION:
URL:https://chapters.theprimetimersww.com/canton/event/halloween-dinner-4/
LOCATION:Trinity UCC\, 3909 Blackburn Rd. NW\, Canton\, Ohio\, OH\, 44718\, United States
ORGANIZER;CN="Secretary Don W.":MAILTO:donw44720@aol.com
END:VEVENT
BEGIN:VEVENT
DTSTART;TZID=America/New_York:20240427T170000
DTEND;TZID=America/New_York:20240427T210000
DTSTAMP:20260423T065814
CREATED:20240415T160831Z
LAST-MODIFIED:20240415T160831Z
UID:587-1714237200-1714251600@chapters.theprimetimersww.com
SUMMARY:Chili Cookoff
DESCRIPTION:
URL:https://chapters.theprimetimersww.com/canton/event/chili-cookoff-3/
LOCATION:Trinity UCC\, 3909 Blackburn Rd. NW\, Canton\, Ohio\, OH\, 44718\, United States
ORGANIZER;CN="Secretary Don W.":MAILTO:donw44720@aol.com
END:VEVENT
END:VCALENDAR