BEGIN:VCALENDAR
VERSION:2.0
PRODID:-//Canton OH Prime Timers - ECPv6.15.20//NONSGML v1.0//EN
CALSCALE:GREGORIAN
METHOD:PUBLISH
X-WR-CALNAME:Canton OH Prime Timers
X-ORIGINAL-URL:https://chapters.theprimetimersww.com/canton
X-WR-CALDESC:Events for Canton OH Prime Timers
REFRESH-INTERVAL;VALUE=DURATION:PT1H
X-Robots-Tag:noindex
X-PUBLISHED-TTL:PT1H
BEGIN:VTIMEZONE
TZID:America/New_York
BEGIN:DAYLIGHT
TZOFFSETFROM:-0500
TZOFFSETTO:-0400
TZNAME:EDT
DTSTART:20220313T070000
END:DAYLIGHT
BEGIN:STANDARD
TZOFFSETFROM:-0400
TZOFFSETTO:-0500
TZNAME:EST
DTSTART:20221106T060000
END:STANDARD
BEGIN:DAYLIGHT
TZOFFSETFROM:-0500
TZOFFSETTO:-0400
TZNAME:EDT
DTSTART:20230312T070000
END:DAYLIGHT
BEGIN:STANDARD
TZOFFSETFROM:-0400
TZOFFSETTO:-0500
TZNAME:EST
DTSTART:20231105T060000
END:STANDARD
BEGIN:DAYLIGHT
TZOFFSETFROM:-0500
TZOFFSETTO:-0400
TZNAME:EDT
DTSTART:20240310T070000
END:DAYLIGHT
BEGIN:STANDARD
TZOFFSETFROM:-0400
TZOFFSETTO:-0500
TZNAME:EST
DTSTART:20241103T060000
END:STANDARD
BEGIN:DAYLIGHT
TZOFFSETFROM:-0500
TZOFFSETTO:-0400
TZNAME:EDT
DTSTART:20250309T070000
END:DAYLIGHT
BEGIN:STANDARD
TZOFFSETFROM:-0400
TZOFFSETTO:-0500
TZNAME:EST
DTSTART:20251102T060000
END:STANDARD
BEGIN:DAYLIGHT
TZOFFSETFROM:-0500
TZOFFSETTO:-0400
TZNAME:EDT
DTSTART:20260308T070000
END:DAYLIGHT
BEGIN:STANDARD
TZOFFSETFROM:-0400
TZOFFSETTO:-0500
TZNAME:EST
DTSTART:20261101T060000
END:STANDARD
END:VTIMEZONE
BEGIN:VEVENT
DTSTART;TZID=America/New_York:20250121T180000
DTEND;TZID=America/New_York:20250121T200000
DTSTAMP:20260423T074709
CREATED:20241208T160635Z
LAST-MODIFIED:20241208T160635Z
UID:667-1737482400-1737489600@chapters.theprimetimersww.com
SUMMARY:Dinner
DESCRIPTION:
URL:https://chapters.theprimetimersww.com/canton/event/dinner-67/
LOCATION:Variety’s\, 1286 South Main St.\, North Canton\, OH\, 44720\, United States
ORGANIZER;CN="Secretary Don W.":MAILTO:donw44720@aol.com
END:VEVENT
BEGIN:VEVENT
DTSTART;TZID=America/New_York:20240319T180000
DTEND;TZID=America/New_York:20240319T200000
DTSTAMP:20260423T074709
CREATED:20240218T161406Z
LAST-MODIFIED:20240218T161406Z
UID:583-1710871200-1710878400@chapters.theprimetimersww.com
SUMMARY:Dinner
DESCRIPTION:
URL:https://chapters.theprimetimersww.com/canton/event/dinner-55/
LOCATION:Variety’s\, 1286 South Main St.\, North Canton\, OH\, 44720\, United States
ORGANIZER;CN="Secretary Don W.":MAILTO:donw44720@aol.com
END:VEVENT
BEGIN:VEVENT
DTSTART;TZID=America/New_York:20230926T180000
DTEND;TZID=America/New_York:20230926T200000
DTSTAMP:20260423T074709
CREATED:20230815T174140Z
LAST-MODIFIED:20230815T174153Z
UID:534-1695751200-1695758400@chapters.theprimetimersww.com
SUMMARY:Dinner
DESCRIPTION:
URL:https://chapters.theprimetimersww.com/canton/event/dinner-48/
LOCATION:Variety’s\, 1286 South Main St.\, North Canton\, OH\, 44720\, United States
ORGANIZER;CN="Secretary Don W.":MAILTO:donw44720@aol.com
END:VEVENT
BEGIN:VEVENT
DTSTART;TZID=America/New_York:20230131T180000
DTEND;TZID=America/New_York:20230131T200000
DTSTAMP:20260423T074709
CREATED:20221224T212830Z
LAST-MODIFIED:20221224T212830Z
UID:460-1675188000-1675195200@chapters.theprimetimersww.com
SUMMARY:Dinner
DESCRIPTION:
URL:https://chapters.theprimetimersww.com/canton/event/dinner-35/
LOCATION:Variety’s\, 1286 South Main St.\, North Canton\, OH\, 44720\, United States
ORGANIZER;CN="Secretary Don W.":MAILTO:donw44720@aol.com
END:VEVENT
END:VCALENDAR