BEGIN:VCALENDAR
VERSION:2.0
PRODID:-//Oklahoma City Prime Timers - ECPv6.15.20//NONSGML v1.0//EN
CALSCALE:GREGORIAN
METHOD:PUBLISH
X-ORIGINAL-URL:https://chapters.theprimetimersww.com/centraloklahoma
X-WR-CALDESC:Events for Oklahoma City Prime Timers
REFRESH-INTERVAL;VALUE=DURATION:PT1H
X-Robots-Tag:noindex
X-PUBLISHED-TTL:PT1H
BEGIN:VTIMEZONE
TZID:America/Chicago
BEGIN:DAYLIGHT
TZOFFSETFROM:-0600
TZOFFSETTO:-0500
TZNAME:CDT
DTSTART:20210314T080000
END:DAYLIGHT
BEGIN:STANDARD
TZOFFSETFROM:-0500
TZOFFSETTO:-0600
TZNAME:CST
DTSTART:20211107T070000
END:STANDARD
BEGIN:DAYLIGHT
TZOFFSETFROM:-0600
TZOFFSETTO:-0500
TZNAME:CDT
DTSTART:20220313T080000
END:DAYLIGHT
BEGIN:STANDARD
TZOFFSETFROM:-0500
TZOFFSETTO:-0600
TZNAME:CST
DTSTART:20221106T070000
END:STANDARD
BEGIN:DAYLIGHT
TZOFFSETFROM:-0600
TZOFFSETTO:-0500
TZNAME:CDT
DTSTART:20230312T080000
END:DAYLIGHT
BEGIN:STANDARD
TZOFFSETFROM:-0500
TZOFFSETTO:-0600
TZNAME:CST
DTSTART:20231105T070000
END:STANDARD
END:VTIMEZONE
BEGIN:VEVENT
DTSTART;TZID=America/Chicago:20220301T110000
DTEND;TZID=America/Chicago:20220301T130000
DTSTAMP:20260423T153806
CREATED:20191011T152327Z
LAST-MODIFIED:20220503T020623Z
UID:10000383-1646132400-1646139600@chapters.theprimetimersww.com
SUMMARY:11:00 AM Tuesday Lunch at Ingrid's 3701 N. Youngs Blvd.
DESCRIPTION:
URL:https://chapters.theprimetimersww.com/centraloklahoma/event/1100-am-lunch-at-ingrids-3701-n-youngs-blvd-2020-12-29/2022-03-01/
LOCATION:Ingrid’s Kitchen\, 3701 N. Youngs Blvd.\, Oklahoma City\, OK\, 73112\, United States
CATEGORIES:Tuesday Lunch
ATTACH;FMTTYPE=image/jpeg:https://chapters.theprimetimersww.com/centraloklahoma/wp-content/uploads/2019/12/Ingrids.jpg
END:VEVENT
BEGIN:VEVENT
DTSTART;TZID=America/Chicago:20220308T110000
DTEND;TZID=America/Chicago:20220308T130000
DTSTAMP:20260423T153806
CREATED:20191011T152327Z
LAST-MODIFIED:20220503T020623Z
UID:10000384-1646737200-1646744400@chapters.theprimetimersww.com
SUMMARY:11:00 AM Tuesday Lunch at Ingrid's 3701 N. Youngs Blvd.
DESCRIPTION:
URL:https://chapters.theprimetimersww.com/centraloklahoma/event/1100-am-lunch-at-ingrids-3701-n-youngs-blvd-2020-12-29/2022-03-08/
LOCATION:Ingrid’s Kitchen\, 3701 N. Youngs Blvd.\, Oklahoma City\, OK\, 73112\, United States
CATEGORIES:Tuesday Lunch
ATTACH;FMTTYPE=image/jpeg:https://chapters.theprimetimersww.com/centraloklahoma/wp-content/uploads/2019/12/Ingrids.jpg
END:VEVENT
BEGIN:VEVENT
DTSTART;TZID=America/Chicago:20220315T110000
DTEND;TZID=America/Chicago:20220315T130000
DTSTAMP:20260423T153806
CREATED:20191011T152327Z
LAST-MODIFIED:20220503T020623Z
UID:10000385-1647342000-1647349200@chapters.theprimetimersww.com
SUMMARY:11:00 AM Tuesday Lunch at Ingrid's 3701 N. Youngs Blvd.
DESCRIPTION:
URL:https://chapters.theprimetimersww.com/centraloklahoma/event/1100-am-lunch-at-ingrids-3701-n-youngs-blvd-2020-12-29/2022-03-15/
LOCATION:Ingrid’s Kitchen\, 3701 N. Youngs Blvd.\, Oklahoma City\, OK\, 73112\, United States
CATEGORIES:Tuesday Lunch
ATTACH;FMTTYPE=image/jpeg:https://chapters.theprimetimersww.com/centraloklahoma/wp-content/uploads/2019/12/Ingrids.jpg
END:VEVENT
BEGIN:VEVENT
DTSTART;TZID=America/Chicago:20220322T110000
DTEND;TZID=America/Chicago:20220322T130000
DTSTAMP:20260423T153806
CREATED:20191011T152327Z
LAST-MODIFIED:20220503T020623Z
UID:10000386-1647946800-1647954000@chapters.theprimetimersww.com
SUMMARY:11:00 AM Tuesday Lunch at Ingrid's 3701 N. Youngs Blvd.
DESCRIPTION:
URL:https://chapters.theprimetimersww.com/centraloklahoma/event/1100-am-lunch-at-ingrids-3701-n-youngs-blvd-2020-12-29/2022-03-22/
LOCATION:Ingrid’s Kitchen\, 3701 N. Youngs Blvd.\, Oklahoma City\, OK\, 73112\, United States
CATEGORIES:Tuesday Lunch
ATTACH;FMTTYPE=image/jpeg:https://chapters.theprimetimersww.com/centraloklahoma/wp-content/uploads/2019/12/Ingrids.jpg
END:VEVENT
BEGIN:VEVENT
DTSTART;TZID=America/Chicago:20220329T110000
DTEND;TZID=America/Chicago:20220329T130000
DTSTAMP:20260423T153806
CREATED:20191011T152327Z
LAST-MODIFIED:20220503T020623Z
UID:10000387-1648551600-1648558800@chapters.theprimetimersww.com
SUMMARY:11:00 AM Tuesday Lunch at Ingrid's 3701 N. Youngs Blvd.
DESCRIPTION:
URL:https://chapters.theprimetimersww.com/centraloklahoma/event/1100-am-lunch-at-ingrids-3701-n-youngs-blvd-2020-12-29/2022-03-29/
LOCATION:Ingrid’s Kitchen\, 3701 N. Youngs Blvd.\, Oklahoma City\, OK\, 73112\, United States
CATEGORIES:Tuesday Lunch
ATTACH;FMTTYPE=image/jpeg:https://chapters.theprimetimersww.com/centraloklahoma/wp-content/uploads/2019/12/Ingrids.jpg
END:VEVENT
END:VCALENDAR