BEGIN:VCALENDAR
VERSION:2.0
PRODID:-//Oklahoma City Prime Timers - ECPv6.15.20//NONSGML v1.0//EN
CALSCALE:GREGORIAN
METHOD:PUBLISH
X-ORIGINAL-URL:https://chapters.theprimetimersww.com/centraloklahoma
X-WR-CALDESC:Events for Oklahoma City Prime Timers
REFRESH-INTERVAL;VALUE=DURATION:PT1H
X-Robots-Tag:noindex
X-PUBLISHED-TTL:PT1H
BEGIN:VTIMEZONE
TZID:America/Chicago
BEGIN:DAYLIGHT
TZOFFSETFROM:-0600
TZOFFSETTO:-0500
TZNAME:CDT
DTSTART:20210314T080000
END:DAYLIGHT
BEGIN:STANDARD
TZOFFSETFROM:-0500
TZOFFSETTO:-0600
TZNAME:CST
DTSTART:20211107T070000
END:STANDARD
BEGIN:DAYLIGHT
TZOFFSETFROM:-0600
TZOFFSETTO:-0500
TZNAME:CDT
DTSTART:20220313T080000
END:DAYLIGHT
BEGIN:STANDARD
TZOFFSETFROM:-0500
TZOFFSETTO:-0600
TZNAME:CST
DTSTART:20221106T070000
END:STANDARD
BEGIN:DAYLIGHT
TZOFFSETFROM:-0600
TZOFFSETTO:-0500
TZNAME:CDT
DTSTART:20230312T080000
END:DAYLIGHT
BEGIN:STANDARD
TZOFFSETFROM:-0500
TZOFFSETTO:-0600
TZNAME:CST
DTSTART:20231105T070000
END:STANDARD
END:VTIMEZONE
BEGIN:VEVENT
DTSTART;TZID=America/Chicago:20220405T110000
DTEND;TZID=America/Chicago:20220405T130000
DTSTAMP:20260423T151225
CREATED:20191011T152327Z
LAST-MODIFIED:20220503T020623Z
UID:10000388-1649156400-1649163600@chapters.theprimetimersww.com
SUMMARY:11:00 AM Tuesday Lunch at Ingrid's 3701 N. Youngs Blvd.
DESCRIPTION:
URL:https://chapters.theprimetimersww.com/centraloklahoma/event/1100-am-lunch-at-ingrids-3701-n-youngs-blvd-2020-12-29/2022-04-05/
LOCATION:Ingrid’s Kitchen\, 3701 N. Youngs Blvd.\, Oklahoma City\, OK\, 73112\, United States
CATEGORIES:Tuesday Lunch
ATTACH;FMTTYPE=image/jpeg:https://chapters.theprimetimersww.com/centraloklahoma/wp-content/uploads/2019/12/Ingrids.jpg
END:VEVENT
BEGIN:VEVENT
DTSTART;TZID=America/Chicago:20220412T110000
DTEND;TZID=America/Chicago:20220412T130000
DTSTAMP:20260423T151225
CREATED:20191011T152327Z
LAST-MODIFIED:20220503T020623Z
UID:10000389-1649761200-1649768400@chapters.theprimetimersww.com
SUMMARY:11:00 AM Tuesday Lunch at Ingrid's 3701 N. Youngs Blvd.
DESCRIPTION:
URL:https://chapters.theprimetimersww.com/centraloklahoma/event/1100-am-lunch-at-ingrids-3701-n-youngs-blvd-2020-12-29/2022-04-12/
LOCATION:Ingrid’s Kitchen\, 3701 N. Youngs Blvd.\, Oklahoma City\, OK\, 73112\, United States
CATEGORIES:Tuesday Lunch
ATTACH;FMTTYPE=image/jpeg:https://chapters.theprimetimersww.com/centraloklahoma/wp-content/uploads/2019/12/Ingrids.jpg
END:VEVENT
BEGIN:VEVENT
DTSTART;TZID=America/Chicago:20220419T110000
DTEND;TZID=America/Chicago:20220419T130000
DTSTAMP:20260423T151225
CREATED:20191011T152327Z
LAST-MODIFIED:20220503T020623Z
UID:10000390-1650366000-1650373200@chapters.theprimetimersww.com
SUMMARY:11:00 AM Tuesday Lunch at Ingrid's 3701 N. Youngs Blvd.
DESCRIPTION:
URL:https://chapters.theprimetimersww.com/centraloklahoma/event/1100-am-lunch-at-ingrids-3701-n-youngs-blvd-2020-12-29/2022-04-19/
LOCATION:Ingrid’s Kitchen\, 3701 N. Youngs Blvd.\, Oklahoma City\, OK\, 73112\, United States
CATEGORIES:Tuesday Lunch
ATTACH;FMTTYPE=image/jpeg:https://chapters.theprimetimersww.com/centraloklahoma/wp-content/uploads/2019/12/Ingrids.jpg
END:VEVENT
BEGIN:VEVENT
DTSTART;TZID=America/Chicago:20220426T110000
DTEND;TZID=America/Chicago:20220426T130000
DTSTAMP:20260423T151225
CREATED:20191011T152327Z
LAST-MODIFIED:20220503T020623Z
UID:10000391-1650970800-1650978000@chapters.theprimetimersww.com
SUMMARY:11:00 AM Tuesday Lunch at Ingrid's 3701 N. Youngs Blvd.
DESCRIPTION:
URL:https://chapters.theprimetimersww.com/centraloklahoma/event/1100-am-lunch-at-ingrids-3701-n-youngs-blvd-2020-12-29/2022-04-26/
LOCATION:Ingrid’s Kitchen\, 3701 N. Youngs Blvd.\, Oklahoma City\, OK\, 73112\, United States
CATEGORIES:Tuesday Lunch
ATTACH;FMTTYPE=image/jpeg:https://chapters.theprimetimersww.com/centraloklahoma/wp-content/uploads/2019/12/Ingrids.jpg
END:VEVENT
END:VCALENDAR