BEGIN:VCALENDAR
VERSION:2.0
PRODID:-//Oklahoma City Prime Timers - ECPv6.15.20//NONSGML v1.0//EN
CALSCALE:GREGORIAN
METHOD:PUBLISH
X-WR-CALNAME:Oklahoma City Prime Timers
X-ORIGINAL-URL:https://chapters.theprimetimersww.com/centraloklahoma
X-WR-CALDESC:Events for Oklahoma City Prime Timers
REFRESH-INTERVAL;VALUE=DURATION:PT1H
X-Robots-Tag:noindex
X-PUBLISHED-TTL:PT1H
BEGIN:VTIMEZONE
TZID:America/Chicago
BEGIN:DAYLIGHT
TZOFFSETFROM:-0600
TZOFFSETTO:-0500
TZNAME:CDT
DTSTART:20290311T080000
END:DAYLIGHT
BEGIN:STANDARD
TZOFFSETFROM:-0500
TZOFFSETTO:-0600
TZNAME:CST
DTSTART:20291104T070000
END:STANDARD
BEGIN:DAYLIGHT
TZOFFSETFROM:-0600
TZOFFSETTO:-0500
TZNAME:CDT
DTSTART:20300310T080000
END:DAYLIGHT
BEGIN:STANDARD
TZOFFSETFROM:-0500
TZOFFSETTO:-0600
TZNAME:CST
DTSTART:20301103T070000
END:STANDARD
BEGIN:DAYLIGHT
TZOFFSETFROM:-0600
TZOFFSETTO:-0500
TZNAME:CDT
DTSTART:20310309T080000
END:DAYLIGHT
BEGIN:STANDARD
TZOFFSETFROM:-0500
TZOFFSETTO:-0600
TZNAME:CST
DTSTART:20311102T070000
END:STANDARD
END:VTIMEZONE
BEGIN:VEVENT
DTSTART;TZID=America/Chicago:20300629T090000
DTEND;TZID=America/Chicago:20300629T103000
DTSTAMP:20260423T095348
CREATED:20260112T200954Z
LAST-MODIFIED:20260112T200954Z
UID:10001734-1908954000-1908959400@chapters.theprimetimersww.com
SUMMARY:Breakfast at Woodbridge every Saturday!
DESCRIPTION:You’re Invited! \nJoin us for breakfast every Saturday morning at 9:00am at Woodbridge. It’s a great way to start the weekend with good food and even better company. \nWe hope to see you there!
URL:https://chapters.theprimetimersww.com/centraloklahoma/event/breakfast-at-woodbridge-every-saturday-5/2030-06-29/
LOCATION:Woodbridge Restaurant\, 4021 NW 39th Street\, OKC\, OK\, 73112\, United States
ATTACH;FMTTYPE=image/jpeg:https://chapters.theprimetimersww.com/centraloklahoma/wp-content/uploads/2025/12/Woodbridge-Restaurant.jpeg
END:VEVENT
BEGIN:VEVENT
DTSTART;TZID=America/Chicago:20300702T110000
DTEND;TZID=America/Chicago:20300702T123000
DTSTAMP:20260423T095348
CREATED:20260112T200747Z
LAST-MODIFIED:20260112T200747Z
UID:10001474-1909220400-1909225800@chapters.theprimetimersww.com
SUMMARY:Lunch at Woodbridge every Tuesday!
DESCRIPTION:You’re Invited! \nJoin us for Lunch every Tuesday at 11:00am at Woodbridge. It’s a perfect way to kick off the week with great food and even better company. \nWe hope to see you there!
URL:https://chapters.theprimetimersww.com/centraloklahoma/event/lunch-at-woodbridge-every-tuesday-24/2030-07-02/
LOCATION:Woodbridge Restaurant\, 4021 NW 39th Street\, OKC\, OK\, 73112\, United States
ATTACH;FMTTYPE=image/jpeg:https://chapters.theprimetimersww.com/centraloklahoma/wp-content/uploads/2025/12/Woodbridge-Restaurant.jpeg
END:VEVENT
BEGIN:VEVENT
DTSTART;TZID=America/Chicago:20300703T140000
DTEND;TZID=America/Chicago:20300703T160000
DTSTAMP:20260423T095348
CREATED:20251223T203412Z
LAST-MODIFIED:20260114T173459Z
UID:10001996-1909317600-1909324800@chapters.theprimetimersww.com
SUMMARY:Wednesday 2:00 PM Walk & Social at Northpark Mall
DESCRIPTION:Walk & Talk Wednesdays\nHappy New Year! As we kick off the new year\, we’re excited to introduce a weekly walking event at Northpark Mall. Join us every Wednesday at 2:00 PM to walk\, chat\, and enjoy good company. \nMeeting Location: We will meet on the very southeast side of the mall near Ron’s Hamburgers & Chili. \n \nAfter our walk\, those who wish can stay and grab a bite to eat together. It’s a relaxed and social way to stay active and connected—we hope you’ll join us!
URL:https://chapters.theprimetimersww.com/centraloklahoma/event/wednesday-200-pm-walk-social-at-northpark-mall/2030-07-03/
LOCATION:NorthPark Mall\, 12100 N May Ave\, Oklahoma City\, 73120\, United States
ATTACH;FMTTYPE=image/webp:https://chapters.theprimetimersww.com/centraloklahoma/wp-content/uploads/2025/12/northpark.webp
END:VEVENT
BEGIN:VEVENT
DTSTART;TZID=America/Chicago:20300706T090000
DTEND;TZID=America/Chicago:20300706T103000
DTSTAMP:20260423T095348
CREATED:20260112T200954Z
LAST-MODIFIED:20260112T200954Z
UID:10001735-1909558800-1909564200@chapters.theprimetimersww.com
SUMMARY:Breakfast at Woodbridge every Saturday!
DESCRIPTION:You’re Invited! \nJoin us for breakfast every Saturday morning at 9:00am at Woodbridge. It’s a great way to start the weekend with good food and even better company. \nWe hope to see you there!
URL:https://chapters.theprimetimersww.com/centraloklahoma/event/breakfast-at-woodbridge-every-saturday-5/2030-07-06/
LOCATION:Woodbridge Restaurant\, 4021 NW 39th Street\, OKC\, OK\, 73112\, United States
ATTACH;FMTTYPE=image/jpeg:https://chapters.theprimetimersww.com/centraloklahoma/wp-content/uploads/2025/12/Woodbridge-Restaurant.jpeg
END:VEVENT
BEGIN:VEVENT
DTSTART;TZID=America/Chicago:20300709T110000
DTEND;TZID=America/Chicago:20300709T123000
DTSTAMP:20260423T095348
CREATED:20260112T200747Z
LAST-MODIFIED:20260112T200747Z
UID:10001475-1909825200-1909830600@chapters.theprimetimersww.com
SUMMARY:Lunch at Woodbridge every Tuesday!
DESCRIPTION:You’re Invited! \nJoin us for Lunch every Tuesday at 11:00am at Woodbridge. It’s a perfect way to kick off the week with great food and even better company. \nWe hope to see you there!
URL:https://chapters.theprimetimersww.com/centraloklahoma/event/lunch-at-woodbridge-every-tuesday-24/2030-07-09/
LOCATION:Woodbridge Restaurant\, 4021 NW 39th Street\, OKC\, OK\, 73112\, United States
ATTACH;FMTTYPE=image/jpeg:https://chapters.theprimetimersww.com/centraloklahoma/wp-content/uploads/2025/12/Woodbridge-Restaurant.jpeg
END:VEVENT
BEGIN:VEVENT
DTSTART;TZID=America/Chicago:20300710T140000
DTEND;TZID=America/Chicago:20300710T160000
DTSTAMP:20260423T095348
CREATED:20251223T203412Z
LAST-MODIFIED:20260114T173459Z
UID:10001997-1909922400-1909929600@chapters.theprimetimersww.com
SUMMARY:Wednesday 2:00 PM Walk & Social at Northpark Mall
DESCRIPTION:Walk & Talk Wednesdays\nHappy New Year! As we kick off the new year\, we’re excited to introduce a weekly walking event at Northpark Mall. Join us every Wednesday at 2:00 PM to walk\, chat\, and enjoy good company. \nMeeting Location: We will meet on the very southeast side of the mall near Ron’s Hamburgers & Chili. \n \nAfter our walk\, those who wish can stay and grab a bite to eat together. It’s a relaxed and social way to stay active and connected—we hope you’ll join us!
URL:https://chapters.theprimetimersww.com/centraloklahoma/event/wednesday-200-pm-walk-social-at-northpark-mall/2030-07-10/
LOCATION:NorthPark Mall\, 12100 N May Ave\, Oklahoma City\, 73120\, United States
ATTACH;FMTTYPE=image/webp:https://chapters.theprimetimersww.com/centraloklahoma/wp-content/uploads/2025/12/northpark.webp
END:VEVENT
BEGIN:VEVENT
DTSTART;TZID=America/Chicago:20300713T090000
DTEND;TZID=America/Chicago:20300713T103000
DTSTAMP:20260423T095348
CREATED:20260112T200954Z
LAST-MODIFIED:20260112T200954Z
UID:10001736-1910163600-1910169000@chapters.theprimetimersww.com
SUMMARY:Breakfast at Woodbridge every Saturday!
DESCRIPTION:You’re Invited! \nJoin us for breakfast every Saturday morning at 9:00am at Woodbridge. It’s a great way to start the weekend with good food and even better company. \nWe hope to see you there!
URL:https://chapters.theprimetimersww.com/centraloklahoma/event/breakfast-at-woodbridge-every-saturday-5/2030-07-13/
LOCATION:Woodbridge Restaurant\, 4021 NW 39th Street\, OKC\, OK\, 73112\, United States
ATTACH;FMTTYPE=image/jpeg:https://chapters.theprimetimersww.com/centraloklahoma/wp-content/uploads/2025/12/Woodbridge-Restaurant.jpeg
END:VEVENT
BEGIN:VEVENT
DTSTART;TZID=America/Chicago:20300714T130000
DTEND;TZID=America/Chicago:20300714T170000
DTSTAMP:20260423T095348
CREATED:20260204T210345Z
LAST-MODIFIED:20260408T165630Z
UID:10002082-1910264400-1910278800@chapters.theprimetimersww.com
SUMMARY:Kent's Sunday Social-Sunday 1:00–5:00 PM
DESCRIPTION:Join us for a relaxed Sunday Social at Kent’s beautiful home! Kent is once again opening his doors to members for an afternoon of good food and great company. Alex will be preparing the meats — please bring a favorite side dish or dessert to share. \nCome hungry\, bring a smile\, and enjoy a warm afternoon among friends!
URL:https://chapters.theprimetimersww.com/centraloklahoma/event/kents-sunday-social-sunday-february-8th-100-500-pm/2030-07-14/
LOCATION:Kent D’s in Forest Park\, OKC\, OK\, United States
ATTACH;FMTTYPE=image/jpeg:https://chapters.theprimetimersww.com/centraloklahoma/wp-content/uploads/2025/12/Sunday-Social.jpg
END:VEVENT
BEGIN:VEVENT
DTSTART;TZID=America/Chicago:20300716T110000
DTEND;TZID=America/Chicago:20300716T123000
DTSTAMP:20260423T095348
CREATED:20260112T200747Z
LAST-MODIFIED:20260112T200747Z
UID:10001476-1910430000-1910435400@chapters.theprimetimersww.com
SUMMARY:Lunch at Woodbridge every Tuesday!
DESCRIPTION:You’re Invited! \nJoin us for Lunch every Tuesday at 11:00am at Woodbridge. It’s a perfect way to kick off the week with great food and even better company. \nWe hope to see you there!
URL:https://chapters.theprimetimersww.com/centraloklahoma/event/lunch-at-woodbridge-every-tuesday-24/2030-07-16/
LOCATION:Woodbridge Restaurant\, 4021 NW 39th Street\, OKC\, OK\, 73112\, United States
ATTACH;FMTTYPE=image/jpeg:https://chapters.theprimetimersww.com/centraloklahoma/wp-content/uploads/2025/12/Woodbridge-Restaurant.jpeg
END:VEVENT
BEGIN:VEVENT
DTSTART;TZID=America/Chicago:20300717T140000
DTEND;TZID=America/Chicago:20300717T160000
DTSTAMP:20260423T095348
CREATED:20251223T203412Z
LAST-MODIFIED:20260114T173459Z
UID:10001998-1910527200-1910534400@chapters.theprimetimersww.com
SUMMARY:Wednesday 2:00 PM Walk & Social at Northpark Mall
DESCRIPTION:Walk & Talk Wednesdays\nHappy New Year! As we kick off the new year\, we’re excited to introduce a weekly walking event at Northpark Mall. Join us every Wednesday at 2:00 PM to walk\, chat\, and enjoy good company. \nMeeting Location: We will meet on the very southeast side of the mall near Ron’s Hamburgers & Chili. \n \nAfter our walk\, those who wish can stay and grab a bite to eat together. It’s a relaxed and social way to stay active and connected—we hope you’ll join us!
URL:https://chapters.theprimetimersww.com/centraloklahoma/event/wednesday-200-pm-walk-social-at-northpark-mall/2030-07-17/
LOCATION:NorthPark Mall\, 12100 N May Ave\, Oklahoma City\, 73120\, United States
ATTACH;FMTTYPE=image/webp:https://chapters.theprimetimersww.com/centraloklahoma/wp-content/uploads/2025/12/northpark.webp
END:VEVENT
BEGIN:VEVENT
DTSTART;TZID=America/Chicago:20300720T090000
DTEND;TZID=America/Chicago:20300720T103000
DTSTAMP:20260423T095348
CREATED:20260112T200954Z
LAST-MODIFIED:20260112T200954Z
UID:10001737-1910768400-1910773800@chapters.theprimetimersww.com
SUMMARY:Breakfast at Woodbridge every Saturday!
DESCRIPTION:You’re Invited! \nJoin us for breakfast every Saturday morning at 9:00am at Woodbridge. It’s a great way to start the weekend with good food and even better company. \nWe hope to see you there!
URL:https://chapters.theprimetimersww.com/centraloklahoma/event/breakfast-at-woodbridge-every-saturday-5/2030-07-20/
LOCATION:Woodbridge Restaurant\, 4021 NW 39th Street\, OKC\, OK\, 73112\, United States
ATTACH;FMTTYPE=image/jpeg:https://chapters.theprimetimersww.com/centraloklahoma/wp-content/uploads/2025/12/Woodbridge-Restaurant.jpeg
END:VEVENT
BEGIN:VEVENT
DTSTART;TZID=America/Chicago:20300723T110000
DTEND;TZID=America/Chicago:20300723T123000
DTSTAMP:20260423T095348
CREATED:20260112T200747Z
LAST-MODIFIED:20260112T200747Z
UID:10001477-1911034800-1911040200@chapters.theprimetimersww.com
SUMMARY:Lunch at Woodbridge every Tuesday!
DESCRIPTION:You’re Invited! \nJoin us for Lunch every Tuesday at 11:00am at Woodbridge. It’s a perfect way to kick off the week with great food and even better company. \nWe hope to see you there!
URL:https://chapters.theprimetimersww.com/centraloklahoma/event/lunch-at-woodbridge-every-tuesday-24/2030-07-23/
LOCATION:Woodbridge Restaurant\, 4021 NW 39th Street\, OKC\, OK\, 73112\, United States
ATTACH;FMTTYPE=image/jpeg:https://chapters.theprimetimersww.com/centraloklahoma/wp-content/uploads/2025/12/Woodbridge-Restaurant.jpeg
END:VEVENT
BEGIN:VEVENT
DTSTART;TZID=America/Chicago:20300724T140000
DTEND;TZID=America/Chicago:20300724T160000
DTSTAMP:20260423T095348
CREATED:20251223T203412Z
LAST-MODIFIED:20260114T173459Z
UID:10001999-1911132000-1911139200@chapters.theprimetimersww.com
SUMMARY:Wednesday 2:00 PM Walk & Social at Northpark Mall
DESCRIPTION:Walk & Talk Wednesdays\nHappy New Year! As we kick off the new year\, we’re excited to introduce a weekly walking event at Northpark Mall. Join us every Wednesday at 2:00 PM to walk\, chat\, and enjoy good company. \nMeeting Location: We will meet on the very southeast side of the mall near Ron’s Hamburgers & Chili. \n \nAfter our walk\, those who wish can stay and grab a bite to eat together. It’s a relaxed and social way to stay active and connected—we hope you’ll join us!
URL:https://chapters.theprimetimersww.com/centraloklahoma/event/wednesday-200-pm-walk-social-at-northpark-mall/2030-07-24/
LOCATION:NorthPark Mall\, 12100 N May Ave\, Oklahoma City\, 73120\, United States
ATTACH;FMTTYPE=image/webp:https://chapters.theprimetimersww.com/centraloklahoma/wp-content/uploads/2025/12/northpark.webp
END:VEVENT
BEGIN:VEVENT
DTSTART;TZID=America/Chicago:20300727T090000
DTEND;TZID=America/Chicago:20300727T103000
DTSTAMP:20260423T095348
CREATED:20260112T200954Z
LAST-MODIFIED:20260112T200954Z
UID:10001738-1911373200-1911378600@chapters.theprimetimersww.com
SUMMARY:Breakfast at Woodbridge every Saturday!
DESCRIPTION:You’re Invited! \nJoin us for breakfast every Saturday morning at 9:00am at Woodbridge. It’s a great way to start the weekend with good food and even better company. \nWe hope to see you there!
URL:https://chapters.theprimetimersww.com/centraloklahoma/event/breakfast-at-woodbridge-every-saturday-5/2030-07-27/
LOCATION:Woodbridge Restaurant\, 4021 NW 39th Street\, OKC\, OK\, 73112\, United States
ATTACH;FMTTYPE=image/jpeg:https://chapters.theprimetimersww.com/centraloklahoma/wp-content/uploads/2025/12/Woodbridge-Restaurant.jpeg
END:VEVENT
BEGIN:VEVENT
DTSTART;TZID=America/Chicago:20300730T110000
DTEND;TZID=America/Chicago:20300730T123000
DTSTAMP:20260423T095348
CREATED:20260112T200747Z
LAST-MODIFIED:20260112T200747Z
UID:10001478-1911639600-1911645000@chapters.theprimetimersww.com
SUMMARY:Lunch at Woodbridge every Tuesday!
DESCRIPTION:You’re Invited! \nJoin us for Lunch every Tuesday at 11:00am at Woodbridge. It’s a perfect way to kick off the week with great food and even better company. \nWe hope to see you there!
URL:https://chapters.theprimetimersww.com/centraloklahoma/event/lunch-at-woodbridge-every-tuesday-24/2030-07-30/
LOCATION:Woodbridge Restaurant\, 4021 NW 39th Street\, OKC\, OK\, 73112\, United States
ATTACH;FMTTYPE=image/jpeg:https://chapters.theprimetimersww.com/centraloklahoma/wp-content/uploads/2025/12/Woodbridge-Restaurant.jpeg
END:VEVENT
BEGIN:VEVENT
DTSTART;TZID=America/Chicago:20300731T140000
DTEND;TZID=America/Chicago:20300731T160000
DTSTAMP:20260423T095348
CREATED:20251223T203412Z
LAST-MODIFIED:20260114T173459Z
UID:10002000-1911736800-1911744000@chapters.theprimetimersww.com
SUMMARY:Wednesday 2:00 PM Walk & Social at Northpark Mall
DESCRIPTION:Walk & Talk Wednesdays\nHappy New Year! As we kick off the new year\, we’re excited to introduce a weekly walking event at Northpark Mall. Join us every Wednesday at 2:00 PM to walk\, chat\, and enjoy good company. \nMeeting Location: We will meet on the very southeast side of the mall near Ron’s Hamburgers & Chili. \n \nAfter our walk\, those who wish can stay and grab a bite to eat together. It’s a relaxed and social way to stay active and connected—we hope you’ll join us!
URL:https://chapters.theprimetimersww.com/centraloklahoma/event/wednesday-200-pm-walk-social-at-northpark-mall/2030-07-31/
LOCATION:NorthPark Mall\, 12100 N May Ave\, Oklahoma City\, 73120\, United States
ATTACH;FMTTYPE=image/webp:https://chapters.theprimetimersww.com/centraloklahoma/wp-content/uploads/2025/12/northpark.webp
END:VEVENT
BEGIN:VEVENT
DTSTART;TZID=America/Chicago:20300803T090000
DTEND;TZID=America/Chicago:20300803T103000
DTSTAMP:20260423T095348
CREATED:20260112T200954Z
LAST-MODIFIED:20260112T200954Z
UID:10001739-1911978000-1911983400@chapters.theprimetimersww.com
SUMMARY:Breakfast at Woodbridge every Saturday!
DESCRIPTION:You’re Invited! \nJoin us for breakfast every Saturday morning at 9:00am at Woodbridge. It’s a great way to start the weekend with good food and even better company. \nWe hope to see you there!
URL:https://chapters.theprimetimersww.com/centraloklahoma/event/breakfast-at-woodbridge-every-saturday-5/2030-08-03/
LOCATION:Woodbridge Restaurant\, 4021 NW 39th Street\, OKC\, OK\, 73112\, United States
ATTACH;FMTTYPE=image/jpeg:https://chapters.theprimetimersww.com/centraloklahoma/wp-content/uploads/2025/12/Woodbridge-Restaurant.jpeg
END:VEVENT
BEGIN:VEVENT
DTSTART;TZID=America/Chicago:20300806T110000
DTEND;TZID=America/Chicago:20300806T123000
DTSTAMP:20260423T095348
CREATED:20260112T200747Z
LAST-MODIFIED:20260112T200747Z
UID:10001479-1912244400-1912249800@chapters.theprimetimersww.com
SUMMARY:Lunch at Woodbridge every Tuesday!
DESCRIPTION:You’re Invited! \nJoin us for Lunch every Tuesday at 11:00am at Woodbridge. It’s a perfect way to kick off the week with great food and even better company. \nWe hope to see you there!
URL:https://chapters.theprimetimersww.com/centraloklahoma/event/lunch-at-woodbridge-every-tuesday-24/2030-08-06/
LOCATION:Woodbridge Restaurant\, 4021 NW 39th Street\, OKC\, OK\, 73112\, United States
ATTACH;FMTTYPE=image/jpeg:https://chapters.theprimetimersww.com/centraloklahoma/wp-content/uploads/2025/12/Woodbridge-Restaurant.jpeg
END:VEVENT
BEGIN:VEVENT
DTSTART;TZID=America/Chicago:20300807T140000
DTEND;TZID=America/Chicago:20300807T160000
DTSTAMP:20260423T095348
CREATED:20251223T203412Z
LAST-MODIFIED:20260114T173459Z
UID:10002001-1912341600-1912348800@chapters.theprimetimersww.com
SUMMARY:Wednesday 2:00 PM Walk & Social at Northpark Mall
DESCRIPTION:Walk & Talk Wednesdays\nHappy New Year! As we kick off the new year\, we’re excited to introduce a weekly walking event at Northpark Mall. Join us every Wednesday at 2:00 PM to walk\, chat\, and enjoy good company. \nMeeting Location: We will meet on the very southeast side of the mall near Ron’s Hamburgers & Chili. \n \nAfter our walk\, those who wish can stay and grab a bite to eat together. It’s a relaxed and social way to stay active and connected—we hope you’ll join us!
URL:https://chapters.theprimetimersww.com/centraloklahoma/event/wednesday-200-pm-walk-social-at-northpark-mall/2030-08-07/
LOCATION:NorthPark Mall\, 12100 N May Ave\, Oklahoma City\, 73120\, United States
ATTACH;FMTTYPE=image/webp:https://chapters.theprimetimersww.com/centraloklahoma/wp-content/uploads/2025/12/northpark.webp
END:VEVENT
BEGIN:VEVENT
DTSTART;TZID=America/Chicago:20300810T090000
DTEND;TZID=America/Chicago:20300810T103000
DTSTAMP:20260423T095348
CREATED:20260112T200954Z
LAST-MODIFIED:20260112T200954Z
UID:10001740-1912582800-1912588200@chapters.theprimetimersww.com
SUMMARY:Breakfast at Woodbridge every Saturday!
DESCRIPTION:You’re Invited! \nJoin us for breakfast every Saturday morning at 9:00am at Woodbridge. It’s a great way to start the weekend with good food and even better company. \nWe hope to see you there!
URL:https://chapters.theprimetimersww.com/centraloklahoma/event/breakfast-at-woodbridge-every-saturday-5/2030-08-10/
LOCATION:Woodbridge Restaurant\, 4021 NW 39th Street\, OKC\, OK\, 73112\, United States
ATTACH;FMTTYPE=image/jpeg:https://chapters.theprimetimersww.com/centraloklahoma/wp-content/uploads/2025/12/Woodbridge-Restaurant.jpeg
END:VEVENT
BEGIN:VEVENT
DTSTART;TZID=America/Chicago:20300811T130000
DTEND;TZID=America/Chicago:20300811T170000
DTSTAMP:20260423T095348
CREATED:20260204T210345Z
LAST-MODIFIED:20260408T165630Z
UID:10002083-1912683600-1912698000@chapters.theprimetimersww.com
SUMMARY:Kent's Sunday Social-Sunday 1:00–5:00 PM
DESCRIPTION:Join us for a relaxed Sunday Social at Kent’s beautiful home! Kent is once again opening his doors to members for an afternoon of good food and great company. Alex will be preparing the meats — please bring a favorite side dish or dessert to share. \nCome hungry\, bring a smile\, and enjoy a warm afternoon among friends!
URL:https://chapters.theprimetimersww.com/centraloklahoma/event/kents-sunday-social-sunday-february-8th-100-500-pm/2030-08-11/
LOCATION:Kent D’s in Forest Park\, OKC\, OK\, United States
ATTACH;FMTTYPE=image/jpeg:https://chapters.theprimetimersww.com/centraloklahoma/wp-content/uploads/2025/12/Sunday-Social.jpg
END:VEVENT
BEGIN:VEVENT
DTSTART;TZID=America/Chicago:20300813T110000
DTEND;TZID=America/Chicago:20300813T123000
DTSTAMP:20260423T095348
CREATED:20260112T200747Z
LAST-MODIFIED:20260112T200747Z
UID:10001480-1912849200-1912854600@chapters.theprimetimersww.com
SUMMARY:Lunch at Woodbridge every Tuesday!
DESCRIPTION:You’re Invited! \nJoin us for Lunch every Tuesday at 11:00am at Woodbridge. It’s a perfect way to kick off the week with great food and even better company. \nWe hope to see you there!
URL:https://chapters.theprimetimersww.com/centraloklahoma/event/lunch-at-woodbridge-every-tuesday-24/2030-08-13/
LOCATION:Woodbridge Restaurant\, 4021 NW 39th Street\, OKC\, OK\, 73112\, United States
ATTACH;FMTTYPE=image/jpeg:https://chapters.theprimetimersww.com/centraloklahoma/wp-content/uploads/2025/12/Woodbridge-Restaurant.jpeg
END:VEVENT
BEGIN:VEVENT
DTSTART;TZID=America/Chicago:20300814T140000
DTEND;TZID=America/Chicago:20300814T160000
DTSTAMP:20260423T095348
CREATED:20251223T203412Z
LAST-MODIFIED:20260114T173459Z
UID:10002002-1912946400-1912953600@chapters.theprimetimersww.com
SUMMARY:Wednesday 2:00 PM Walk & Social at Northpark Mall
DESCRIPTION:Walk & Talk Wednesdays\nHappy New Year! As we kick off the new year\, we’re excited to introduce a weekly walking event at Northpark Mall. Join us every Wednesday at 2:00 PM to walk\, chat\, and enjoy good company. \nMeeting Location: We will meet on the very southeast side of the mall near Ron’s Hamburgers & Chili. \n \nAfter our walk\, those who wish can stay and grab a bite to eat together. It’s a relaxed and social way to stay active and connected—we hope you’ll join us!
URL:https://chapters.theprimetimersww.com/centraloklahoma/event/wednesday-200-pm-walk-social-at-northpark-mall/2030-08-14/
LOCATION:NorthPark Mall\, 12100 N May Ave\, Oklahoma City\, 73120\, United States
ATTACH;FMTTYPE=image/webp:https://chapters.theprimetimersww.com/centraloklahoma/wp-content/uploads/2025/12/northpark.webp
END:VEVENT
BEGIN:VEVENT
DTSTART;TZID=America/Chicago:20300817T090000
DTEND;TZID=America/Chicago:20300817T103000
DTSTAMP:20260423T095348
CREATED:20260112T200954Z
LAST-MODIFIED:20260112T200954Z
UID:10001741-1913187600-1913193000@chapters.theprimetimersww.com
SUMMARY:Breakfast at Woodbridge every Saturday!
DESCRIPTION:You’re Invited! \nJoin us for breakfast every Saturday morning at 9:00am at Woodbridge. It’s a great way to start the weekend with good food and even better company. \nWe hope to see you there!
URL:https://chapters.theprimetimersww.com/centraloklahoma/event/breakfast-at-woodbridge-every-saturday-5/2030-08-17/
LOCATION:Woodbridge Restaurant\, 4021 NW 39th Street\, OKC\, OK\, 73112\, United States
ATTACH;FMTTYPE=image/jpeg:https://chapters.theprimetimersww.com/centraloklahoma/wp-content/uploads/2025/12/Woodbridge-Restaurant.jpeg
END:VEVENT
BEGIN:VEVENT
DTSTART;TZID=America/Chicago:20300820T110000
DTEND;TZID=America/Chicago:20300820T123000
DTSTAMP:20260423T095348
CREATED:20260112T200747Z
LAST-MODIFIED:20260112T200747Z
UID:10001481-1913454000-1913459400@chapters.theprimetimersww.com
SUMMARY:Lunch at Woodbridge every Tuesday!
DESCRIPTION:You’re Invited! \nJoin us for Lunch every Tuesday at 11:00am at Woodbridge. It’s a perfect way to kick off the week with great food and even better company. \nWe hope to see you there!
URL:https://chapters.theprimetimersww.com/centraloklahoma/event/lunch-at-woodbridge-every-tuesday-24/2030-08-20/
LOCATION:Woodbridge Restaurant\, 4021 NW 39th Street\, OKC\, OK\, 73112\, United States
ATTACH;FMTTYPE=image/jpeg:https://chapters.theprimetimersww.com/centraloklahoma/wp-content/uploads/2025/12/Woodbridge-Restaurant.jpeg
END:VEVENT
BEGIN:VEVENT
DTSTART;TZID=America/Chicago:20300821T140000
DTEND;TZID=America/Chicago:20300821T160000
DTSTAMP:20260423T095348
CREATED:20251223T203412Z
LAST-MODIFIED:20260114T173459Z
UID:10002003-1913551200-1913558400@chapters.theprimetimersww.com
SUMMARY:Wednesday 2:00 PM Walk & Social at Northpark Mall
DESCRIPTION:Walk & Talk Wednesdays\nHappy New Year! As we kick off the new year\, we’re excited to introduce a weekly walking event at Northpark Mall. Join us every Wednesday at 2:00 PM to walk\, chat\, and enjoy good company. \nMeeting Location: We will meet on the very southeast side of the mall near Ron’s Hamburgers & Chili. \n \nAfter our walk\, those who wish can stay and grab a bite to eat together. It’s a relaxed and social way to stay active and connected—we hope you’ll join us!
URL:https://chapters.theprimetimersww.com/centraloklahoma/event/wednesday-200-pm-walk-social-at-northpark-mall/2030-08-21/
LOCATION:NorthPark Mall\, 12100 N May Ave\, Oklahoma City\, 73120\, United States
ATTACH;FMTTYPE=image/webp:https://chapters.theprimetimersww.com/centraloklahoma/wp-content/uploads/2025/12/northpark.webp
END:VEVENT
BEGIN:VEVENT
DTSTART;TZID=America/Chicago:20300824T090000
DTEND;TZID=America/Chicago:20300824T103000
DTSTAMP:20260423T095348
CREATED:20260112T200954Z
LAST-MODIFIED:20260112T200954Z
UID:10001742-1913792400-1913797800@chapters.theprimetimersww.com
SUMMARY:Breakfast at Woodbridge every Saturday!
DESCRIPTION:You’re Invited! \nJoin us for breakfast every Saturday morning at 9:00am at Woodbridge. It’s a great way to start the weekend with good food and even better company. \nWe hope to see you there!
URL:https://chapters.theprimetimersww.com/centraloklahoma/event/breakfast-at-woodbridge-every-saturday-5/2030-08-24/
LOCATION:Woodbridge Restaurant\, 4021 NW 39th Street\, OKC\, OK\, 73112\, United States
ATTACH;FMTTYPE=image/jpeg:https://chapters.theprimetimersww.com/centraloklahoma/wp-content/uploads/2025/12/Woodbridge-Restaurant.jpeg
END:VEVENT
BEGIN:VEVENT
DTSTART;TZID=America/Chicago:20300827T110000
DTEND;TZID=America/Chicago:20300827T123000
DTSTAMP:20260423T095348
CREATED:20260112T200747Z
LAST-MODIFIED:20260112T200747Z
UID:10001482-1914058800-1914064200@chapters.theprimetimersww.com
SUMMARY:Lunch at Woodbridge every Tuesday!
DESCRIPTION:You’re Invited! \nJoin us for Lunch every Tuesday at 11:00am at Woodbridge. It’s a perfect way to kick off the week with great food and even better company. \nWe hope to see you there!
URL:https://chapters.theprimetimersww.com/centraloklahoma/event/lunch-at-woodbridge-every-tuesday-24/2030-08-27/
LOCATION:Woodbridge Restaurant\, 4021 NW 39th Street\, OKC\, OK\, 73112\, United States
ATTACH;FMTTYPE=image/jpeg:https://chapters.theprimetimersww.com/centraloklahoma/wp-content/uploads/2025/12/Woodbridge-Restaurant.jpeg
END:VEVENT
BEGIN:VEVENT
DTSTART;TZID=America/Chicago:20300828T140000
DTEND;TZID=America/Chicago:20300828T160000
DTSTAMP:20260423T095348
CREATED:20251223T203412Z
LAST-MODIFIED:20260114T173459Z
UID:10002004-1914156000-1914163200@chapters.theprimetimersww.com
SUMMARY:Wednesday 2:00 PM Walk & Social at Northpark Mall
DESCRIPTION:Walk & Talk Wednesdays\nHappy New Year! As we kick off the new year\, we’re excited to introduce a weekly walking event at Northpark Mall. Join us every Wednesday at 2:00 PM to walk\, chat\, and enjoy good company. \nMeeting Location: We will meet on the very southeast side of the mall near Ron’s Hamburgers & Chili. \n \nAfter our walk\, those who wish can stay and grab a bite to eat together. It’s a relaxed and social way to stay active and connected—we hope you’ll join us!
URL:https://chapters.theprimetimersww.com/centraloklahoma/event/wednesday-200-pm-walk-social-at-northpark-mall/2030-08-28/
LOCATION:NorthPark Mall\, 12100 N May Ave\, Oklahoma City\, 73120\, United States
ATTACH;FMTTYPE=image/webp:https://chapters.theprimetimersww.com/centraloklahoma/wp-content/uploads/2025/12/northpark.webp
END:VEVENT
BEGIN:VEVENT
DTSTART;TZID=America/Chicago:20300831T090000
DTEND;TZID=America/Chicago:20300831T103000
DTSTAMP:20260423T095348
CREATED:20260112T200954Z
LAST-MODIFIED:20260112T200954Z
UID:10001743-1914397200-1914402600@chapters.theprimetimersww.com
SUMMARY:Breakfast at Woodbridge every Saturday!
DESCRIPTION:You’re Invited! \nJoin us for breakfast every Saturday morning at 9:00am at Woodbridge. It’s a great way to start the weekend with good food and even better company. \nWe hope to see you there!
URL:https://chapters.theprimetimersww.com/centraloklahoma/event/breakfast-at-woodbridge-every-saturday-5/2030-08-31/
LOCATION:Woodbridge Restaurant\, 4021 NW 39th Street\, OKC\, OK\, 73112\, United States
ATTACH;FMTTYPE=image/jpeg:https://chapters.theprimetimersww.com/centraloklahoma/wp-content/uploads/2025/12/Woodbridge-Restaurant.jpeg
END:VEVENT
END:VCALENDAR