BEGIN:VCALENDAR
VERSION:2.0
PRODID:-//Oklahoma City Prime Timers - ECPv6.15.20//NONSGML v1.0//EN
CALSCALE:GREGORIAN
METHOD:PUBLISH
X-WR-CALNAME:Oklahoma City Prime Timers
X-ORIGINAL-URL:https://chapters.theprimetimersww.com/centraloklahoma
X-WR-CALDESC:Events for Oklahoma City Prime Timers
REFRESH-INTERVAL;VALUE=DURATION:PT1H
X-Robots-Tag:noindex
X-PUBLISHED-TTL:PT1H
BEGIN:VTIMEZONE
TZID:America/Chicago
BEGIN:DAYLIGHT
TZOFFSETFROM:-0600
TZOFFSETTO:-0500
TZNAME:CDT
DTSTART:20290311T080000
END:DAYLIGHT
BEGIN:STANDARD
TZOFFSETFROM:-0500
TZOFFSETTO:-0600
TZNAME:CST
DTSTART:20291104T070000
END:STANDARD
BEGIN:DAYLIGHT
TZOFFSETFROM:-0600
TZOFFSETTO:-0500
TZNAME:CDT
DTSTART:20300310T080000
END:DAYLIGHT
BEGIN:STANDARD
TZOFFSETFROM:-0500
TZOFFSETTO:-0600
TZNAME:CST
DTSTART:20301103T070000
END:STANDARD
BEGIN:DAYLIGHT
TZOFFSETFROM:-0600
TZOFFSETTO:-0500
TZNAME:CDT
DTSTART:20310309T080000
END:DAYLIGHT
BEGIN:STANDARD
TZOFFSETFROM:-0500
TZOFFSETTO:-0600
TZNAME:CST
DTSTART:20311102T070000
END:STANDARD
END:VTIMEZONE
BEGIN:VEVENT
DTSTART;TZID=America/Chicago:20300811T130000
DTEND;TZID=America/Chicago:20300811T170000
DTSTAMP:20260423T012604
CREATED:20260204T210345Z
LAST-MODIFIED:20260408T165630Z
UID:10002083-1912683600-1912698000@chapters.theprimetimersww.com
SUMMARY:Kent's Sunday Social-Sunday 1:00–5:00 PM
DESCRIPTION:Join us for a relaxed Sunday Social at Kent’s beautiful home! Kent is once again opening his doors to members for an afternoon of good food and great company. Alex will be preparing the meats — please bring a favorite side dish or dessert to share. \nCome hungry\, bring a smile\, and enjoy a warm afternoon among friends!
URL:https://chapters.theprimetimersww.com/centraloklahoma/event/kents-sunday-social-sunday-february-8th-100-500-pm/2030-08-11/
LOCATION:Kent D’s in Forest Park\, OKC\, OK\, United States
ATTACH;FMTTYPE=image/jpeg:https://chapters.theprimetimersww.com/centraloklahoma/wp-content/uploads/2025/12/Sunday-Social.jpg
END:VEVENT
BEGIN:VEVENT
DTSTART;TZID=America/Chicago:20300813T110000
DTEND;TZID=America/Chicago:20300813T123000
DTSTAMP:20260423T012604
CREATED:20260112T200747Z
LAST-MODIFIED:20260112T200747Z
UID:10001480-1912849200-1912854600@chapters.theprimetimersww.com
SUMMARY:Lunch at Woodbridge every Tuesday!
DESCRIPTION:You’re Invited! \nJoin us for Lunch every Tuesday at 11:00am at Woodbridge. It’s a perfect way to kick off the week with great food and even better company. \nWe hope to see you there!
URL:https://chapters.theprimetimersww.com/centraloklahoma/event/lunch-at-woodbridge-every-tuesday-24/2030-08-13/
LOCATION:Woodbridge Restaurant\, 4021 NW 39th Street\, OKC\, OK\, 73112\, United States
ATTACH;FMTTYPE=image/jpeg:https://chapters.theprimetimersww.com/centraloklahoma/wp-content/uploads/2025/12/Woodbridge-Restaurant.jpeg
END:VEVENT
BEGIN:VEVENT
DTSTART;TZID=America/Chicago:20300814T140000
DTEND;TZID=America/Chicago:20300814T160000
DTSTAMP:20260423T012604
CREATED:20251223T203412Z
LAST-MODIFIED:20260114T173459Z
UID:10002002-1912946400-1912953600@chapters.theprimetimersww.com
SUMMARY:Wednesday 2:00 PM Walk & Social at Northpark Mall
DESCRIPTION:Walk & Talk Wednesdays\nHappy New Year! As we kick off the new year\, we’re excited to introduce a weekly walking event at Northpark Mall. Join us every Wednesday at 2:00 PM to walk\, chat\, and enjoy good company. \nMeeting Location: We will meet on the very southeast side of the mall near Ron’s Hamburgers & Chili. \n \nAfter our walk\, those who wish can stay and grab a bite to eat together. It’s a relaxed and social way to stay active and connected—we hope you’ll join us!
URL:https://chapters.theprimetimersww.com/centraloklahoma/event/wednesday-200-pm-walk-social-at-northpark-mall/2030-08-14/
LOCATION:NorthPark Mall\, 12100 N May Ave\, Oklahoma City\, 73120\, United States
ATTACH;FMTTYPE=image/webp:https://chapters.theprimetimersww.com/centraloklahoma/wp-content/uploads/2025/12/northpark.webp
END:VEVENT
BEGIN:VEVENT
DTSTART;TZID=America/Chicago:20300817T090000
DTEND;TZID=America/Chicago:20300817T103000
DTSTAMP:20260423T012604
CREATED:20260112T200954Z
LAST-MODIFIED:20260112T200954Z
UID:10001741-1913187600-1913193000@chapters.theprimetimersww.com
SUMMARY:Breakfast at Woodbridge every Saturday!
DESCRIPTION:You’re Invited! \nJoin us for breakfast every Saturday morning at 9:00am at Woodbridge. It’s a great way to start the weekend with good food and even better company. \nWe hope to see you there!
URL:https://chapters.theprimetimersww.com/centraloklahoma/event/breakfast-at-woodbridge-every-saturday-5/2030-08-17/
LOCATION:Woodbridge Restaurant\, 4021 NW 39th Street\, OKC\, OK\, 73112\, United States
ATTACH;FMTTYPE=image/jpeg:https://chapters.theprimetimersww.com/centraloklahoma/wp-content/uploads/2025/12/Woodbridge-Restaurant.jpeg
END:VEVENT
BEGIN:VEVENT
DTSTART;TZID=America/Chicago:20300820T110000
DTEND;TZID=America/Chicago:20300820T123000
DTSTAMP:20260423T012604
CREATED:20260112T200747Z
LAST-MODIFIED:20260112T200747Z
UID:10001481-1913454000-1913459400@chapters.theprimetimersww.com
SUMMARY:Lunch at Woodbridge every Tuesday!
DESCRIPTION:You’re Invited! \nJoin us for Lunch every Tuesday at 11:00am at Woodbridge. It’s a perfect way to kick off the week with great food and even better company. \nWe hope to see you there!
URL:https://chapters.theprimetimersww.com/centraloklahoma/event/lunch-at-woodbridge-every-tuesday-24/2030-08-20/
LOCATION:Woodbridge Restaurant\, 4021 NW 39th Street\, OKC\, OK\, 73112\, United States
ATTACH;FMTTYPE=image/jpeg:https://chapters.theprimetimersww.com/centraloklahoma/wp-content/uploads/2025/12/Woodbridge-Restaurant.jpeg
END:VEVENT
BEGIN:VEVENT
DTSTART;TZID=America/Chicago:20300821T140000
DTEND;TZID=America/Chicago:20300821T160000
DTSTAMP:20260423T012604
CREATED:20251223T203412Z
LAST-MODIFIED:20260114T173459Z
UID:10002003-1913551200-1913558400@chapters.theprimetimersww.com
SUMMARY:Wednesday 2:00 PM Walk & Social at Northpark Mall
DESCRIPTION:Walk & Talk Wednesdays\nHappy New Year! As we kick off the new year\, we’re excited to introduce a weekly walking event at Northpark Mall. Join us every Wednesday at 2:00 PM to walk\, chat\, and enjoy good company. \nMeeting Location: We will meet on the very southeast side of the mall near Ron’s Hamburgers & Chili. \n \nAfter our walk\, those who wish can stay and grab a bite to eat together. It’s a relaxed and social way to stay active and connected—we hope you’ll join us!
URL:https://chapters.theprimetimersww.com/centraloklahoma/event/wednesday-200-pm-walk-social-at-northpark-mall/2030-08-21/
LOCATION:NorthPark Mall\, 12100 N May Ave\, Oklahoma City\, 73120\, United States
ATTACH;FMTTYPE=image/webp:https://chapters.theprimetimersww.com/centraloklahoma/wp-content/uploads/2025/12/northpark.webp
END:VEVENT
BEGIN:VEVENT
DTSTART;TZID=America/Chicago:20300824T090000
DTEND;TZID=America/Chicago:20300824T103000
DTSTAMP:20260423T012604
CREATED:20260112T200954Z
LAST-MODIFIED:20260112T200954Z
UID:10001742-1913792400-1913797800@chapters.theprimetimersww.com
SUMMARY:Breakfast at Woodbridge every Saturday!
DESCRIPTION:You’re Invited! \nJoin us for breakfast every Saturday morning at 9:00am at Woodbridge. It’s a great way to start the weekend with good food and even better company. \nWe hope to see you there!
URL:https://chapters.theprimetimersww.com/centraloklahoma/event/breakfast-at-woodbridge-every-saturday-5/2030-08-24/
LOCATION:Woodbridge Restaurant\, 4021 NW 39th Street\, OKC\, OK\, 73112\, United States
ATTACH;FMTTYPE=image/jpeg:https://chapters.theprimetimersww.com/centraloklahoma/wp-content/uploads/2025/12/Woodbridge-Restaurant.jpeg
END:VEVENT
BEGIN:VEVENT
DTSTART;TZID=America/Chicago:20300827T110000
DTEND;TZID=America/Chicago:20300827T123000
DTSTAMP:20260423T012604
CREATED:20260112T200747Z
LAST-MODIFIED:20260112T200747Z
UID:10001482-1914058800-1914064200@chapters.theprimetimersww.com
SUMMARY:Lunch at Woodbridge every Tuesday!
DESCRIPTION:You’re Invited! \nJoin us for Lunch every Tuesday at 11:00am at Woodbridge. It’s a perfect way to kick off the week with great food and even better company. \nWe hope to see you there!
URL:https://chapters.theprimetimersww.com/centraloklahoma/event/lunch-at-woodbridge-every-tuesday-24/2030-08-27/
LOCATION:Woodbridge Restaurant\, 4021 NW 39th Street\, OKC\, OK\, 73112\, United States
ATTACH;FMTTYPE=image/jpeg:https://chapters.theprimetimersww.com/centraloklahoma/wp-content/uploads/2025/12/Woodbridge-Restaurant.jpeg
END:VEVENT
BEGIN:VEVENT
DTSTART;TZID=America/Chicago:20300828T140000
DTEND;TZID=America/Chicago:20300828T160000
DTSTAMP:20260423T012604
CREATED:20251223T203412Z
LAST-MODIFIED:20260114T173459Z
UID:10002004-1914156000-1914163200@chapters.theprimetimersww.com
SUMMARY:Wednesday 2:00 PM Walk & Social at Northpark Mall
DESCRIPTION:Walk & Talk Wednesdays\nHappy New Year! As we kick off the new year\, we’re excited to introduce a weekly walking event at Northpark Mall. Join us every Wednesday at 2:00 PM to walk\, chat\, and enjoy good company. \nMeeting Location: We will meet on the very southeast side of the mall near Ron’s Hamburgers & Chili. \n \nAfter our walk\, those who wish can stay and grab a bite to eat together. It’s a relaxed and social way to stay active and connected—we hope you’ll join us!
URL:https://chapters.theprimetimersww.com/centraloklahoma/event/wednesday-200-pm-walk-social-at-northpark-mall/2030-08-28/
LOCATION:NorthPark Mall\, 12100 N May Ave\, Oklahoma City\, 73120\, United States
ATTACH;FMTTYPE=image/webp:https://chapters.theprimetimersww.com/centraloklahoma/wp-content/uploads/2025/12/northpark.webp
END:VEVENT
BEGIN:VEVENT
DTSTART;TZID=America/Chicago:20300831T090000
DTEND;TZID=America/Chicago:20300831T103000
DTSTAMP:20260423T012604
CREATED:20260112T200954Z
LAST-MODIFIED:20260112T200954Z
UID:10001743-1914397200-1914402600@chapters.theprimetimersww.com
SUMMARY:Breakfast at Woodbridge every Saturday!
DESCRIPTION:You’re Invited! \nJoin us for breakfast every Saturday morning at 9:00am at Woodbridge. It’s a great way to start the weekend with good food and even better company. \nWe hope to see you there!
URL:https://chapters.theprimetimersww.com/centraloklahoma/event/breakfast-at-woodbridge-every-saturday-5/2030-08-31/
LOCATION:Woodbridge Restaurant\, 4021 NW 39th Street\, OKC\, OK\, 73112\, United States
ATTACH;FMTTYPE=image/jpeg:https://chapters.theprimetimersww.com/centraloklahoma/wp-content/uploads/2025/12/Woodbridge-Restaurant.jpeg
END:VEVENT
BEGIN:VEVENT
DTSTART;TZID=America/Chicago:20300903T110000
DTEND;TZID=America/Chicago:20300903T123000
DTSTAMP:20260423T012604
CREATED:20260112T200747Z
LAST-MODIFIED:20260112T200747Z
UID:10001483-1914663600-1914669000@chapters.theprimetimersww.com
SUMMARY:Lunch at Woodbridge every Tuesday!
DESCRIPTION:You’re Invited! \nJoin us for Lunch every Tuesday at 11:00am at Woodbridge. It’s a perfect way to kick off the week with great food and even better company. \nWe hope to see you there!
URL:https://chapters.theprimetimersww.com/centraloklahoma/event/lunch-at-woodbridge-every-tuesday-24/2030-09-03/
LOCATION:Woodbridge Restaurant\, 4021 NW 39th Street\, OKC\, OK\, 73112\, United States
ATTACH;FMTTYPE=image/jpeg:https://chapters.theprimetimersww.com/centraloklahoma/wp-content/uploads/2025/12/Woodbridge-Restaurant.jpeg
END:VEVENT
BEGIN:VEVENT
DTSTART;TZID=America/Chicago:20300904T140000
DTEND;TZID=America/Chicago:20300904T160000
DTSTAMP:20260423T012604
CREATED:20251223T203412Z
LAST-MODIFIED:20260114T173459Z
UID:10002005-1914760800-1914768000@chapters.theprimetimersww.com
SUMMARY:Wednesday 2:00 PM Walk & Social at Northpark Mall
DESCRIPTION:Walk & Talk Wednesdays\nHappy New Year! As we kick off the new year\, we’re excited to introduce a weekly walking event at Northpark Mall. Join us every Wednesday at 2:00 PM to walk\, chat\, and enjoy good company. \nMeeting Location: We will meet on the very southeast side of the mall near Ron’s Hamburgers & Chili. \n \nAfter our walk\, those who wish can stay and grab a bite to eat together. It’s a relaxed and social way to stay active and connected—we hope you’ll join us!
URL:https://chapters.theprimetimersww.com/centraloklahoma/event/wednesday-200-pm-walk-social-at-northpark-mall/2030-09-04/
LOCATION:NorthPark Mall\, 12100 N May Ave\, Oklahoma City\, 73120\, United States
ATTACH;FMTTYPE=image/webp:https://chapters.theprimetimersww.com/centraloklahoma/wp-content/uploads/2025/12/northpark.webp
END:VEVENT
BEGIN:VEVENT
DTSTART;TZID=America/Chicago:20300907T090000
DTEND;TZID=America/Chicago:20300907T103000
DTSTAMP:20260423T012604
CREATED:20260112T200954Z
LAST-MODIFIED:20260112T200954Z
UID:10001744-1915002000-1915007400@chapters.theprimetimersww.com
SUMMARY:Breakfast at Woodbridge every Saturday!
DESCRIPTION:You’re Invited! \nJoin us for breakfast every Saturday morning at 9:00am at Woodbridge. It’s a great way to start the weekend with good food and even better company. \nWe hope to see you there!
URL:https://chapters.theprimetimersww.com/centraloklahoma/event/breakfast-at-woodbridge-every-saturday-5/2030-09-07/
LOCATION:Woodbridge Restaurant\, 4021 NW 39th Street\, OKC\, OK\, 73112\, United States
ATTACH;FMTTYPE=image/jpeg:https://chapters.theprimetimersww.com/centraloklahoma/wp-content/uploads/2025/12/Woodbridge-Restaurant.jpeg
END:VEVENT
BEGIN:VEVENT
DTSTART;TZID=America/Chicago:20300908T130000
DTEND;TZID=America/Chicago:20300908T170000
DTSTAMP:20260423T012604
CREATED:20260204T210345Z
LAST-MODIFIED:20260408T165630Z
UID:10002084-1915102800-1915117200@chapters.theprimetimersww.com
SUMMARY:Kent's Sunday Social-Sunday 1:00–5:00 PM
DESCRIPTION:Join us for a relaxed Sunday Social at Kent’s beautiful home! Kent is once again opening his doors to members for an afternoon of good food and great company. Alex will be preparing the meats — please bring a favorite side dish or dessert to share. \nCome hungry\, bring a smile\, and enjoy a warm afternoon among friends!
URL:https://chapters.theprimetimersww.com/centraloklahoma/event/kents-sunday-social-sunday-february-8th-100-500-pm/2030-09-08/
LOCATION:Kent D’s in Forest Park\, OKC\, OK\, United States
ATTACH;FMTTYPE=image/jpeg:https://chapters.theprimetimersww.com/centraloklahoma/wp-content/uploads/2025/12/Sunday-Social.jpg
END:VEVENT
BEGIN:VEVENT
DTSTART;TZID=America/Chicago:20300910T110000
DTEND;TZID=America/Chicago:20300910T123000
DTSTAMP:20260423T012604
CREATED:20260112T200747Z
LAST-MODIFIED:20260112T200747Z
UID:10001484-1915268400-1915273800@chapters.theprimetimersww.com
SUMMARY:Lunch at Woodbridge every Tuesday!
DESCRIPTION:You’re Invited! \nJoin us for Lunch every Tuesday at 11:00am at Woodbridge. It’s a perfect way to kick off the week with great food and even better company. \nWe hope to see you there!
URL:https://chapters.theprimetimersww.com/centraloklahoma/event/lunch-at-woodbridge-every-tuesday-24/2030-09-10/
LOCATION:Woodbridge Restaurant\, 4021 NW 39th Street\, OKC\, OK\, 73112\, United States
ATTACH;FMTTYPE=image/jpeg:https://chapters.theprimetimersww.com/centraloklahoma/wp-content/uploads/2025/12/Woodbridge-Restaurant.jpeg
END:VEVENT
BEGIN:VEVENT
DTSTART;TZID=America/Chicago:20300911T140000
DTEND;TZID=America/Chicago:20300911T160000
DTSTAMP:20260423T012604
CREATED:20251223T203412Z
LAST-MODIFIED:20260114T173459Z
UID:10002006-1915365600-1915372800@chapters.theprimetimersww.com
SUMMARY:Wednesday 2:00 PM Walk & Social at Northpark Mall
DESCRIPTION:Walk & Talk Wednesdays\nHappy New Year! As we kick off the new year\, we’re excited to introduce a weekly walking event at Northpark Mall. Join us every Wednesday at 2:00 PM to walk\, chat\, and enjoy good company. \nMeeting Location: We will meet on the very southeast side of the mall near Ron’s Hamburgers & Chili. \n \nAfter our walk\, those who wish can stay and grab a bite to eat together. It’s a relaxed and social way to stay active and connected—we hope you’ll join us!
URL:https://chapters.theprimetimersww.com/centraloklahoma/event/wednesday-200-pm-walk-social-at-northpark-mall/2030-09-11/
LOCATION:NorthPark Mall\, 12100 N May Ave\, Oklahoma City\, 73120\, United States
ATTACH;FMTTYPE=image/webp:https://chapters.theprimetimersww.com/centraloklahoma/wp-content/uploads/2025/12/northpark.webp
END:VEVENT
BEGIN:VEVENT
DTSTART;TZID=America/Chicago:20300914T090000
DTEND;TZID=America/Chicago:20300914T103000
DTSTAMP:20260423T012604
CREATED:20260112T200954Z
LAST-MODIFIED:20260112T200954Z
UID:10001745-1915606800-1915612200@chapters.theprimetimersww.com
SUMMARY:Breakfast at Woodbridge every Saturday!
DESCRIPTION:You’re Invited! \nJoin us for breakfast every Saturday morning at 9:00am at Woodbridge. It’s a great way to start the weekend with good food and even better company. \nWe hope to see you there!
URL:https://chapters.theprimetimersww.com/centraloklahoma/event/breakfast-at-woodbridge-every-saturday-5/2030-09-14/
LOCATION:Woodbridge Restaurant\, 4021 NW 39th Street\, OKC\, OK\, 73112\, United States
ATTACH;FMTTYPE=image/jpeg:https://chapters.theprimetimersww.com/centraloklahoma/wp-content/uploads/2025/12/Woodbridge-Restaurant.jpeg
END:VEVENT
BEGIN:VEVENT
DTSTART;TZID=America/Chicago:20300915T130000
DTEND;TZID=America/Chicago:20300915T150000
DTSTAMP:20260423T012604
CREATED:20260304T154138Z
LAST-MODIFIED:20260304T154138Z
UID:10002197-1915707600-1915714800@chapters.theprimetimersww.com
SUMMARY:Monthly Meeting at Evolve Church
DESCRIPTION:Join Us for Our Monthly Meeting \n📅 Sunday\, March 15\,2026\n🕐 1:00 PM – 3:00 PM\n📍 Evolve Church\n3208 N May Ave\, Oklahoma City\, OK 73112 \nAll members are welcome — we’d love to see you there!
URL:https://chapters.theprimetimersww.com/centraloklahoma/event/monthly-meeting-at-evolve-church-6/2030-09-15/
LOCATION:Evolve Church\, 3208 North May\, OKC\, OK\, 73112\, United States
ATTACH;FMTTYPE=image/jpeg:https://chapters.theprimetimersww.com/centraloklahoma/wp-content/uploads/2025/05/Evolve-Church.jpeg
END:VEVENT
BEGIN:VEVENT
DTSTART;TZID=America/Chicago:20300917T110000
DTEND;TZID=America/Chicago:20300917T123000
DTSTAMP:20260423T012604
CREATED:20260112T200747Z
LAST-MODIFIED:20260112T200747Z
UID:10001485-1915873200-1915878600@chapters.theprimetimersww.com
SUMMARY:Lunch at Woodbridge every Tuesday!
DESCRIPTION:You’re Invited! \nJoin us for Lunch every Tuesday at 11:00am at Woodbridge. It’s a perfect way to kick off the week with great food and even better company. \nWe hope to see you there!
URL:https://chapters.theprimetimersww.com/centraloklahoma/event/lunch-at-woodbridge-every-tuesday-24/2030-09-17/
LOCATION:Woodbridge Restaurant\, 4021 NW 39th Street\, OKC\, OK\, 73112\, United States
ATTACH;FMTTYPE=image/jpeg:https://chapters.theprimetimersww.com/centraloklahoma/wp-content/uploads/2025/12/Woodbridge-Restaurant.jpeg
END:VEVENT
BEGIN:VEVENT
DTSTART;TZID=America/Chicago:20300918T140000
DTEND;TZID=America/Chicago:20300918T160000
DTSTAMP:20260423T012604
CREATED:20251223T203412Z
LAST-MODIFIED:20260114T173459Z
UID:10002007-1915970400-1915977600@chapters.theprimetimersww.com
SUMMARY:Wednesday 2:00 PM Walk & Social at Northpark Mall
DESCRIPTION:Walk & Talk Wednesdays\nHappy New Year! As we kick off the new year\, we’re excited to introduce a weekly walking event at Northpark Mall. Join us every Wednesday at 2:00 PM to walk\, chat\, and enjoy good company. \nMeeting Location: We will meet on the very southeast side of the mall near Ron’s Hamburgers & Chili. \n \nAfter our walk\, those who wish can stay and grab a bite to eat together. It’s a relaxed and social way to stay active and connected—we hope you’ll join us!
URL:https://chapters.theprimetimersww.com/centraloklahoma/event/wednesday-200-pm-walk-social-at-northpark-mall/2030-09-18/
LOCATION:NorthPark Mall\, 12100 N May Ave\, Oklahoma City\, 73120\, United States
ATTACH;FMTTYPE=image/webp:https://chapters.theprimetimersww.com/centraloklahoma/wp-content/uploads/2025/12/northpark.webp
END:VEVENT
BEGIN:VEVENT
DTSTART;TZID=America/Chicago:20300921T090000
DTEND;TZID=America/Chicago:20300921T103000
DTSTAMP:20260423T012604
CREATED:20260112T200954Z
LAST-MODIFIED:20260112T200954Z
UID:10001746-1916211600-1916217000@chapters.theprimetimersww.com
SUMMARY:Breakfast at Woodbridge every Saturday!
DESCRIPTION:You’re Invited! \nJoin us for breakfast every Saturday morning at 9:00am at Woodbridge. It’s a great way to start the weekend with good food and even better company. \nWe hope to see you there!
URL:https://chapters.theprimetimersww.com/centraloklahoma/event/breakfast-at-woodbridge-every-saturday-5/2030-09-21/
LOCATION:Woodbridge Restaurant\, 4021 NW 39th Street\, OKC\, OK\, 73112\, United States
ATTACH;FMTTYPE=image/jpeg:https://chapters.theprimetimersww.com/centraloklahoma/wp-content/uploads/2025/12/Woodbridge-Restaurant.jpeg
END:VEVENT
BEGIN:VEVENT
DTSTART;TZID=America/Chicago:20300924T110000
DTEND;TZID=America/Chicago:20300924T123000
DTSTAMP:20260423T012604
CREATED:20260112T200747Z
LAST-MODIFIED:20260112T200747Z
UID:10001486-1916478000-1916483400@chapters.theprimetimersww.com
SUMMARY:Lunch at Woodbridge every Tuesday!
DESCRIPTION:You’re Invited! \nJoin us for Lunch every Tuesday at 11:00am at Woodbridge. It’s a perfect way to kick off the week with great food and even better company. \nWe hope to see you there!
URL:https://chapters.theprimetimersww.com/centraloklahoma/event/lunch-at-woodbridge-every-tuesday-24/2030-09-24/
LOCATION:Woodbridge Restaurant\, 4021 NW 39th Street\, OKC\, OK\, 73112\, United States
ATTACH;FMTTYPE=image/jpeg:https://chapters.theprimetimersww.com/centraloklahoma/wp-content/uploads/2025/12/Woodbridge-Restaurant.jpeg
END:VEVENT
BEGIN:VEVENT
DTSTART;TZID=America/Chicago:20300925T140000
DTEND;TZID=America/Chicago:20300925T160000
DTSTAMP:20260423T012604
CREATED:20251223T203412Z
LAST-MODIFIED:20260114T173459Z
UID:10002008-1916575200-1916582400@chapters.theprimetimersww.com
SUMMARY:Wednesday 2:00 PM Walk & Social at Northpark Mall
DESCRIPTION:Walk & Talk Wednesdays\nHappy New Year! As we kick off the new year\, we’re excited to introduce a weekly walking event at Northpark Mall. Join us every Wednesday at 2:00 PM to walk\, chat\, and enjoy good company. \nMeeting Location: We will meet on the very southeast side of the mall near Ron’s Hamburgers & Chili. \n \nAfter our walk\, those who wish can stay and grab a bite to eat together. It’s a relaxed and social way to stay active and connected—we hope you’ll join us!
URL:https://chapters.theprimetimersww.com/centraloklahoma/event/wednesday-200-pm-walk-social-at-northpark-mall/2030-09-25/
LOCATION:NorthPark Mall\, 12100 N May Ave\, Oklahoma City\, 73120\, United States
ATTACH;FMTTYPE=image/webp:https://chapters.theprimetimersww.com/centraloklahoma/wp-content/uploads/2025/12/northpark.webp
END:VEVENT
BEGIN:VEVENT
DTSTART;TZID=America/Chicago:20300928T090000
DTEND;TZID=America/Chicago:20300928T103000
DTSTAMP:20260423T012604
CREATED:20260112T200954Z
LAST-MODIFIED:20260112T200954Z
UID:10001747-1916816400-1916821800@chapters.theprimetimersww.com
SUMMARY:Breakfast at Woodbridge every Saturday!
DESCRIPTION:You’re Invited! \nJoin us for breakfast every Saturday morning at 9:00am at Woodbridge. It’s a great way to start the weekend with good food and even better company. \nWe hope to see you there!
URL:https://chapters.theprimetimersww.com/centraloklahoma/event/breakfast-at-woodbridge-every-saturday-5/2030-09-28/
LOCATION:Woodbridge Restaurant\, 4021 NW 39th Street\, OKC\, OK\, 73112\, United States
ATTACH;FMTTYPE=image/jpeg:https://chapters.theprimetimersww.com/centraloklahoma/wp-content/uploads/2025/12/Woodbridge-Restaurant.jpeg
END:VEVENT
BEGIN:VEVENT
DTSTART;TZID=America/Chicago:20301001T110000
DTEND;TZID=America/Chicago:20301001T123000
DTSTAMP:20260423T012604
CREATED:20260112T200747Z
LAST-MODIFIED:20260112T200747Z
UID:10001487-1917082800-1917088200@chapters.theprimetimersww.com
SUMMARY:Lunch at Woodbridge every Tuesday!
DESCRIPTION:You’re Invited! \nJoin us for Lunch every Tuesday at 11:00am at Woodbridge. It’s a perfect way to kick off the week with great food and even better company. \nWe hope to see you there!
URL:https://chapters.theprimetimersww.com/centraloklahoma/event/lunch-at-woodbridge-every-tuesday-24/2030-10-01/
LOCATION:Woodbridge Restaurant\, 4021 NW 39th Street\, OKC\, OK\, 73112\, United States
ATTACH;FMTTYPE=image/jpeg:https://chapters.theprimetimersww.com/centraloklahoma/wp-content/uploads/2025/12/Woodbridge-Restaurant.jpeg
END:VEVENT
BEGIN:VEVENT
DTSTART;TZID=America/Chicago:20301002T140000
DTEND;TZID=America/Chicago:20301002T160000
DTSTAMP:20260423T012604
CREATED:20251223T203412Z
LAST-MODIFIED:20260114T173459Z
UID:10002009-1917180000-1917187200@chapters.theprimetimersww.com
SUMMARY:Wednesday 2:00 PM Walk & Social at Northpark Mall
DESCRIPTION:Walk & Talk Wednesdays\nHappy New Year! As we kick off the new year\, we’re excited to introduce a weekly walking event at Northpark Mall. Join us every Wednesday at 2:00 PM to walk\, chat\, and enjoy good company. \nMeeting Location: We will meet on the very southeast side of the mall near Ron’s Hamburgers & Chili. \n \nAfter our walk\, those who wish can stay and grab a bite to eat together. It’s a relaxed and social way to stay active and connected—we hope you’ll join us!
URL:https://chapters.theprimetimersww.com/centraloklahoma/event/wednesday-200-pm-walk-social-at-northpark-mall/2030-10-02/
LOCATION:NorthPark Mall\, 12100 N May Ave\, Oklahoma City\, 73120\, United States
ATTACH;FMTTYPE=image/webp:https://chapters.theprimetimersww.com/centraloklahoma/wp-content/uploads/2025/12/northpark.webp
END:VEVENT
BEGIN:VEVENT
DTSTART;TZID=America/Chicago:20301005T090000
DTEND;TZID=America/Chicago:20301005T103000
DTSTAMP:20260423T012604
CREATED:20260112T200954Z
LAST-MODIFIED:20260112T200954Z
UID:10001748-1917421200-1917426600@chapters.theprimetimersww.com
SUMMARY:Breakfast at Woodbridge every Saturday!
DESCRIPTION:You’re Invited! \nJoin us for breakfast every Saturday morning at 9:00am at Woodbridge. It’s a great way to start the weekend with good food and even better company. \nWe hope to see you there!
URL:https://chapters.theprimetimersww.com/centraloklahoma/event/breakfast-at-woodbridge-every-saturday-5/2030-10-05/
LOCATION:Woodbridge Restaurant\, 4021 NW 39th Street\, OKC\, OK\, 73112\, United States
ATTACH;FMTTYPE=image/jpeg:https://chapters.theprimetimersww.com/centraloklahoma/wp-content/uploads/2025/12/Woodbridge-Restaurant.jpeg
END:VEVENT
BEGIN:VEVENT
DTSTART;TZID=America/Chicago:20301008T110000
DTEND;TZID=America/Chicago:20301008T123000
DTSTAMP:20260423T012604
CREATED:20260112T200747Z
LAST-MODIFIED:20260112T200747Z
UID:10001488-1917687600-1917693000@chapters.theprimetimersww.com
SUMMARY:Lunch at Woodbridge every Tuesday!
DESCRIPTION:You’re Invited! \nJoin us for Lunch every Tuesday at 11:00am at Woodbridge. It’s a perfect way to kick off the week with great food and even better company. \nWe hope to see you there!
URL:https://chapters.theprimetimersww.com/centraloklahoma/event/lunch-at-woodbridge-every-tuesday-24/2030-10-08/
LOCATION:Woodbridge Restaurant\, 4021 NW 39th Street\, OKC\, OK\, 73112\, United States
ATTACH;FMTTYPE=image/jpeg:https://chapters.theprimetimersww.com/centraloklahoma/wp-content/uploads/2025/12/Woodbridge-Restaurant.jpeg
END:VEVENT
BEGIN:VEVENT
DTSTART;TZID=America/Chicago:20301009T140000
DTEND;TZID=America/Chicago:20301009T160000
DTSTAMP:20260423T012604
CREATED:20251223T203412Z
LAST-MODIFIED:20260114T173459Z
UID:10002010-1917784800-1917792000@chapters.theprimetimersww.com
SUMMARY:Wednesday 2:00 PM Walk & Social at Northpark Mall
DESCRIPTION:Walk & Talk Wednesdays\nHappy New Year! As we kick off the new year\, we’re excited to introduce a weekly walking event at Northpark Mall. Join us every Wednesday at 2:00 PM to walk\, chat\, and enjoy good company. \nMeeting Location: We will meet on the very southeast side of the mall near Ron’s Hamburgers & Chili. \n \nAfter our walk\, those who wish can stay and grab a bite to eat together. It’s a relaxed and social way to stay active and connected—we hope you’ll join us!
URL:https://chapters.theprimetimersww.com/centraloklahoma/event/wednesday-200-pm-walk-social-at-northpark-mall/2030-10-09/
LOCATION:NorthPark Mall\, 12100 N May Ave\, Oklahoma City\, 73120\, United States
ATTACH;FMTTYPE=image/webp:https://chapters.theprimetimersww.com/centraloklahoma/wp-content/uploads/2025/12/northpark.webp
END:VEVENT
BEGIN:VEVENT
DTSTART;TZID=America/Chicago:20301012T090000
DTEND;TZID=America/Chicago:20301012T103000
DTSTAMP:20260423T012604
CREATED:20260112T200954Z
LAST-MODIFIED:20260112T200954Z
UID:10001749-1918026000-1918031400@chapters.theprimetimersww.com
SUMMARY:Breakfast at Woodbridge every Saturday!
DESCRIPTION:You’re Invited! \nJoin us for breakfast every Saturday morning at 9:00am at Woodbridge. It’s a great way to start the weekend with good food and even better company. \nWe hope to see you there!
URL:https://chapters.theprimetimersww.com/centraloklahoma/event/breakfast-at-woodbridge-every-saturday-5/2030-10-12/
LOCATION:Woodbridge Restaurant\, 4021 NW 39th Street\, OKC\, OK\, 73112\, United States
ATTACH;FMTTYPE=image/jpeg:https://chapters.theprimetimersww.com/centraloklahoma/wp-content/uploads/2025/12/Woodbridge-Restaurant.jpeg
END:VEVENT
END:VCALENDAR