BEGIN:VCALENDAR
VERSION:2.0
PRODID:-//Oklahoma City Prime Timers - ECPv6.15.20//NONSGML v1.0//EN
CALSCALE:GREGORIAN
METHOD:PUBLISH
X-ORIGINAL-URL:https://chapters.theprimetimersww.com/centraloklahoma
X-WR-CALDESC:Events for Oklahoma City Prime Timers
REFRESH-INTERVAL;VALUE=DURATION:PT1H
X-Robots-Tag:noindex
X-PUBLISHED-TTL:PT1H
BEGIN:VTIMEZONE
TZID:America/Chicago
BEGIN:DAYLIGHT
TZOFFSETFROM:-0600
TZOFFSETTO:-0500
TZNAME:CDT
DTSTART:20290311T080000
END:DAYLIGHT
BEGIN:STANDARD
TZOFFSETFROM:-0500
TZOFFSETTO:-0600
TZNAME:CST
DTSTART:20291104T070000
END:STANDARD
BEGIN:DAYLIGHT
TZOFFSETFROM:-0600
TZOFFSETTO:-0500
TZNAME:CDT
DTSTART:20300310T080000
END:DAYLIGHT
BEGIN:STANDARD
TZOFFSETFROM:-0500
TZOFFSETTO:-0600
TZNAME:CST
DTSTART:20301103T070000
END:STANDARD
BEGIN:DAYLIGHT
TZOFFSETFROM:-0600
TZOFFSETTO:-0500
TZNAME:CDT
DTSTART:20310309T080000
END:DAYLIGHT
BEGIN:STANDARD
TZOFFSETFROM:-0500
TZOFFSETTO:-0600
TZNAME:CST
DTSTART:20311102T070000
END:STANDARD
END:VTIMEZONE
BEGIN:VEVENT
DTSTART;TZID=America/Chicago:20300504T090000
DTEND;TZID=America/Chicago:20300504T103000
DTSTAMP:20260424T004225
CREATED:20260112T200954Z
LAST-MODIFIED:20260112T200954Z
UID:10001726-1904115600-1904121000@chapters.theprimetimersww.com
SUMMARY:Breakfast at Woodbridge every Saturday!
DESCRIPTION:You’re Invited! \nJoin us for breakfast every Saturday morning at 9:00am at Woodbridge. It’s a great way to start the weekend with good food and even better company. \nWe hope to see you there!
URL:https://chapters.theprimetimersww.com/centraloklahoma/event/breakfast-at-woodbridge-every-saturday-5/2030-05-04/
LOCATION:Woodbridge Restaurant\, 4021 NW 39th Street\, OKC\, OK\, 73112\, United States
ATTACH;FMTTYPE=image/jpeg:https://chapters.theprimetimersww.com/centraloklahoma/wp-content/uploads/2025/12/Woodbridge-Restaurant.jpeg
END:VEVENT
BEGIN:VEVENT
DTSTART;TZID=America/Chicago:20300507T110000
DTEND;TZID=America/Chicago:20300507T123000
DTSTAMP:20260424T004225
CREATED:20260112T200747Z
LAST-MODIFIED:20260112T200747Z
UID:10001466-1904382000-1904387400@chapters.theprimetimersww.com
SUMMARY:Lunch at Woodbridge every Tuesday!
DESCRIPTION:You’re Invited! \nJoin us for Lunch every Tuesday at 11:00am at Woodbridge. It’s a perfect way to kick off the week with great food and even better company. \nWe hope to see you there!
URL:https://chapters.theprimetimersww.com/centraloklahoma/event/lunch-at-woodbridge-every-tuesday-24/2030-05-07/
LOCATION:Woodbridge Restaurant\, 4021 NW 39th Street\, OKC\, OK\, 73112\, United States
ATTACH;FMTTYPE=image/jpeg:https://chapters.theprimetimersww.com/centraloklahoma/wp-content/uploads/2025/12/Woodbridge-Restaurant.jpeg
END:VEVENT
BEGIN:VEVENT
DTSTART;TZID=America/Chicago:20300511T090000
DTEND;TZID=America/Chicago:20300511T103000
DTSTAMP:20260424T004225
CREATED:20260112T200954Z
LAST-MODIFIED:20260112T200954Z
UID:10001727-1904720400-1904725800@chapters.theprimetimersww.com
SUMMARY:Breakfast at Woodbridge every Saturday!
DESCRIPTION:You’re Invited! \nJoin us for breakfast every Saturday morning at 9:00am at Woodbridge. It’s a great way to start the weekend with good food and even better company. \nWe hope to see you there!
URL:https://chapters.theprimetimersww.com/centraloklahoma/event/breakfast-at-woodbridge-every-saturday-5/2030-05-11/
LOCATION:Woodbridge Restaurant\, 4021 NW 39th Street\, OKC\, OK\, 73112\, United States
ATTACH;FMTTYPE=image/jpeg:https://chapters.theprimetimersww.com/centraloklahoma/wp-content/uploads/2025/12/Woodbridge-Restaurant.jpeg
END:VEVENT
BEGIN:VEVENT
DTSTART;TZID=America/Chicago:20300514T110000
DTEND;TZID=America/Chicago:20300514T123000
DTSTAMP:20260424T004225
CREATED:20260112T200747Z
LAST-MODIFIED:20260112T200747Z
UID:10001467-1904986800-1904992200@chapters.theprimetimersww.com
SUMMARY:Lunch at Woodbridge every Tuesday!
DESCRIPTION:You’re Invited! \nJoin us for Lunch every Tuesday at 11:00am at Woodbridge. It’s a perfect way to kick off the week with great food and even better company. \nWe hope to see you there!
URL:https://chapters.theprimetimersww.com/centraloklahoma/event/lunch-at-woodbridge-every-tuesday-24/2030-05-14/
LOCATION:Woodbridge Restaurant\, 4021 NW 39th Street\, OKC\, OK\, 73112\, United States
ATTACH;FMTTYPE=image/jpeg:https://chapters.theprimetimersww.com/centraloklahoma/wp-content/uploads/2025/12/Woodbridge-Restaurant.jpeg
END:VEVENT
BEGIN:VEVENT
DTSTART;TZID=America/Chicago:20300518T090000
DTEND;TZID=America/Chicago:20300518T103000
DTSTAMP:20260424T004225
CREATED:20260112T200954Z
LAST-MODIFIED:20260112T200954Z
UID:10001728-1905325200-1905330600@chapters.theprimetimersww.com
SUMMARY:Breakfast at Woodbridge every Saturday!
DESCRIPTION:You’re Invited! \nJoin us for breakfast every Saturday morning at 9:00am at Woodbridge. It’s a great way to start the weekend with good food and even better company. \nWe hope to see you there!
URL:https://chapters.theprimetimersww.com/centraloklahoma/event/breakfast-at-woodbridge-every-saturday-5/2030-05-18/
LOCATION:Woodbridge Restaurant\, 4021 NW 39th Street\, OKC\, OK\, 73112\, United States
ATTACH;FMTTYPE=image/jpeg:https://chapters.theprimetimersww.com/centraloklahoma/wp-content/uploads/2025/12/Woodbridge-Restaurant.jpeg
END:VEVENT
BEGIN:VEVENT
DTSTART;TZID=America/Chicago:20300521T110000
DTEND;TZID=America/Chicago:20300521T123000
DTSTAMP:20260424T004225
CREATED:20260112T200747Z
LAST-MODIFIED:20260112T200747Z
UID:10001468-1905591600-1905597000@chapters.theprimetimersww.com
SUMMARY:Lunch at Woodbridge every Tuesday!
DESCRIPTION:You’re Invited! \nJoin us for Lunch every Tuesday at 11:00am at Woodbridge. It’s a perfect way to kick off the week with great food and even better company. \nWe hope to see you there!
URL:https://chapters.theprimetimersww.com/centraloklahoma/event/lunch-at-woodbridge-every-tuesday-24/2030-05-21/
LOCATION:Woodbridge Restaurant\, 4021 NW 39th Street\, OKC\, OK\, 73112\, United States
ATTACH;FMTTYPE=image/jpeg:https://chapters.theprimetimersww.com/centraloklahoma/wp-content/uploads/2025/12/Woodbridge-Restaurant.jpeg
END:VEVENT
BEGIN:VEVENT
DTSTART;TZID=America/Chicago:20300525T090000
DTEND;TZID=America/Chicago:20300525T103000
DTSTAMP:20260424T004225
CREATED:20260112T200954Z
LAST-MODIFIED:20260112T200954Z
UID:10001729-1905930000-1905935400@chapters.theprimetimersww.com
SUMMARY:Breakfast at Woodbridge every Saturday!
DESCRIPTION:You’re Invited! \nJoin us for breakfast every Saturday morning at 9:00am at Woodbridge. It’s a great way to start the weekend with good food and even better company. \nWe hope to see you there!
URL:https://chapters.theprimetimersww.com/centraloklahoma/event/breakfast-at-woodbridge-every-saturday-5/2030-05-25/
LOCATION:Woodbridge Restaurant\, 4021 NW 39th Street\, OKC\, OK\, 73112\, United States
ATTACH;FMTTYPE=image/jpeg:https://chapters.theprimetimersww.com/centraloklahoma/wp-content/uploads/2025/12/Woodbridge-Restaurant.jpeg
END:VEVENT
BEGIN:VEVENT
DTSTART;TZID=America/Chicago:20300528T110000
DTEND;TZID=America/Chicago:20300528T123000
DTSTAMP:20260424T004225
CREATED:20260112T200747Z
LAST-MODIFIED:20260112T200747Z
UID:10001469-1906196400-1906201800@chapters.theprimetimersww.com
SUMMARY:Lunch at Woodbridge every Tuesday!
DESCRIPTION:You’re Invited! \nJoin us for Lunch every Tuesday at 11:00am at Woodbridge. It’s a perfect way to kick off the week with great food and even better company. \nWe hope to see you there!
URL:https://chapters.theprimetimersww.com/centraloklahoma/event/lunch-at-woodbridge-every-tuesday-24/2030-05-28/
LOCATION:Woodbridge Restaurant\, 4021 NW 39th Street\, OKC\, OK\, 73112\, United States
ATTACH;FMTTYPE=image/jpeg:https://chapters.theprimetimersww.com/centraloklahoma/wp-content/uploads/2025/12/Woodbridge-Restaurant.jpeg
END:VEVENT
BEGIN:VEVENT
DTSTART;TZID=America/Chicago:20300601T090000
DTEND;TZID=America/Chicago:20300601T103000
DTSTAMP:20260424T004225
CREATED:20260112T200954Z
LAST-MODIFIED:20260112T200954Z
UID:10001730-1906534800-1906540200@chapters.theprimetimersww.com
SUMMARY:Breakfast at Woodbridge every Saturday!
DESCRIPTION:You’re Invited! \nJoin us for breakfast every Saturday morning at 9:00am at Woodbridge. It’s a great way to start the weekend with good food and even better company. \nWe hope to see you there!
URL:https://chapters.theprimetimersww.com/centraloklahoma/event/breakfast-at-woodbridge-every-saturday-5/2030-06-01/
LOCATION:Woodbridge Restaurant\, 4021 NW 39th Street\, OKC\, OK\, 73112\, United States
ATTACH;FMTTYPE=image/jpeg:https://chapters.theprimetimersww.com/centraloklahoma/wp-content/uploads/2025/12/Woodbridge-Restaurant.jpeg
END:VEVENT
BEGIN:VEVENT
DTSTART;TZID=America/Chicago:20300604T110000
DTEND;TZID=America/Chicago:20300604T123000
DTSTAMP:20260424T004225
CREATED:20260112T200747Z
LAST-MODIFIED:20260112T200747Z
UID:10001470-1906801200-1906806600@chapters.theprimetimersww.com
SUMMARY:Lunch at Woodbridge every Tuesday!
DESCRIPTION:You’re Invited! \nJoin us for Lunch every Tuesday at 11:00am at Woodbridge. It’s a perfect way to kick off the week with great food and even better company. \nWe hope to see you there!
URL:https://chapters.theprimetimersww.com/centraloklahoma/event/lunch-at-woodbridge-every-tuesday-24/2030-06-04/
LOCATION:Woodbridge Restaurant\, 4021 NW 39th Street\, OKC\, OK\, 73112\, United States
ATTACH;FMTTYPE=image/jpeg:https://chapters.theprimetimersww.com/centraloklahoma/wp-content/uploads/2025/12/Woodbridge-Restaurant.jpeg
END:VEVENT
BEGIN:VEVENT
DTSTART;TZID=America/Chicago:20300608T090000
DTEND;TZID=America/Chicago:20300608T103000
DTSTAMP:20260424T004225
CREATED:20260112T200954Z
LAST-MODIFIED:20260112T200954Z
UID:10001731-1907139600-1907145000@chapters.theprimetimersww.com
SUMMARY:Breakfast at Woodbridge every Saturday!
DESCRIPTION:You’re Invited! \nJoin us for breakfast every Saturday morning at 9:00am at Woodbridge. It’s a great way to start the weekend with good food and even better company. \nWe hope to see you there!
URL:https://chapters.theprimetimersww.com/centraloklahoma/event/breakfast-at-woodbridge-every-saturday-5/2030-06-08/
LOCATION:Woodbridge Restaurant\, 4021 NW 39th Street\, OKC\, OK\, 73112\, United States
ATTACH;FMTTYPE=image/jpeg:https://chapters.theprimetimersww.com/centraloklahoma/wp-content/uploads/2025/12/Woodbridge-Restaurant.jpeg
END:VEVENT
BEGIN:VEVENT
DTSTART;TZID=America/Chicago:20300611T110000
DTEND;TZID=America/Chicago:20300611T123000
DTSTAMP:20260424T004225
CREATED:20260112T200747Z
LAST-MODIFIED:20260112T200747Z
UID:10001471-1907406000-1907411400@chapters.theprimetimersww.com
SUMMARY:Lunch at Woodbridge every Tuesday!
DESCRIPTION:You’re Invited! \nJoin us for Lunch every Tuesday at 11:00am at Woodbridge. It’s a perfect way to kick off the week with great food and even better company. \nWe hope to see you there!
URL:https://chapters.theprimetimersww.com/centraloklahoma/event/lunch-at-woodbridge-every-tuesday-24/2030-06-11/
LOCATION:Woodbridge Restaurant\, 4021 NW 39th Street\, OKC\, OK\, 73112\, United States
ATTACH;FMTTYPE=image/jpeg:https://chapters.theprimetimersww.com/centraloklahoma/wp-content/uploads/2025/12/Woodbridge-Restaurant.jpeg
END:VEVENT
BEGIN:VEVENT
DTSTART;TZID=America/Chicago:20300615T090000
DTEND;TZID=America/Chicago:20300615T103000
DTSTAMP:20260424T004225
CREATED:20260112T200954Z
LAST-MODIFIED:20260112T200954Z
UID:10001732-1907744400-1907749800@chapters.theprimetimersww.com
SUMMARY:Breakfast at Woodbridge every Saturday!
DESCRIPTION:You’re Invited! \nJoin us for breakfast every Saturday morning at 9:00am at Woodbridge. It’s a great way to start the weekend with good food and even better company. \nWe hope to see you there!
URL:https://chapters.theprimetimersww.com/centraloklahoma/event/breakfast-at-woodbridge-every-saturday-5/2030-06-15/
LOCATION:Woodbridge Restaurant\, 4021 NW 39th Street\, OKC\, OK\, 73112\, United States
ATTACH;FMTTYPE=image/jpeg:https://chapters.theprimetimersww.com/centraloklahoma/wp-content/uploads/2025/12/Woodbridge-Restaurant.jpeg
END:VEVENT
BEGIN:VEVENT
DTSTART;TZID=America/Chicago:20300618T110000
DTEND;TZID=America/Chicago:20300618T123000
DTSTAMP:20260424T004225
CREATED:20260112T200747Z
LAST-MODIFIED:20260112T200747Z
UID:10001472-1908010800-1908016200@chapters.theprimetimersww.com
SUMMARY:Lunch at Woodbridge every Tuesday!
DESCRIPTION:You’re Invited! \nJoin us for Lunch every Tuesday at 11:00am at Woodbridge. It’s a perfect way to kick off the week with great food and even better company. \nWe hope to see you there!
URL:https://chapters.theprimetimersww.com/centraloklahoma/event/lunch-at-woodbridge-every-tuesday-24/2030-06-18/
LOCATION:Woodbridge Restaurant\, 4021 NW 39th Street\, OKC\, OK\, 73112\, United States
ATTACH;FMTTYPE=image/jpeg:https://chapters.theprimetimersww.com/centraloklahoma/wp-content/uploads/2025/12/Woodbridge-Restaurant.jpeg
END:VEVENT
BEGIN:VEVENT
DTSTART;TZID=America/Chicago:20300622T090000
DTEND;TZID=America/Chicago:20300622T103000
DTSTAMP:20260424T004225
CREATED:20260112T200954Z
LAST-MODIFIED:20260112T200954Z
UID:10001733-1908349200-1908354600@chapters.theprimetimersww.com
SUMMARY:Breakfast at Woodbridge every Saturday!
DESCRIPTION:You’re Invited! \nJoin us for breakfast every Saturday morning at 9:00am at Woodbridge. It’s a great way to start the weekend with good food and even better company. \nWe hope to see you there!
URL:https://chapters.theprimetimersww.com/centraloklahoma/event/breakfast-at-woodbridge-every-saturday-5/2030-06-22/
LOCATION:Woodbridge Restaurant\, 4021 NW 39th Street\, OKC\, OK\, 73112\, United States
ATTACH;FMTTYPE=image/jpeg:https://chapters.theprimetimersww.com/centraloklahoma/wp-content/uploads/2025/12/Woodbridge-Restaurant.jpeg
END:VEVENT
BEGIN:VEVENT
DTSTART;TZID=America/Chicago:20300625T110000
DTEND;TZID=America/Chicago:20300625T123000
DTSTAMP:20260424T004225
CREATED:20260112T200747Z
LAST-MODIFIED:20260112T200747Z
UID:10001473-1908615600-1908621000@chapters.theprimetimersww.com
SUMMARY:Lunch at Woodbridge every Tuesday!
DESCRIPTION:You’re Invited! \nJoin us for Lunch every Tuesday at 11:00am at Woodbridge. It’s a perfect way to kick off the week with great food and even better company. \nWe hope to see you there!
URL:https://chapters.theprimetimersww.com/centraloklahoma/event/lunch-at-woodbridge-every-tuesday-24/2030-06-25/
LOCATION:Woodbridge Restaurant\, 4021 NW 39th Street\, OKC\, OK\, 73112\, United States
ATTACH;FMTTYPE=image/jpeg:https://chapters.theprimetimersww.com/centraloklahoma/wp-content/uploads/2025/12/Woodbridge-Restaurant.jpeg
END:VEVENT
BEGIN:VEVENT
DTSTART;TZID=America/Chicago:20300629T090000
DTEND;TZID=America/Chicago:20300629T103000
DTSTAMP:20260424T004225
CREATED:20260112T200954Z
LAST-MODIFIED:20260112T200954Z
UID:10001734-1908954000-1908959400@chapters.theprimetimersww.com
SUMMARY:Breakfast at Woodbridge every Saturday!
DESCRIPTION:You’re Invited! \nJoin us for breakfast every Saturday morning at 9:00am at Woodbridge. It’s a great way to start the weekend with good food and even better company. \nWe hope to see you there!
URL:https://chapters.theprimetimersww.com/centraloklahoma/event/breakfast-at-woodbridge-every-saturday-5/2030-06-29/
LOCATION:Woodbridge Restaurant\, 4021 NW 39th Street\, OKC\, OK\, 73112\, United States
ATTACH;FMTTYPE=image/jpeg:https://chapters.theprimetimersww.com/centraloklahoma/wp-content/uploads/2025/12/Woodbridge-Restaurant.jpeg
END:VEVENT
BEGIN:VEVENT
DTSTART;TZID=America/Chicago:20300702T110000
DTEND;TZID=America/Chicago:20300702T123000
DTSTAMP:20260424T004225
CREATED:20260112T200747Z
LAST-MODIFIED:20260112T200747Z
UID:10001474-1909220400-1909225800@chapters.theprimetimersww.com
SUMMARY:Lunch at Woodbridge every Tuesday!
DESCRIPTION:You’re Invited! \nJoin us for Lunch every Tuesday at 11:00am at Woodbridge. It’s a perfect way to kick off the week with great food and even better company. \nWe hope to see you there!
URL:https://chapters.theprimetimersww.com/centraloklahoma/event/lunch-at-woodbridge-every-tuesday-24/2030-07-02/
LOCATION:Woodbridge Restaurant\, 4021 NW 39th Street\, OKC\, OK\, 73112\, United States
ATTACH;FMTTYPE=image/jpeg:https://chapters.theprimetimersww.com/centraloklahoma/wp-content/uploads/2025/12/Woodbridge-Restaurant.jpeg
END:VEVENT
BEGIN:VEVENT
DTSTART;TZID=America/Chicago:20300706T090000
DTEND;TZID=America/Chicago:20300706T103000
DTSTAMP:20260424T004225
CREATED:20260112T200954Z
LAST-MODIFIED:20260112T200954Z
UID:10001735-1909558800-1909564200@chapters.theprimetimersww.com
SUMMARY:Breakfast at Woodbridge every Saturday!
DESCRIPTION:You’re Invited! \nJoin us for breakfast every Saturday morning at 9:00am at Woodbridge. It’s a great way to start the weekend with good food and even better company. \nWe hope to see you there!
URL:https://chapters.theprimetimersww.com/centraloklahoma/event/breakfast-at-woodbridge-every-saturday-5/2030-07-06/
LOCATION:Woodbridge Restaurant\, 4021 NW 39th Street\, OKC\, OK\, 73112\, United States
ATTACH;FMTTYPE=image/jpeg:https://chapters.theprimetimersww.com/centraloklahoma/wp-content/uploads/2025/12/Woodbridge-Restaurant.jpeg
END:VEVENT
BEGIN:VEVENT
DTSTART;TZID=America/Chicago:20300709T110000
DTEND;TZID=America/Chicago:20300709T123000
DTSTAMP:20260424T004225
CREATED:20260112T200747Z
LAST-MODIFIED:20260112T200747Z
UID:10001475-1909825200-1909830600@chapters.theprimetimersww.com
SUMMARY:Lunch at Woodbridge every Tuesday!
DESCRIPTION:You’re Invited! \nJoin us for Lunch every Tuesday at 11:00am at Woodbridge. It’s a perfect way to kick off the week with great food and even better company. \nWe hope to see you there!
URL:https://chapters.theprimetimersww.com/centraloklahoma/event/lunch-at-woodbridge-every-tuesday-24/2030-07-09/
LOCATION:Woodbridge Restaurant\, 4021 NW 39th Street\, OKC\, OK\, 73112\, United States
ATTACH;FMTTYPE=image/jpeg:https://chapters.theprimetimersww.com/centraloklahoma/wp-content/uploads/2025/12/Woodbridge-Restaurant.jpeg
END:VEVENT
BEGIN:VEVENT
DTSTART;TZID=America/Chicago:20300713T090000
DTEND;TZID=America/Chicago:20300713T103000
DTSTAMP:20260424T004225
CREATED:20260112T200954Z
LAST-MODIFIED:20260112T200954Z
UID:10001736-1910163600-1910169000@chapters.theprimetimersww.com
SUMMARY:Breakfast at Woodbridge every Saturday!
DESCRIPTION:You’re Invited! \nJoin us for breakfast every Saturday morning at 9:00am at Woodbridge. It’s a great way to start the weekend with good food and even better company. \nWe hope to see you there!
URL:https://chapters.theprimetimersww.com/centraloklahoma/event/breakfast-at-woodbridge-every-saturday-5/2030-07-13/
LOCATION:Woodbridge Restaurant\, 4021 NW 39th Street\, OKC\, OK\, 73112\, United States
ATTACH;FMTTYPE=image/jpeg:https://chapters.theprimetimersww.com/centraloklahoma/wp-content/uploads/2025/12/Woodbridge-Restaurant.jpeg
END:VEVENT
BEGIN:VEVENT
DTSTART;TZID=America/Chicago:20300716T110000
DTEND;TZID=America/Chicago:20300716T123000
DTSTAMP:20260424T004225
CREATED:20260112T200747Z
LAST-MODIFIED:20260112T200747Z
UID:10001476-1910430000-1910435400@chapters.theprimetimersww.com
SUMMARY:Lunch at Woodbridge every Tuesday!
DESCRIPTION:You’re Invited! \nJoin us for Lunch every Tuesday at 11:00am at Woodbridge. It’s a perfect way to kick off the week with great food and even better company. \nWe hope to see you there!
URL:https://chapters.theprimetimersww.com/centraloklahoma/event/lunch-at-woodbridge-every-tuesday-24/2030-07-16/
LOCATION:Woodbridge Restaurant\, 4021 NW 39th Street\, OKC\, OK\, 73112\, United States
ATTACH;FMTTYPE=image/jpeg:https://chapters.theprimetimersww.com/centraloklahoma/wp-content/uploads/2025/12/Woodbridge-Restaurant.jpeg
END:VEVENT
BEGIN:VEVENT
DTSTART;TZID=America/Chicago:20300720T090000
DTEND;TZID=America/Chicago:20300720T103000
DTSTAMP:20260424T004225
CREATED:20260112T200954Z
LAST-MODIFIED:20260112T200954Z
UID:10001737-1910768400-1910773800@chapters.theprimetimersww.com
SUMMARY:Breakfast at Woodbridge every Saturday!
DESCRIPTION:You’re Invited! \nJoin us for breakfast every Saturday morning at 9:00am at Woodbridge. It’s a great way to start the weekend with good food and even better company. \nWe hope to see you there!
URL:https://chapters.theprimetimersww.com/centraloklahoma/event/breakfast-at-woodbridge-every-saturday-5/2030-07-20/
LOCATION:Woodbridge Restaurant\, 4021 NW 39th Street\, OKC\, OK\, 73112\, United States
ATTACH;FMTTYPE=image/jpeg:https://chapters.theprimetimersww.com/centraloklahoma/wp-content/uploads/2025/12/Woodbridge-Restaurant.jpeg
END:VEVENT
BEGIN:VEVENT
DTSTART;TZID=America/Chicago:20300723T110000
DTEND;TZID=America/Chicago:20300723T123000
DTSTAMP:20260424T004225
CREATED:20260112T200747Z
LAST-MODIFIED:20260112T200747Z
UID:10001477-1911034800-1911040200@chapters.theprimetimersww.com
SUMMARY:Lunch at Woodbridge every Tuesday!
DESCRIPTION:You’re Invited! \nJoin us for Lunch every Tuesday at 11:00am at Woodbridge. It’s a perfect way to kick off the week with great food and even better company. \nWe hope to see you there!
URL:https://chapters.theprimetimersww.com/centraloklahoma/event/lunch-at-woodbridge-every-tuesday-24/2030-07-23/
LOCATION:Woodbridge Restaurant\, 4021 NW 39th Street\, OKC\, OK\, 73112\, United States
ATTACH;FMTTYPE=image/jpeg:https://chapters.theprimetimersww.com/centraloklahoma/wp-content/uploads/2025/12/Woodbridge-Restaurant.jpeg
END:VEVENT
BEGIN:VEVENT
DTSTART;TZID=America/Chicago:20300727T090000
DTEND;TZID=America/Chicago:20300727T103000
DTSTAMP:20260424T004225
CREATED:20260112T200954Z
LAST-MODIFIED:20260112T200954Z
UID:10001738-1911373200-1911378600@chapters.theprimetimersww.com
SUMMARY:Breakfast at Woodbridge every Saturday!
DESCRIPTION:You’re Invited! \nJoin us for breakfast every Saturday morning at 9:00am at Woodbridge. It’s a great way to start the weekend with good food and even better company. \nWe hope to see you there!
URL:https://chapters.theprimetimersww.com/centraloklahoma/event/breakfast-at-woodbridge-every-saturday-5/2030-07-27/
LOCATION:Woodbridge Restaurant\, 4021 NW 39th Street\, OKC\, OK\, 73112\, United States
ATTACH;FMTTYPE=image/jpeg:https://chapters.theprimetimersww.com/centraloklahoma/wp-content/uploads/2025/12/Woodbridge-Restaurant.jpeg
END:VEVENT
BEGIN:VEVENT
DTSTART;TZID=America/Chicago:20300730T110000
DTEND;TZID=America/Chicago:20300730T123000
DTSTAMP:20260424T004225
CREATED:20260112T200747Z
LAST-MODIFIED:20260112T200747Z
UID:10001478-1911639600-1911645000@chapters.theprimetimersww.com
SUMMARY:Lunch at Woodbridge every Tuesday!
DESCRIPTION:You’re Invited! \nJoin us for Lunch every Tuesday at 11:00am at Woodbridge. It’s a perfect way to kick off the week with great food and even better company. \nWe hope to see you there!
URL:https://chapters.theprimetimersww.com/centraloklahoma/event/lunch-at-woodbridge-every-tuesday-24/2030-07-30/
LOCATION:Woodbridge Restaurant\, 4021 NW 39th Street\, OKC\, OK\, 73112\, United States
ATTACH;FMTTYPE=image/jpeg:https://chapters.theprimetimersww.com/centraloklahoma/wp-content/uploads/2025/12/Woodbridge-Restaurant.jpeg
END:VEVENT
BEGIN:VEVENT
DTSTART;TZID=America/Chicago:20300803T090000
DTEND;TZID=America/Chicago:20300803T103000
DTSTAMP:20260424T004225
CREATED:20260112T200954Z
LAST-MODIFIED:20260112T200954Z
UID:10001739-1911978000-1911983400@chapters.theprimetimersww.com
SUMMARY:Breakfast at Woodbridge every Saturday!
DESCRIPTION:You’re Invited! \nJoin us for breakfast every Saturday morning at 9:00am at Woodbridge. It’s a great way to start the weekend with good food and even better company. \nWe hope to see you there!
URL:https://chapters.theprimetimersww.com/centraloklahoma/event/breakfast-at-woodbridge-every-saturday-5/2030-08-03/
LOCATION:Woodbridge Restaurant\, 4021 NW 39th Street\, OKC\, OK\, 73112\, United States
ATTACH;FMTTYPE=image/jpeg:https://chapters.theprimetimersww.com/centraloklahoma/wp-content/uploads/2025/12/Woodbridge-Restaurant.jpeg
END:VEVENT
BEGIN:VEVENT
DTSTART;TZID=America/Chicago:20300806T110000
DTEND;TZID=America/Chicago:20300806T123000
DTSTAMP:20260424T004225
CREATED:20260112T200747Z
LAST-MODIFIED:20260112T200747Z
UID:10001479-1912244400-1912249800@chapters.theprimetimersww.com
SUMMARY:Lunch at Woodbridge every Tuesday!
DESCRIPTION:You’re Invited! \nJoin us for Lunch every Tuesday at 11:00am at Woodbridge. It’s a perfect way to kick off the week with great food and even better company. \nWe hope to see you there!
URL:https://chapters.theprimetimersww.com/centraloklahoma/event/lunch-at-woodbridge-every-tuesday-24/2030-08-06/
LOCATION:Woodbridge Restaurant\, 4021 NW 39th Street\, OKC\, OK\, 73112\, United States
ATTACH;FMTTYPE=image/jpeg:https://chapters.theprimetimersww.com/centraloklahoma/wp-content/uploads/2025/12/Woodbridge-Restaurant.jpeg
END:VEVENT
BEGIN:VEVENT
DTSTART;TZID=America/Chicago:20300810T090000
DTEND;TZID=America/Chicago:20300810T103000
DTSTAMP:20260424T004225
CREATED:20260112T200954Z
LAST-MODIFIED:20260112T200954Z
UID:10001740-1912582800-1912588200@chapters.theprimetimersww.com
SUMMARY:Breakfast at Woodbridge every Saturday!
DESCRIPTION:You’re Invited! \nJoin us for breakfast every Saturday morning at 9:00am at Woodbridge. It’s a great way to start the weekend with good food and even better company. \nWe hope to see you there!
URL:https://chapters.theprimetimersww.com/centraloklahoma/event/breakfast-at-woodbridge-every-saturday-5/2030-08-10/
LOCATION:Woodbridge Restaurant\, 4021 NW 39th Street\, OKC\, OK\, 73112\, United States
ATTACH;FMTTYPE=image/jpeg:https://chapters.theprimetimersww.com/centraloklahoma/wp-content/uploads/2025/12/Woodbridge-Restaurant.jpeg
END:VEVENT
BEGIN:VEVENT
DTSTART;TZID=America/Chicago:20300813T110000
DTEND;TZID=America/Chicago:20300813T123000
DTSTAMP:20260424T004225
CREATED:20260112T200747Z
LAST-MODIFIED:20260112T200747Z
UID:10001480-1912849200-1912854600@chapters.theprimetimersww.com
SUMMARY:Lunch at Woodbridge every Tuesday!
DESCRIPTION:You’re Invited! \nJoin us for Lunch every Tuesday at 11:00am at Woodbridge. It’s a perfect way to kick off the week with great food and even better company. \nWe hope to see you there!
URL:https://chapters.theprimetimersww.com/centraloklahoma/event/lunch-at-woodbridge-every-tuesday-24/2030-08-13/
LOCATION:Woodbridge Restaurant\, 4021 NW 39th Street\, OKC\, OK\, 73112\, United States
ATTACH;FMTTYPE=image/jpeg:https://chapters.theprimetimersww.com/centraloklahoma/wp-content/uploads/2025/12/Woodbridge-Restaurant.jpeg
END:VEVENT
END:VCALENDAR