BEGIN:VCALENDAR
VERSION:2.0
PRODID:-// - ECPv6.15.20//NONSGML v1.0//EN
CALSCALE:GREGORIAN
METHOD:PUBLISH
X-ORIGINAL-URL:https://chapters.theprimetimersww.com/charlestonsc
X-WR-CALDESC:Events for 
REFRESH-INTERVAL;VALUE=DURATION:PT1H
X-Robots-Tag:noindex
X-PUBLISHED-TTL:PT1H
BEGIN:VTIMEZONE
TZID:America/New_York
BEGIN:DAYLIGHT
TZOFFSETFROM:-0500
TZOFFSETTO:-0400
TZNAME:EDT
DTSTART:20240310T070000
END:DAYLIGHT
BEGIN:STANDARD
TZOFFSETFROM:-0400
TZOFFSETTO:-0500
TZNAME:EST
DTSTART:20241103T060000
END:STANDARD
BEGIN:DAYLIGHT
TZOFFSETFROM:-0500
TZOFFSETTO:-0400
TZNAME:EDT
DTSTART:20250309T070000
END:DAYLIGHT
BEGIN:STANDARD
TZOFFSETFROM:-0400
TZOFFSETTO:-0500
TZNAME:EST
DTSTART:20251102T060000
END:STANDARD
BEGIN:DAYLIGHT
TZOFFSETFROM:-0500
TZOFFSETTO:-0400
TZNAME:EDT
DTSTART:20260308T070000
END:DAYLIGHT
BEGIN:STANDARD
TZOFFSETFROM:-0400
TZOFFSETTO:-0500
TZNAME:EST
DTSTART:20261101T060000
END:STANDARD
END:VTIMEZONE
BEGIN:VEVENT
DTSTART;TZID=America/New_York:20250212T170000
DTEND;TZID=America/New_York:20250212T190000
DTSTAMP:20260420T094301
CREATED:20241226T171931Z
LAST-MODIFIED:20241228T144728Z
UID:10000119-1739379600-1739386800@chapters.theprimetimersww.com
SUMMARY:February Happy Hour at Bar Polari
DESCRIPTION:Come join us at Bar Polari\, Charleston’s newest gay bar serving craft cocktails in an elegant space with ample outdoor seating. The indoor space provides a sensual and ambient atmosphere for friends\, wanderers\, and adventurers to share a drink and a story together as equals.  You can find Bar Polari behind Macho Pichu Chicken\, next to Rebel Taqueria.
URL:https://chapters.theprimetimersww.com/charlestonsc/event/february-happy-hour-at-irelands-own-west-ashley/
LOCATION:Bar Polari\, 1813 Reynolds Ave. Ste C\, North Charleston\, SC\, 29405\, United States
ATTACH;FMTTYPE=image/jpeg:https://chapters.theprimetimersww.com/charlestonsc/wp-content/uploads/2024/12/bar-polari.jpg
END:VEVENT
END:VCALENDAR