BEGIN:VCALENDAR
VERSION:2.0
PRODID:-// - ECPv6.15.20//NONSGML v1.0//EN
CALSCALE:GREGORIAN
METHOD:PUBLISH
X-ORIGINAL-URL:https://chapters.theprimetimersww.com/charlestonsc
X-WR-CALDESC:Events for 
REFRESH-INTERVAL;VALUE=DURATION:PT1H
X-Robots-Tag:noindex
X-PUBLISHED-TTL:PT1H
BEGIN:VTIMEZONE
TZID:America/New_York
BEGIN:DAYLIGHT
TZOFFSETFROM:-0500
TZOFFSETTO:-0400
TZNAME:EDT
DTSTART:20230312T070000
END:DAYLIGHT
BEGIN:STANDARD
TZOFFSETFROM:-0400
TZOFFSETTO:-0500
TZNAME:EST
DTSTART:20231105T060000
END:STANDARD
BEGIN:DAYLIGHT
TZOFFSETFROM:-0500
TZOFFSETTO:-0400
TZNAME:EDT
DTSTART:20240310T070000
END:DAYLIGHT
BEGIN:STANDARD
TZOFFSETFROM:-0400
TZOFFSETTO:-0500
TZNAME:EST
DTSTART:20241103T060000
END:STANDARD
BEGIN:DAYLIGHT
TZOFFSETFROM:-0500
TZOFFSETTO:-0400
TZNAME:EDT
DTSTART:20250309T070000
END:DAYLIGHT
BEGIN:STANDARD
TZOFFSETFROM:-0400
TZOFFSETTO:-0500
TZNAME:EST
DTSTART:20251102T060000
END:STANDARD
END:VTIMEZONE
BEGIN:VEVENT
DTSTART;TZID=America/New_York:20240501T113000
DTEND;TZID=America/New_York:20240501T130000
DTSTAMP:20260425T094056
CREATED:20240227T204128Z
LAST-MODIFIED:20240227T204402Z
UID:10000083-1714563000-1714568400@chapters.theprimetimersww.com
SUMMARY:May lunch at Jason's Deli
DESCRIPTION:Honored as one of the best family restaurants in America\, Jason’s excels in delicious sandwiches\, crisp salads\, etc. all prepared fresh and fast! They have free frosty ice cream.
URL:https://chapters.theprimetimersww.com/charlestonsc/event/may-lunch-at-jasons-deli/
LOCATION:Jason’s Deli\, 975 Savannah Hwy\, Charleston\, SC\, 29407\, United States
END:VEVENT
BEGIN:VEVENT
DTSTART;TZID=America/New_York:20240508T080000
DTEND;TZID=America/New_York:20240508T170000
DTSTAMP:20260425T094056
CREATED:20240227T204617Z
LAST-MODIFIED:20240227T205232Z
UID:10000084-1715155200-1715187600@chapters.theprimetimersww.com
SUMMARY:May Happy Hour at Tattooed Moose Park Circle
DESCRIPTION:The Tattooed Moose is a bustling bar/restaurant in Paark Circle\, particularly noteworthy for a fine and changing selection of draft beers to go with a menu offering some distinctive dishes of its own as well as great burgers and other regular restaurant fare.
URL:https://chapters.theprimetimersww.com/charlestonsc/event/may-happy-hour-at-tattooed-moose-park-circle/
LOCATION:Tattooed Moose\, Park Circle\, North Charleston\, 4845 Chateau Avenue\, North Charleston\, SC\, 29405\, United States
ATTACH;FMTTYPE=image/jpeg:https://chapters.theprimetimersww.com/charlestonsc/wp-content/uploads/2023/03/tattoed-moose.jpeg
END:VEVENT
BEGIN:VEVENT
DTSTART;TZID=America/New_York:20240511T110000
DTEND;TZID=America/New_York:20240511T170000
DTSTAMP:20260425T094056
CREATED:20240228T140819Z
LAST-MODIFIED:20240228T140819Z
UID:10000085-1715425200-1715446800@chapters.theprimetimersww.com
SUMMARY:Greek Festival
DESCRIPTION:The Charleston Greek Festival is a celebration of fun and Greek culture! Attendees can enjoy Greek food\, wine\, live music\, and dancing. The oldest festival in the Charleston area\, dating back to 1970\, The Charleston Greek Festival is the 3rd largest festival in the Lowcountry\, with 35\,000+ attendees over one weekend each year. \nCheck your email for the meet-up spot that day.
URL:https://chapters.theprimetimersww.com/charlestonsc/event/greek-festival/
LOCATION:Greek Festival\, 30 Race Street\, Charleston\, SC\, 29403\, United States
ATTACH;FMTTYPE=image/jpeg:https://chapters.theprimetimersww.com/charlestonsc/wp-content/uploads/2024/02/Charleston-Greek-Festival5.jpg
END:VEVENT
END:VCALENDAR