BEGIN:VCALENDAR
VERSION:2.0
PRODID:-// - ECPv6.15.20//NONSGML v1.0//EN
CALSCALE:GREGORIAN
METHOD:PUBLISH
X-ORIGINAL-URL:https://chapters.theprimetimersww.com/charlestonsc
X-WR-CALDESC:Events for 
REFRESH-INTERVAL;VALUE=DURATION:PT1H
X-Robots-Tag:noindex
X-PUBLISHED-TTL:PT1H
BEGIN:VTIMEZONE
TZID:America/New_York
BEGIN:DAYLIGHT
TZOFFSETFROM:-0500
TZOFFSETTO:-0400
TZNAME:EDT
DTSTART:20230312T070000
END:DAYLIGHT
BEGIN:STANDARD
TZOFFSETFROM:-0400
TZOFFSETTO:-0500
TZNAME:EST
DTSTART:20231105T060000
END:STANDARD
BEGIN:DAYLIGHT
TZOFFSETFROM:-0500
TZOFFSETTO:-0400
TZNAME:EDT
DTSTART:20240310T070000
END:DAYLIGHT
BEGIN:STANDARD
TZOFFSETFROM:-0400
TZOFFSETTO:-0500
TZNAME:EST
DTSTART:20241103T060000
END:STANDARD
BEGIN:DAYLIGHT
TZOFFSETFROM:-0500
TZOFFSETTO:-0400
TZNAME:EDT
DTSTART:20250309T070000
END:DAYLIGHT
BEGIN:STANDARD
TZOFFSETFROM:-0400
TZOFFSETTO:-0500
TZNAME:EST
DTSTART:20251102T060000
END:STANDARD
END:VTIMEZONE
BEGIN:VEVENT
DTSTART;TZID=America/New_York:20240605T233000
DTEND;TZID=America/New_York:20240605T233000
DTSTAMP:20260425T094109
CREATED:20240430T162709Z
LAST-MODIFIED:20240430T162709Z
UID:10000087-1717630200-1717630200@chapters.theprimetimersww.com
SUMMARY:Lunch Bahama Breeze
DESCRIPTION:Meet at 11:30.
URL:https://chapters.theprimetimersww.com/charlestonsc/event/lunch-bahama-breeze/
LOCATION:Bahama Breeze North Charleston\, 7811 Rivers Aveneue\, North Charleston\, SC\, 29406\, United States
ATTACH;FMTTYPE=image/jpeg:https://chapters.theprimetimersww.com/charlestonsc/wp-content/uploads/2024/04/bahama-breeze-e1714494304162.jpg
END:VEVENT
BEGIN:VEVENT
DTSTART;TZID=America/New_York:20240612T170000
DTEND;TZID=America/New_York:20240612T190000
DTSTAMP:20260425T094109
CREATED:20240506T222913Z
LAST-MODIFIED:20240506T222913Z
UID:10000088-1718211600-1718218800@chapters.theprimetimersww.com
SUMMARY:Happy Hour at DIG in downtown North Chas
DESCRIPTION:It’s time to try out the newly renovated DIG in N. Chas. It’s a fun place to get a drink and a tasty dinner.
URL:https://chapters.theprimetimersww.com/charlestonsc/event/happy-hour-at-dig-in-downtown-north-chas/
LOCATION:dig\, 1049 East Montague Ave\, North Charleston\, 29405\, United States
ATTACH;FMTTYPE=image/jpeg:https://chapters.theprimetimersww.com/charlestonsc/wp-content/uploads/2024/05/DIG.jpeg
END:VEVENT
BEGIN:VEVENT
DTSTART;TZID=America/New_York:20240623T170000
DTEND;TZID=America/New_York:20240623T190000
DTSTAMP:20260425T094109
CREATED:20240507T170157Z
LAST-MODIFIED:20240507T170157Z
UID:10000089-1719162000-1719169200@chapters.theprimetimersww.com
SUMMARY:June Sunday Social on June 23 from 5 to  7PM
DESCRIPTION:It’s that time again to get together for a gab session and food. Bring a tasty dish\, dessert\, and salad to share with others.and catch up with what’s new.
URL:https://chapters.theprimetimersww.com/charlestonsc/event/june-sunday-social-on-june-23-from-5-to-7pm/
LOCATION:Lance Hall at Circular Congregational Church\, 150 Meeting Street\, Charleston\, SC\, 29401\, United States
ATTACH;FMTTYPE=image/jpeg:https://chapters.theprimetimersww.com/charlestonsc/wp-content/uploads/2022/09/circular-church.jpeg
END:VEVENT
END:VCALENDAR