BEGIN:VCALENDAR
VERSION:2.0
PRODID:-// - ECPv6.15.20//NONSGML v1.0//EN
CALSCALE:GREGORIAN
METHOD:PUBLISH
X-ORIGINAL-URL:https://chapters.theprimetimersww.com/charlestonsc
X-WR-CALDESC:Events for 
REFRESH-INTERVAL;VALUE=DURATION:PT1H
X-Robots-Tag:noindex
X-PUBLISHED-TTL:PT1H
BEGIN:VTIMEZONE
TZID:America/New_York
BEGIN:DAYLIGHT
TZOFFSETFROM:-0500
TZOFFSETTO:-0400
TZNAME:EDT
DTSTART:20230312T070000
END:DAYLIGHT
BEGIN:STANDARD
TZOFFSETFROM:-0400
TZOFFSETTO:-0500
TZNAME:EST
DTSTART:20231105T060000
END:STANDARD
BEGIN:DAYLIGHT
TZOFFSETFROM:-0500
TZOFFSETTO:-0400
TZNAME:EDT
DTSTART:20240310T070000
END:DAYLIGHT
BEGIN:STANDARD
TZOFFSETFROM:-0400
TZOFFSETTO:-0500
TZNAME:EST
DTSTART:20241103T060000
END:STANDARD
BEGIN:DAYLIGHT
TZOFFSETFROM:-0500
TZOFFSETTO:-0400
TZNAME:EDT
DTSTART:20250309T070000
END:DAYLIGHT
BEGIN:STANDARD
TZOFFSETFROM:-0400
TZOFFSETTO:-0500
TZNAME:EST
DTSTART:20251102T060000
END:STANDARD
END:VTIMEZONE
BEGIN:VEVENT
DTSTART;TZID=America/New_York:20240804T150000
DTEND;TZID=America/New_York:20240804T180000
DTSTAMP:20260424T072934
CREATED:20240624T172714Z
LAST-MODIFIED:20240731T185953Z
UID:10000095-1722783600-1722794400@chapters.theprimetimersww.com
SUMMARY:Let's go to the matinee play "A Funny Thing Happened On The Way To The Forum" at Queen Street Playhouse
DESCRIPTION:There are three tiers of seating choices (the theatre is small\, so there really are no bad seats)\, and we’ll have reserved group seating for the Sunday\, August 4\, 3 PM matinee. For tickets\, use discount code WEREHERE10 at HTTPS://FORUMCHS.EVENBRIGHT.COM.
URL:https://chapters.theprimetimersww.com/charlestonsc/event/lets-go-to-a-play-at-queen-street-playhouse/
LOCATION:Queen Street Playhouse\, 20 Queen St\, Charleston\, SC\, 29401\, United States
ATTACH;FMTTYPE=image/jpeg:https://chapters.theprimetimersww.com/charlestonsc/wp-content/uploads/2024/06/funny-thing-e1722452381469.jpg
END:VEVENT
BEGIN:VEVENT
DTSTART;TZID=America/New_York:20240807T113000
DTEND;TZID=America/New_York:20240807T130000
DTSTAMP:20260424T072934
CREATED:20240624T173806Z
LAST-MODIFIED:20240806T154218Z
UID:10000096-1723030200-1723035600@chapters.theprimetimersww.com
SUMMARY:Canceled due to tropical storm - August lunch at Trotters Restaurant in the Town and Country Hotel in West Ashley
DESCRIPTION:Canceled.
URL:https://chapters.theprimetimersww.com/charlestonsc/event/august-lunch-at-trotters-restaurant-in-the-town-and-country-hotel-in-west-ashley/
LOCATION:Trotters Restaurant at Town and Country Inn\, 2008 Savannah Highway\, Charleston\, SC\, 29407\, United States
ATTACH;FMTTYPE=image/jpeg:https://chapters.theprimetimersww.com/charlestonsc/wp-content/uploads/2024/01/trotters-e1706551017301.jpg
END:VEVENT
BEGIN:VEVENT
DTSTART;TZID=America/New_York:20240814T170000
DTEND;TZID=America/New_York:20240814T190000
DTSTAMP:20260424T072934
CREATED:20240624T174020Z
LAST-MODIFIED:20240731T184759Z
UID:10000097-1723654800-1723662000@chapters.theprimetimersww.com
SUMMARY:August Happy Hour at Edmund Oast Brewing Co.
DESCRIPTION:August Happy Hour at Edmund Oast Brewery and Taproom at 1505 King St #115. At the brewery\, there is a lot of room to spread out. Make sure you come to the correct Edmund Oast. There is one on Morrison Ave\, which is NOT the correct one. To make life easier\, use the map link here:  1505 King St #115 · 1505 King St\, Charleston\, SC 29405
URL:https://chapters.theprimetimersww.com/charlestonsc/event/august-happy-hour-at-tba/
LOCATION:Edmund Oast Brewery + Taproom\, 1505 King St #115\, Charleston\, SC\, 29405\, United States
ATTACH;FMTTYPE=image/jpeg:https://chapters.theprimetimersww.com/charlestonsc/wp-content/uploads/2022/09/Edmund-Oast-Brewing-e1664207946541.jpeg
END:VEVENT
BEGIN:VEVENT
DTSTART;TZID=America/New_York:20240825T170000
DTEND;TZID=America/New_York:20240825T190000
DTSTAMP:20260424T072934
CREATED:20240520T153017Z
LAST-MODIFIED:20240624T211022Z
UID:10000092-1724605200-1724612400@chapters.theprimetimersww.com
SUMMARY:August Sunday Social at Circular Church's Lance Hall
DESCRIPTION:This is our monthly Sunday meet-and-greet food event. Bring something tasty to share with others. This month’s theme is INDIAN food\, so if you can\, bring something INDIAN.
URL:https://chapters.theprimetimersww.com/charlestonsc/event/july-sunday-social-at-circular-churchs-lance-hall/
LOCATION:Lance Hall at Circular Congregational Church\, 150 Meeting Street\, Charleston\, SC\, 29401\, United States
ATTACH;FMTTYPE=image/jpeg:https://chapters.theprimetimersww.com/charlestonsc/wp-content/uploads/2024/05/circular-congregational-church-2347-e1716218909774.jpg
END:VEVENT
END:VCALENDAR