BEGIN:VCALENDAR
VERSION:2.0
PRODID:-// - ECPv6.15.20//NONSGML v1.0//EN
CALSCALE:GREGORIAN
METHOD:PUBLISH
X-ORIGINAL-URL:https://chapters.theprimetimersww.com/charlestonsc
X-WR-CALDESC:Events for 
REFRESH-INTERVAL;VALUE=DURATION:PT1H
X-Robots-Tag:noindex
X-PUBLISHED-TTL:PT1H
BEGIN:VTIMEZONE
TZID:America/New_York
BEGIN:DAYLIGHT
TZOFFSETFROM:-0500
TZOFFSETTO:-0400
TZNAME:EDT
DTSTART:20230312T070000
END:DAYLIGHT
BEGIN:STANDARD
TZOFFSETFROM:-0400
TZOFFSETTO:-0500
TZNAME:EST
DTSTART:20231105T060000
END:STANDARD
BEGIN:DAYLIGHT
TZOFFSETFROM:-0500
TZOFFSETTO:-0400
TZNAME:EDT
DTSTART:20240310T070000
END:DAYLIGHT
BEGIN:STANDARD
TZOFFSETFROM:-0400
TZOFFSETTO:-0500
TZNAME:EST
DTSTART:20241103T060000
END:STANDARD
BEGIN:DAYLIGHT
TZOFFSETFROM:-0500
TZOFFSETTO:-0400
TZNAME:EDT
DTSTART:20250309T070000
END:DAYLIGHT
BEGIN:STANDARD
TZOFFSETFROM:-0400
TZOFFSETTO:-0500
TZNAME:EST
DTSTART:20251102T060000
END:STANDARD
END:VTIMEZONE
BEGIN:VEVENT
DTSTART;TZID=America/New_York:20240929T170000
DTEND;TZID=America/New_York:20240929T190000
DTSTAMP:20260423T184238
CREATED:20240624T210629Z
LAST-MODIFIED:20240919T231651Z
UID:10000101-1727629200-1727636400@chapters.theprimetimersww.com
SUMMARY:September Sunday Social at Lance Hall behind Circular Church
DESCRIPTION:Enjoy the friendship of other Chapter members\, bring a dish to share\, and have a laugh or two. This month\, the food theme is Indian\, so try to bring something Indian!
URL:https://chapters.theprimetimersww.com/charlestonsc/event/september-sunday-social-at-lance-hall-behind-circular-church/
LOCATION:Lance Hall at Circular Congregational Church\, 150 Meeting Street\, Charleston\, SC\, 29401\, United States
ATTACH;FMTTYPE=image/jpeg:https://chapters.theprimetimersww.com/charlestonsc/wp-content/uploads/2024/05/circular-congregational-church-2347-e1716218909774.jpg
END:VEVENT
BEGIN:VEVENT
DTSTART;TZID=America/New_York:20241002T113000
DTEND;TZID=America/New_York:20241002T130000
DTSTAMP:20260423T184238
CREATED:20240828T141625Z
LAST-MODIFIED:20240920T125127Z
UID:10000102-1727868600-1727874000@chapters.theprimetimersww.com
SUMMARY:October Lunch at Bahama Breeze in North Chas
DESCRIPTION:Back to one of our family’s favorites. Easy parking\, good food\, and fast!
URL:https://chapters.theprimetimersww.com/charlestonsc/event/october-lunch-at-jasons-deli/
LOCATION:Bahama Breeze North Charleston\, 7811 Rivers Aveneue\, North Charleston\, SC\, 29406\, United States
ATTACH;FMTTYPE=image/jpeg:https://chapters.theprimetimersww.com/charlestonsc/wp-content/uploads/2024/04/bahama-breeze-e1714494304162.jpg
END:VEVENT
END:VCALENDAR