BEGIN:VCALENDAR
VERSION:2.0
PRODID:-// - ECPv6.15.20//NONSGML v1.0//EN
CALSCALE:GREGORIAN
METHOD:PUBLISH
X-ORIGINAL-URL:https://chapters.theprimetimersww.com/charlestonsc
X-WR-CALDESC:Events for 
REFRESH-INTERVAL;VALUE=DURATION:PT1H
X-Robots-Tag:noindex
X-PUBLISHED-TTL:PT1H
BEGIN:VTIMEZONE
TZID:America/New_York
BEGIN:DAYLIGHT
TZOFFSETFROM:-0500
TZOFFSETTO:-0400
TZNAME:EDT
DTSTART:20240310T070000
END:DAYLIGHT
BEGIN:STANDARD
TZOFFSETFROM:-0400
TZOFFSETTO:-0500
TZNAME:EST
DTSTART:20241103T060000
END:STANDARD
BEGIN:DAYLIGHT
TZOFFSETFROM:-0500
TZOFFSETTO:-0400
TZNAME:EDT
DTSTART:20250309T070000
END:DAYLIGHT
BEGIN:STANDARD
TZOFFSETFROM:-0400
TZOFFSETTO:-0500
TZNAME:EST
DTSTART:20251102T060000
END:STANDARD
BEGIN:DAYLIGHT
TZOFFSETFROM:-0500
TZOFFSETTO:-0400
TZNAME:EDT
DTSTART:20260308T070000
END:DAYLIGHT
BEGIN:STANDARD
TZOFFSETFROM:-0400
TZOFFSETTO:-0500
TZNAME:EST
DTSTART:20261101T060000
END:STANDARD
END:VTIMEZONE
BEGIN:VEVENT
DTSTART;TZID=America/New_York:20250115T170000
DTEND;TZID=America/New_York:20250115T190000
DTSTAMP:20260423T053136
CREATED:20241216T164500Z
LAST-MODIFIED:20241227T210137Z
UID:10000113-1736960400-1736967600@chapters.theprimetimersww.com
SUMMARY:January Happy Hour\, Tattooed Moose\, Park Circle
DESCRIPTION:Escape to North Charleston to a fun and laid-back atmosphere. Enjoy a wide selection of craft brews and the gourmet pub fare.
URL:https://chapters.theprimetimersww.com/charlestonsc/event/january-happy-hour-tattooed-moose-park-circle/
LOCATION:Tattooed Moose\, Park Circle\, North Charleston\, 4845 Chateau Avenue\, North Charleston\, SC\, 29405\, United States
ATTACH;FMTTYPE=image/jpeg:https://chapters.theprimetimersww.com/charlestonsc/wp-content/uploads/2023/03/tattoed-moose.jpeg
END:VEVENT
END:VCALENDAR