BEGIN:VCALENDAR
VERSION:2.0
PRODID:-// - ECPv6.15.20//NONSGML v1.0//EN
CALSCALE:GREGORIAN
METHOD:PUBLISH
X-ORIGINAL-URL:https://chapters.theprimetimersww.com/charlestonsc
X-WR-CALDESC:Events for 
REFRESH-INTERVAL;VALUE=DURATION:PT1H
X-Robots-Tag:noindex
X-PUBLISHED-TTL:PT1H
BEGIN:VTIMEZONE
TZID:America/New_York
BEGIN:DAYLIGHT
TZOFFSETFROM:-0500
TZOFFSETTO:-0400
TZNAME:EDT
DTSTART:20240310T070000
END:DAYLIGHT
BEGIN:STANDARD
TZOFFSETFROM:-0400
TZOFFSETTO:-0500
TZNAME:EST
DTSTART:20241103T060000
END:STANDARD
BEGIN:DAYLIGHT
TZOFFSETFROM:-0500
TZOFFSETTO:-0400
TZNAME:EDT
DTSTART:20250309T070000
END:DAYLIGHT
BEGIN:STANDARD
TZOFFSETFROM:-0400
TZOFFSETTO:-0500
TZNAME:EST
DTSTART:20251102T060000
END:STANDARD
BEGIN:DAYLIGHT
TZOFFSETFROM:-0500
TZOFFSETTO:-0400
TZNAME:EDT
DTSTART:20260308T070000
END:DAYLIGHT
BEGIN:STANDARD
TZOFFSETFROM:-0400
TZOFFSETTO:-0500
TZNAME:EST
DTSTART:20261101T060000
END:STANDARD
END:VTIMEZONE
BEGIN:VEVENT
DTSTART;TZID=America/New_York:20250126T170000
DTEND;TZID=America/New_York:20250126T190000
DTSTAMP:20260420T094357
CREATED:20241216T165141Z
LAST-MODIFIED:20241216T165141Z
UID:10000114-1737910800-1737918000@chapters.theprimetimersww.com
SUMMARY:January Sunday Social and Cookie Exchange at Lance Hall\, Circular Church
DESCRIPTION:Join us for our usual Sunday Social at Lance Hall. Come and visit with old friends and maybe make a new one. This month\, please bring some cookies to exchange for others cookies. Dig out those old recipes and get baking! Also\, bring a potluck item to share\, too. Lance Hall is behind the Church on the right.
URL:https://chapters.theprimetimersww.com/charlestonsc/event/january-sunday-social-and-cookie-exchange-at-lance-hall-circular-church/
ATTACH;FMTTYPE=image/jpeg:https://chapters.theprimetimersww.com/charlestonsc/wp-content/uploads/2024/05/circular-congregational-church-2347-e1716218909774.jpg
END:VEVENT
END:VCALENDAR