BEGIN:VCALENDAR
VERSION:2.0
PRODID:-// - ECPv6.15.20//NONSGML v1.0//EN
CALSCALE:GREGORIAN
METHOD:PUBLISH
X-ORIGINAL-URL:https://chapters.theprimetimersww.com/charlestonsc
X-WR-CALDESC:Events for 
REFRESH-INTERVAL;VALUE=DURATION:PT1H
X-Robots-Tag:noindex
X-PUBLISHED-TTL:PT1H
BEGIN:VTIMEZONE
TZID:America/New_York
BEGIN:DAYLIGHT
TZOFFSETFROM:-0500
TZOFFSETTO:-0400
TZNAME:EDT
DTSTART:20240310T070000
END:DAYLIGHT
BEGIN:STANDARD
TZOFFSETFROM:-0400
TZOFFSETTO:-0500
TZNAME:EST
DTSTART:20241103T060000
END:STANDARD
BEGIN:DAYLIGHT
TZOFFSETFROM:-0500
TZOFFSETTO:-0400
TZNAME:EDT
DTSTART:20250309T070000
END:DAYLIGHT
BEGIN:STANDARD
TZOFFSETFROM:-0400
TZOFFSETTO:-0500
TZNAME:EST
DTSTART:20251102T060000
END:STANDARD
BEGIN:DAYLIGHT
TZOFFSETFROM:-0500
TZOFFSETTO:-0400
TZNAME:EDT
DTSTART:20260308T070000
END:DAYLIGHT
BEGIN:STANDARD
TZOFFSETFROM:-0400
TZOFFSETTO:-0500
TZNAME:EST
DTSTART:20261101T060000
END:STANDARD
END:VTIMEZONE
BEGIN:VEVENT
DTSTART;TZID=America/New_York:20250417T170000
DTEND;TZID=America/New_York:20250417T190000
DTSTAMP:20260420T094400
CREATED:20250321T161012Z
LAST-MODIFIED:20250321T162710Z
UID:10000124-1744909200-1744916400@chapters.theprimetimersww.com
SUMMARY:April Happy Hour at The Wine Bar Mount Pleasant
DESCRIPTION:Join us for a glass\, or choose a bottle to take home from their retail section. Choose from a small plate or charcuterie platter\, flatbreads or indulge in one of their decadent desserts. They offer Happy Hour specials daily from 4 to 6 p.m.! The bar is gay-owned\, too!
URL:https://chapters.theprimetimersww.com/charlestonsc/event/april-happy-hour-at-the-wine-bar-mount-pleasant/
LOCATION:The Wine Bar Mount Pleasant\, 664 Long Point Rd Unit G\, mount pleasant\, SC\, 29464\, United States
ATTACH;FMTTYPE=image/jpeg:https://chapters.theprimetimersww.com/charlestonsc/wp-content/uploads/2025/03/wine-bar-mtp.jpg
END:VEVENT
BEGIN:VEVENT
DTSTART;TZID=America/New_York:20250419T100000
DTEND;TZID=America/New_York:20250419T140000
DTSTAMP:20260420T094400
CREATED:20260414T123524Z
LAST-MODIFIED:20260414T124010Z
UID:10000237-1745056800-1745071200@chapters.theprimetimersww.com
SUMMARY:Visit Caw Caw Wildlife Center in Ravenel SC
DESCRIPTION:Explore the journey from the past to the present at the Ravenel Caw Caw Interpretive Center\, where heritage meets habitat. This historic site was once part of several rice plantations and features former rice fields dating back to the early 18th century\, an important location tied to the Stono Rebellion\, and thousands of naturalized tea plants from a 20th-century tea farm. You can walk along the trails\, which include informative exhibits and elevated boardwalks that navigate through wetlands. Additionally\, explore the exhibit hall\, which features interpretive displays that highlight the natural and cultural history of the South Carolina Coastal Plain. \nMeet up at Kiosk 1 at 10 AM. Tickets are $2.00. Email primetimerscharleston if interested in going\, or RSVP on the Facebook page.
URL:https://chapters.theprimetimersww.com/charlestonsc/event/visit-caw-caw-wildlife-center-2/
END:VEVENT
END:VCALENDAR