BEGIN:VCALENDAR
VERSION:2.0
PRODID:-//Columbia SC Prime Timers - ECPv6.15.20//NONSGML v1.0//EN
CALSCALE:GREGORIAN
METHOD:PUBLISH
X-WR-CALNAME:Columbia SC Prime Timers
X-ORIGINAL-URL:https://chapters.theprimetimersww.com/columbiasc
X-WR-CALDESC:Events for Columbia SC Prime Timers
REFRESH-INTERVAL;VALUE=DURATION:PT1H
X-Robots-Tag:noindex
X-PUBLISHED-TTL:PT1H
BEGIN:VTIMEZONE
TZID:America/New_York
BEGIN:DAYLIGHT
TZOFFSETFROM:-0500
TZOFFSETTO:-0400
TZNAME:EDT
DTSTART:20270314T070000
END:DAYLIGHT
BEGIN:STANDARD
TZOFFSETFROM:-0400
TZOFFSETTO:-0500
TZNAME:EST
DTSTART:20271107T060000
END:STANDARD
BEGIN:DAYLIGHT
TZOFFSETFROM:-0500
TZOFFSETTO:-0400
TZNAME:EDT
DTSTART:20280312T070000
END:DAYLIGHT
BEGIN:STANDARD
TZOFFSETFROM:-0400
TZOFFSETTO:-0500
TZNAME:EST
DTSTART:20281105T060000
END:STANDARD
BEGIN:DAYLIGHT
TZOFFSETFROM:-0500
TZOFFSETTO:-0400
TZNAME:EDT
DTSTART:20290311T070000
END:DAYLIGHT
BEGIN:STANDARD
TZOFFSETFROM:-0400
TZOFFSETTO:-0500
TZNAME:EST
DTSTART:20291104T060000
END:STANDARD
END:VTIMEZONE
BEGIN:VEVENT
DTSTART;TZID=America/New_York:20280207T020000
DTEND;TZID=America/New_York:20280207T150000
DTSTAMP:20260425T124403
CREATED:20250617T160226Z
LAST-MODIFIED:20250617T160227Z
UID:10000452-1833501600-1833548400@chapters.theprimetimersww.com
SUMMARY:Monthly Board Meeting
DESCRIPTION:this month’s meeting will be held at Reformation Lutheran Church at 2:00 pm.  Members are encouraged and welcome to attend.
URL:https://chapters.theprimetimersww.com/columbiasc/event/monthly-board-meeting-2/2028-02-07/
LOCATION:Board Meeting\, 207 Long Needle Rd\, Columbia\, SC\, 29229\, United States
END:VEVENT
BEGIN:VEVENT
DTSTART;TZID=America/New_York:20280208T180000
DTEND;TZID=America/New_York:20280208T190000
DTSTAMP:20260425T124403
CREATED:20241028T173559Z
LAST-MODIFIED:20241028T173559Z
UID:10000379-1833645600-1833649200@chapters.theprimetimersww.com
SUMMARY:Taco Tuesday
DESCRIPTION:Hope y’all can join us at Casa Linda \, always a great time.
URL:https://chapters.theprimetimersww.com/columbiasc/event/taco-tuesday-16/2028-02-08/
LOCATION:Casa Linda\, 2009 N Beltline Blvd\, Columbia\, SC\, 29204\, United States
END:VEVENT
END:VCALENDAR