BEGIN:VCALENDAR
VERSION:2.0
PRODID:-//PrimeTimers® Grand Rapids - ECPv6.15.20//NONSGML v1.0//EN
CALSCALE:GREGORIAN
METHOD:PUBLISH
X-WR-CALNAME:PrimeTimers® Grand Rapids
X-ORIGINAL-URL:https://chapters.theprimetimersww.com/grandrapids
X-WR-CALDESC:Events for PrimeTimers® Grand Rapids
REFRESH-INTERVAL;VALUE=DURATION:PT1H
X-Robots-Tag:noindex
X-PUBLISHED-TTL:PT1H
BEGIN:VTIMEZONE
TZID:America/New_York
BEGIN:DAYLIGHT
TZOFFSETFROM:-0500
TZOFFSETTO:-0400
TZNAME:EDT
DTSTART:20230312T070000
END:DAYLIGHT
BEGIN:STANDARD
TZOFFSETFROM:-0400
TZOFFSETTO:-0500
TZNAME:EST
DTSTART:20231105T060000
END:STANDARD
BEGIN:DAYLIGHT
TZOFFSETFROM:-0500
TZOFFSETTO:-0400
TZNAME:EDT
DTSTART:20240310T070000
END:DAYLIGHT
BEGIN:STANDARD
TZOFFSETFROM:-0400
TZOFFSETTO:-0500
TZNAME:EST
DTSTART:20241103T060000
END:STANDARD
BEGIN:DAYLIGHT
TZOFFSETFROM:-0500
TZOFFSETTO:-0400
TZNAME:EDT
DTSTART:20250309T070000
END:DAYLIGHT
BEGIN:STANDARD
TZOFFSETFROM:-0400
TZOFFSETTO:-0500
TZNAME:EST
DTSTART:20251102T060000
END:STANDARD
END:VTIMEZONE
BEGIN:VEVENT
DTSTART;TZID=America/New_York:20240118T180000
DTEND;TZID=America/New_York:20240118T210000
DTSTAMP:20260425T202956
CREATED:20240107T202721Z
LAST-MODIFIED:20240107T203528Z
UID:10000018-1705600800-1705611600@chapters.theprimetimersww.com
SUMMARY:THU 6:00 PM Social 6:30 Dinner at New Holland Brewery (Grand Rapids Brewpub) – RSVP required
DESCRIPTION:Social period from 6-6:30 PM & order dinner at 6:30 PM \nRSVP by sending an email with number attending to primetimersgr@gmail.com \nRSVP deadline is 5:00 PM\, Wednesday\, January 17th.
URL:https://chapters.theprimetimersww.com/grandrapids/event/thu-600-pm-social-630-dinner-at-maru-sushi-rsvp-required/
LOCATION:New Holland Brewing Company (Grand Rapids Brewpub)\, 417 Bridge St NW\, Grand Rapids\, MI\, 49505\, United States
ATTACH;FMTTYPE=image/jpeg:https://chapters.theprimetimersww.com/grandrapids/wp-content/uploads/2024/01/Logo-New-Holland-Brewing-Co-e1704659664394.jpg
END:VEVENT
END:VCALENDAR