BEGIN:VCALENDAR
VERSION:2.0
PRODID:-//PrimeTimers Indianapolis - ECPv6.15.20//NONSGML v1.0//EN
CALSCALE:GREGORIAN
METHOD:PUBLISH
X-ORIGINAL-URL:https://chapters.theprimetimersww.com/indianapolis
X-WR-CALDESC:Events for PrimeTimers Indianapolis
REFRESH-INTERVAL;VALUE=DURATION:PT1H
X-Robots-Tag:noindex
X-PUBLISHED-TTL:PT1H
BEGIN:VTIMEZONE
TZID:America/New_York
BEGIN:DAYLIGHT
TZOFFSETFROM:-0500
TZOFFSETTO:-0400
TZNAME:EDT
DTSTART:20230312T070000
END:DAYLIGHT
BEGIN:STANDARD
TZOFFSETFROM:-0400
TZOFFSETTO:-0500
TZNAME:EST
DTSTART:20231105T060000
END:STANDARD
BEGIN:DAYLIGHT
TZOFFSETFROM:-0500
TZOFFSETTO:-0400
TZNAME:EDT
DTSTART:20240310T070000
END:DAYLIGHT
BEGIN:STANDARD
TZOFFSETFROM:-0400
TZOFFSETTO:-0500
TZNAME:EST
DTSTART:20241103T060000
END:STANDARD
BEGIN:DAYLIGHT
TZOFFSETFROM:-0500
TZOFFSETTO:-0400
TZNAME:EDT
DTSTART:20250309T070000
END:DAYLIGHT
BEGIN:STANDARD
TZOFFSETFROM:-0400
TZOFFSETTO:-0500
TZNAME:EST
DTSTART:20251102T060000
END:STANDARD
END:VTIMEZONE
BEGIN:VEVENT
DTSTART;TZID=America/New_York:20240301T183000
DTEND;TZID=America/New_York:20240301T220000
DTSTAMP:20260423T170606
CREATED:20230110T022823Z
LAST-MODIFIED:20231211T192551Z
UID:10000088-1709317800-1709330400@chapters.theprimetimersww.com
SUMMARY:FRI 6:30 PM - Game Night & Pizza - RSVP required
DESCRIPTION:This event is hosted by Michael L.  Pizza will be served. \nPlease bring a $2 contribution for the pizza\, a snack to share\, and your beverage of choice. \n RSVP to kws82751@gmail.com 
URL:https://chapters.theprimetimersww.com/indianapolis/event/fri-630-pm-game-night-pizza-rsvp-required-8/
LOCATION:Game Night\, 25 East 40th Street\, Indianapolis\, IN\, 46205\, United States
ATTACH;FMTTYPE=image/jpeg:https://chapters.theprimetimersww.com/indianapolis/wp-content/uploads/2022/11/Dominos-e1668204776163.jpg
END:VEVENT
END:VCALENDAR