BEGIN:VCALENDAR
VERSION:2.0
PRODID:-//PrimeTimers Indianapolis - ECPv6.15.20//NONSGML v1.0//EN
CALSCALE:GREGORIAN
METHOD:PUBLISH
X-ORIGINAL-URL:https://chapters.theprimetimersww.com/indianapolis
X-WR-CALDESC:Events for PrimeTimers Indianapolis
REFRESH-INTERVAL;VALUE=DURATION:PT1H
X-Robots-Tag:noindex
X-PUBLISHED-TTL:PT1H
BEGIN:VTIMEZONE
TZID:America/New_York
BEGIN:DAYLIGHT
TZOFFSETFROM:-0500
TZOFFSETTO:-0400
TZNAME:EDT
DTSTART:20230312T070000
END:DAYLIGHT
BEGIN:STANDARD
TZOFFSETFROM:-0400
TZOFFSETTO:-0500
TZNAME:EST
DTSTART:20231105T060000
END:STANDARD
BEGIN:DAYLIGHT
TZOFFSETFROM:-0500
TZOFFSETTO:-0400
TZNAME:EDT
DTSTART:20240310T070000
END:DAYLIGHT
BEGIN:STANDARD
TZOFFSETFROM:-0400
TZOFFSETTO:-0500
TZNAME:EST
DTSTART:20241103T060000
END:STANDARD
BEGIN:DAYLIGHT
TZOFFSETFROM:-0500
TZOFFSETTO:-0400
TZNAME:EDT
DTSTART:20250309T070000
END:DAYLIGHT
BEGIN:STANDARD
TZOFFSETFROM:-0400
TZOFFSETTO:-0500
TZNAME:EST
DTSTART:20251102T060000
END:STANDARD
END:VTIMEZONE
BEGIN:VEVENT
DTSTART;TZID=America/New_York:20240307T130000
DTEND;TZID=America/New_York:20240307T153000
DTSTAMP:20260423T064253
CREATED:20240214T152155Z
LAST-MODIFIED:20240222T154333Z
UID:10000224-1709816400-1709825400@chapters.theprimetimersww.com
SUMMARY:Prime Timers Walking Group RSVP
DESCRIPTION:We will walk the trail at Potter’s Bridge Park in Noblesville.  The address is 19401 N Allisonville Road.\nWe will meet at the covered bridge. \n  \n \nPlease RSVP or If you have any question email Jeff at jeffjonesjlj@gmail.com
URL:https://chapters.theprimetimersww.com/indianapolis/event/prime-timers-walking-group-rsvp/
LOCATION:Potter’s Covered Bridge\, 19401 N Allisonville Road\, Noblesville\, 46060\, United States
END:VEVENT
END:VCALENDAR