BEGIN:VCALENDAR
VERSION:2.0
PRODID:-//PrimeTimers Indianapolis - ECPv6.15.20//NONSGML v1.0//EN
CALSCALE:GREGORIAN
METHOD:PUBLISH
X-ORIGINAL-URL:https://chapters.theprimetimersww.com/indianapolis
X-WR-CALDESC:Events for PrimeTimers Indianapolis
REFRESH-INTERVAL;VALUE=DURATION:PT1H
X-Robots-Tag:noindex
X-PUBLISHED-TTL:PT1H
BEGIN:VTIMEZONE
TZID:America/New_York
BEGIN:DAYLIGHT
TZOFFSETFROM:-0500
TZOFFSETTO:-0400
TZNAME:EDT
DTSTART:20240310T070000
END:DAYLIGHT
BEGIN:STANDARD
TZOFFSETFROM:-0400
TZOFFSETTO:-0500
TZNAME:EST
DTSTART:20241103T060000
END:STANDARD
BEGIN:DAYLIGHT
TZOFFSETFROM:-0500
TZOFFSETTO:-0400
TZNAME:EDT
DTSTART:20250309T070000
END:DAYLIGHT
BEGIN:STANDARD
TZOFFSETFROM:-0400
TZOFFSETTO:-0500
TZNAME:EST
DTSTART:20251102T060000
END:STANDARD
BEGIN:DAYLIGHT
TZOFFSETFROM:-0500
TZOFFSETTO:-0400
TZNAME:EDT
DTSTART:20260308T070000
END:DAYLIGHT
BEGIN:STANDARD
TZOFFSETFROM:-0400
TZOFFSETTO:-0500
TZNAME:EST
DTSTART:20261101T060000
END:STANDARD
END:VTIMEZONE
BEGIN:VEVENT
DTSTART;TZID=America/New_York:20250226T183000
DTEND;TZID=America/New_York:20250226T210000
DTSTAMP:20260424T000956
CREATED:20250122T191221Z
LAST-MODIFIED:20250122T191242Z
UID:10001003-1740594600-1740603600@chapters.theprimetimersww.com
SUMMARY:WEDS 6:30. Dinner at Shapiro's Delicatessen - RSVP Required
DESCRIPTION:Join Prime Timers at Shapiro’s for dinner.  RSVP to KWS82751@gmail.com
URL:https://chapters.theprimetimersww.com/indianapolis/event/weds-630-dinner-at-shapiros-delicatessen-rsvp-required-2/
LOCATION:Shapiro’s Deli\, 808 S Meridian Street\, Indianapolis\, IN\, 46225\, United States
ATTACH;FMTTYPE=image/png:https://chapters.theprimetimersww.com/indianapolis/wp-content/uploads/2024/01/345.png
END:VEVENT
END:VCALENDAR