BEGIN:VCALENDAR
VERSION:2.0
PRODID:-//PrimeTimers Indianapolis - ECPv6.15.20//NONSGML v1.0//EN
CALSCALE:GREGORIAN
METHOD:PUBLISH
X-ORIGINAL-URL:https://chapters.theprimetimersww.com/indianapolis
X-WR-CALDESC:Events for PrimeTimers Indianapolis
REFRESH-INTERVAL;VALUE=DURATION:PT1H
X-Robots-Tag:noindex
X-PUBLISHED-TTL:PT1H
BEGIN:VTIMEZONE
TZID:America/New_York
BEGIN:DAYLIGHT
TZOFFSETFROM:-0500
TZOFFSETTO:-0400
TZNAME:EDT
DTSTART:20240310T070000
END:DAYLIGHT
BEGIN:STANDARD
TZOFFSETFROM:-0400
TZOFFSETTO:-0500
TZNAME:EST
DTSTART:20241103T060000
END:STANDARD
BEGIN:DAYLIGHT
TZOFFSETFROM:-0500
TZOFFSETTO:-0400
TZNAME:EDT
DTSTART:20250309T070000
END:DAYLIGHT
BEGIN:STANDARD
TZOFFSETFROM:-0400
TZOFFSETTO:-0500
TZNAME:EST
DTSTART:20251102T060000
END:STANDARD
BEGIN:DAYLIGHT
TZOFFSETFROM:-0500
TZOFFSETTO:-0400
TZNAME:EDT
DTSTART:20260308T070000
END:DAYLIGHT
BEGIN:STANDARD
TZOFFSETFROM:-0400
TZOFFSETTO:-0500
TZNAME:EST
DTSTART:20261101T060000
END:STANDARD
END:VTIMEZONE
BEGIN:VEVENT
DTSTART;TZID=America/New_York:20250515T150000
DTEND;TZID=America/New_York:20250515T170000
DTSTAMP:20260425T064109
CREATED:20250503T205418Z
LAST-MODIFIED:20250503T205419Z
UID:10000795-1747321200-1747328400@chapters.theprimetimersww.com
SUMMARY:THURS. 3:00 PM - Prime Timers Walk - RSVP Required
DESCRIPTION:Join Prime Timers for our May walk at Pogues Run Trail \nWe will meet at Centerpoint Brewery\, 1125 E Brookside Ave. Suite 2B\, Indianapolis \nWalk will be led by the Co-Chair of Friends of Pogues Run\, approximately 3 miles roundtrip. \nQuestions and RSVP to Jeff: jeffjonesjlj@gmail.com
URL:https://chapters.theprimetimersww.com/indianapolis/event/prime-timers-walk-rsvp-5-3/
LOCATION:IN
ATTACH;FMTTYPE=image/jpeg:https://chapters.theprimetimersww.com/indianapolis/wp-content/uploads/2023/10/istockphoto-814632144-612x612-1.jpg
END:VEVENT
END:VCALENDAR