BEGIN:VCALENDAR
VERSION:2.0
PRODID:-//PrimeTimers Indianapolis - ECPv6.15.20//NONSGML v1.0//EN
CALSCALE:GREGORIAN
METHOD:PUBLISH
X-WR-CALNAME:PrimeTimers Indianapolis
X-ORIGINAL-URL:https://chapters.theprimetimersww.com/indianapolis
X-WR-CALDESC:Events for PrimeTimers Indianapolis
REFRESH-INTERVAL;VALUE=DURATION:PT1H
X-Robots-Tag:noindex
X-PUBLISHED-TTL:PT1H
BEGIN:VTIMEZONE
TZID:America/New_York
BEGIN:DAYLIGHT
TZOFFSETFROM:-0500
TZOFFSETTO:-0400
TZNAME:EDT
DTSTART:20240310T070000
END:DAYLIGHT
BEGIN:STANDARD
TZOFFSETFROM:-0400
TZOFFSETTO:-0500
TZNAME:EST
DTSTART:20241103T060000
END:STANDARD
BEGIN:DAYLIGHT
TZOFFSETFROM:-0500
TZOFFSETTO:-0400
TZNAME:EDT
DTSTART:20250309T070000
END:DAYLIGHT
BEGIN:STANDARD
TZOFFSETFROM:-0400
TZOFFSETTO:-0500
TZNAME:EST
DTSTART:20251102T060000
END:STANDARD
BEGIN:DAYLIGHT
TZOFFSETFROM:-0500
TZOFFSETTO:-0400
TZNAME:EDT
DTSTART:20260308T070000
END:DAYLIGHT
BEGIN:STANDARD
TZOFFSETFROM:-0400
TZOFFSETTO:-0500
TZNAME:EST
DTSTART:20261101T060000
END:STANDARD
END:VTIMEZONE
BEGIN:VEVENT
DTSTART;TZID=America/New_York:20250516T190000
DTEND;TZID=America/New_York:20250516T210000
DTSTAMP:20260423T170844
CREATED:20250511T224307Z
LAST-MODIFIED:20250511T224307Z
UID:10001210-1747422000-1747429200@chapters.theprimetimersww.com
SUMMARY:FRI - 7:00 PM - Indianapolis Symphony - Dvorak Violin Concerto - Richard Lin performing
DESCRIPTION:2018 IVCI Gold Medalist Richard Lin performs the Dvorak Violin Concerto with the Indianapolis Symphony Orchestra on Friday May 16 at 7pm. Richard’s performance is being sponsored by PT Indy member Steve Hamilton in memory of his late husband and PT Indy member\, Keith Norwalk. \nIf you have questions\, contact Steve Hamilton: stevehamilton55@aol.com
URL:https://chapters.theprimetimersww.com/indianapolis/event/fri-700-pm-indianapolis-symphony-dvorak-violin-concerto-richard-lin-performing/
LOCATION:Hilbert Circle Theatre\, 45 Monument Circle\, Indianapolis\, IN\, 46204\, United States
END:VEVENT
END:VCALENDAR