BEGIN:VCALENDAR
VERSION:2.0
PRODID:-//PrimeTimers Indianapolis - ECPv6.15.20//NONSGML v1.0//EN
CALSCALE:GREGORIAN
METHOD:PUBLISH
X-WR-CALNAME:PrimeTimers Indianapolis
X-ORIGINAL-URL:https://chapters.theprimetimersww.com/indianapolis
X-WR-CALDESC:Events for PrimeTimers Indianapolis
REFRESH-INTERVAL;VALUE=DURATION:PT1H
X-Robots-Tag:noindex
X-PUBLISHED-TTL:PT1H
BEGIN:VTIMEZONE
TZID:America/New_York
BEGIN:DAYLIGHT
TZOFFSETFROM:-0500
TZOFFSETTO:-0400
TZNAME:EDT
DTSTART:20240310T070000
END:DAYLIGHT
BEGIN:STANDARD
TZOFFSETFROM:-0400
TZOFFSETTO:-0500
TZNAME:EST
DTSTART:20241103T060000
END:STANDARD
BEGIN:DAYLIGHT
TZOFFSETFROM:-0500
TZOFFSETTO:-0400
TZNAME:EDT
DTSTART:20250309T070000
END:DAYLIGHT
BEGIN:STANDARD
TZOFFSETFROM:-0400
TZOFFSETTO:-0500
TZNAME:EST
DTSTART:20251102T060000
END:STANDARD
BEGIN:DAYLIGHT
TZOFFSETFROM:-0500
TZOFFSETTO:-0400
TZNAME:EDT
DTSTART:20260308T070000
END:DAYLIGHT
BEGIN:STANDARD
TZOFFSETFROM:-0400
TZOFFSETTO:-0500
TZNAME:EST
DTSTART:20261101T060000
END:STANDARD
END:VTIMEZONE
BEGIN:VEVENT
DTSTART;TZID=America/New_York:20250822T183000
DTEND;TZID=America/New_York:20250822T220000
DTSTAMP:20260420T024739
CREATED:20250503T215206Z
LAST-MODIFIED:20250503T215206Z
UID:10001203-1755887400-1755900000@chapters.theprimetimersww.com
SUMMARY:FRI - 6:30 PM - Symphony the Prairie - RSVP Required
DESCRIPTION:Join Prime Timers for Neil Forever: The Music of Neil Diamond \nPlease bring a dish or snacks to share as we will have a table reserved. \nRSVP: stevehamilton55@aol.com \n 
URL:https://chapters.theprimetimersww.com/indianapolis/event/fri-630-pm-symphony-the-prairie-rsvp-required-2/
LOCATION:Symphony On The Prairie\, 13400 Allisonville Rd\, Fishers\, 46038\, United States
ATTACH;FMTTYPE=image/jpeg:https://chapters.theprimetimersww.com/indianapolis/wp-content/uploads/2024/06/note.jpeg
END:VEVENT
END:VCALENDAR