BEGIN:VCALENDAR
VERSION:2.0
PRODID:-//PrimeTimers Indianapolis - ECPv6.15.20//NONSGML v1.0//EN
CALSCALE:GREGORIAN
METHOD:PUBLISH
X-WR-CALNAME:PrimeTimers Indianapolis
X-ORIGINAL-URL:https://chapters.theprimetimersww.com/indianapolis
X-WR-CALDESC:Events for PrimeTimers Indianapolis
REFRESH-INTERVAL;VALUE=DURATION:PT1H
X-Robots-Tag:noindex
X-PUBLISHED-TTL:PT1H
BEGIN:VTIMEZONE
TZID:America/New_York
BEGIN:DAYLIGHT
TZOFFSETFROM:-0500
TZOFFSETTO:-0400
TZNAME:EDT
DTSTART:20240310T070000
END:DAYLIGHT
BEGIN:STANDARD
TZOFFSETFROM:-0400
TZOFFSETTO:-0500
TZNAME:EST
DTSTART:20241103T060000
END:STANDARD
BEGIN:DAYLIGHT
TZOFFSETFROM:-0500
TZOFFSETTO:-0400
TZNAME:EDT
DTSTART:20250309T070000
END:DAYLIGHT
BEGIN:STANDARD
TZOFFSETFROM:-0400
TZOFFSETTO:-0500
TZNAME:EST
DTSTART:20251102T060000
END:STANDARD
BEGIN:DAYLIGHT
TZOFFSETFROM:-0500
TZOFFSETTO:-0400
TZNAME:EDT
DTSTART:20260308T070000
END:DAYLIGHT
BEGIN:STANDARD
TZOFFSETFROM:-0400
TZOFFSETTO:-0500
TZNAME:EST
DTSTART:20261101T060000
END:STANDARD
END:VTIMEZONE
BEGIN:VEVENT
DTSTART;TZID=America/New_York:20251227T183000
DTEND;TZID=America/New_York:20251227T210000
DTSTAMP:20260419T170205
CREATED:20221129T060231Z
LAST-MODIFIED:20241222T181636Z
UID:10000035-1766860200-1766869200@chapters.theprimetimersww.com
SUMMARY:Sat-Holiday Party at George's Neighborhood Grill- 6:30 PM Dinner-RSVP required
DESCRIPTION:Please RSVP to kws82751@gmail.com.\nHint:  George’s Neighborhood Grill is off of Binford Avenue south of 71st Street
URL:https://chapters.theprimetimersww.com/indianapolis/event/wed-630-pm-holiday-party-drinks-700-pm-dinner-at-hollyhock-hill-rsvp-required/
LOCATION:George’s Neighborhood Grill\, 6935 Lake Plaza Drive (off of Binford Avenue south of 71st Street)\, Indianapolis\, IN\, 46220\, United States
ATTACH;FMTTYPE=image/jpeg:https://chapters.theprimetimersww.com/indianapolis/wp-content/uploads/2022/11/Logo-Georges.jpg
END:VEVENT
END:VCALENDAR