BEGIN:VCALENDAR
VERSION:2.0
PRODID:-//PrimeTimers Indianapolis - ECPv6.15.20//NONSGML v1.0//EN
CALSCALE:GREGORIAN
METHOD:PUBLISH
X-WR-CALNAME:PrimeTimers Indianapolis
X-ORIGINAL-URL:https://chapters.theprimetimersww.com/indianapolis
X-WR-CALDESC:Events for PrimeTimers Indianapolis
REFRESH-INTERVAL;VALUE=DURATION:PT1H
X-Robots-Tag:noindex
X-PUBLISHED-TTL:PT1H
BEGIN:VTIMEZONE
TZID:America/New_York
BEGIN:DAYLIGHT
TZOFFSETFROM:-0500
TZOFFSETTO:-0400
TZNAME:EDT
DTSTART:20250309T070000
END:DAYLIGHT
BEGIN:STANDARD
TZOFFSETFROM:-0400
TZOFFSETTO:-0500
TZNAME:EST
DTSTART:20251102T060000
END:STANDARD
BEGIN:DAYLIGHT
TZOFFSETFROM:-0500
TZOFFSETTO:-0400
TZNAME:EDT
DTSTART:20260308T070000
END:DAYLIGHT
BEGIN:STANDARD
TZOFFSETFROM:-0400
TZOFFSETTO:-0500
TZNAME:EST
DTSTART:20261101T060000
END:STANDARD
BEGIN:DAYLIGHT
TZOFFSETFROM:-0500
TZOFFSETTO:-0400
TZNAME:EDT
DTSTART:20270314T070000
END:DAYLIGHT
BEGIN:STANDARD
TZOFFSETFROM:-0400
TZOFFSETTO:-0500
TZNAME:EST
DTSTART:20271107T060000
END:STANDARD
END:VTIMEZONE
BEGIN:VEVENT
DTSTART;TZID=America/New_York:20260430T183000
DTEND;TZID=America/New_York:20260430T200000
DTSTAMP:20260419T170210
CREATED:20260201T234218Z
LAST-MODIFIED:20260227T222209Z
UID:10001538-1777573800-1777579200@chapters.theprimetimersww.com
SUMMARY:THUR - 6:30 pm - Dining Out For Life - RSVP Required
DESCRIPTION:Join Prime Timers for Dining Out For Life \nat George’s Neighborhood Grill\, 6935 Lake Plaza Drive \nRSVP: kws82751@gmail.com
URL:https://chapters.theprimetimersww.com/indianapolis/event/thur-630-pm-dining-out-for-life-rsvp-required/
LOCATION:George’s Neighborhood Grill\, 6935 Lake Plaza Drive (off of Binford Avenue south of 71st Street)\, Indianapolis\, IN\, 46220\, United States
END:VEVENT
END:VCALENDAR