BEGIN:VCALENDAR
VERSION:2.0
PRODID:-//PrimeTimers Indianapolis - ECPv6.15.20//NONSGML v1.0//EN
CALSCALE:GREGORIAN
METHOD:PUBLISH
X-ORIGINAL-URL:https://chapters.theprimetimersww.com/indianapolis
X-WR-CALDESC:Events for PrimeTimers Indianapolis
REFRESH-INTERVAL;VALUE=DURATION:PT1H
X-Robots-Tag:noindex
X-PUBLISHED-TTL:PT1H
BEGIN:VTIMEZONE
TZID:America/New_York
BEGIN:DAYLIGHT
TZOFFSETFROM:-0500
TZOFFSETTO:-0400
TZNAME:EDT
DTSTART:20220313T070000
END:DAYLIGHT
BEGIN:STANDARD
TZOFFSETFROM:-0400
TZOFFSETTO:-0500
TZNAME:EST
DTSTART:20221106T060000
END:STANDARD
BEGIN:DAYLIGHT
TZOFFSETFROM:-0500
TZOFFSETTO:-0400
TZNAME:EDT
DTSTART:20230312T070000
END:DAYLIGHT
BEGIN:STANDARD
TZOFFSETFROM:-0400
TZOFFSETTO:-0500
TZNAME:EST
DTSTART:20231105T060000
END:STANDARD
BEGIN:DAYLIGHT
TZOFFSETFROM:-0500
TZOFFSETTO:-0400
TZNAME:EDT
DTSTART:20240310T070000
END:DAYLIGHT
BEGIN:STANDARD
TZOFFSETFROM:-0400
TZOFFSETTO:-0500
TZNAME:EST
DTSTART:20241103T060000
END:STANDARD
END:VTIMEZONE
BEGIN:VEVENT
DTSTART;TZID=America/New_York:20231110T173000
DTEND;TZID=America/New_York:20231110T220000
DTSTAMP:20260423T083700
CREATED:20231027T215240Z
LAST-MODIFIED:20231028T135246Z
UID:10000084-1699637400-1699653600@chapters.theprimetimersww.com
SUMMARY:Dinner and Theater - RSVP
DESCRIPTION:Join Prime Timers for Dinner at Aristocrat Pub & Oxford Room then see “A Lion in Winter” at CTS’ Shelton Auditorium. \nLion in Winter tickets: https://butlerartscenter.org/performance/lion-in-winter \nRSVP for Dinner to Kent: kws82751@gmail.com
URL:https://chapters.theprimetimersww.com/indianapolis/event/dinner-and-theater-rsvp-2/
LOCATION:Aristocrat Pub & Oxford Room\, 5212 N College Ave\, Indianapolis\, IN\, 46220
END:VEVENT
BEGIN:VEVENT
DTSTART;TZID=America/New_York:20231118T180000
DTEND;TZID=America/New_York:20231118T210000
DTSTAMP:20260423T083700
CREATED:20221129T062712Z
LAST-MODIFIED:20231016T171648Z
UID:10000060-1700330400-1700341200@chapters.theprimetimersww.com
SUMMARY:SAT 6:00 PM - Pitch-in Dinner - RSVP required
DESCRIPTION:Please RSVP to kws82751@gmail.com.
URL:https://chapters.theprimetimersww.com/indianapolis/event/sat-600-pm-pitch-in-dinner-rsvp-required-12/
LOCATION:Pitch-In\, 4902 Oakwood Trail\, Indianapolis\, IN\, 46268\, United States
ATTACH;FMTTYPE=image/jpeg:https://chapters.theprimetimersww.com/indianapolis/wp-content/uploads/2022/11/food-gd549ed460_640-e1668215908696.jpg
END:VEVENT
BEGIN:VEVENT
DTSTART;TZID=America/New_York:20231126T143000
DTEND;TZID=America/New_York:20231126T170000
DTSTAMP:20260423T083700
CREATED:20231119T105538Z
LAST-MODIFIED:20231119T105538Z
UID:10000086-1701009000-1701018000@chapters.theprimetimersww.com
SUMMARY:Footlite Musicals and Dinner at English Ivy's
DESCRIPTION:Join the Prime Timers for a “Footlite Family Holiday” at Footlite Musicals then enjoy dinner at English Ivy’s. \nPlease RSVP to kws82751@gmail.com
URL:https://chapters.theprimetimersww.com/indianapolis/event/footlite-musicals-and-dinner-at-english-ivys/
LOCATION:SAT – 7:30 – Kinky Boots @ Footlite Musicals – RSVP Required\, 1847 North Alabama Street.\, Indianapolis\, IN\, 46202\, United States
END:VEVENT
END:VCALENDAR