BEGIN:VCALENDAR
VERSION:2.0
PRODID:-//PrimeTimers Indianapolis - ECPv6.15.20//NONSGML v1.0//EN
CALSCALE:GREGORIAN
METHOD:PUBLISH
X-ORIGINAL-URL:https://chapters.theprimetimersww.com/indianapolis
X-WR-CALDESC:Events for PrimeTimers Indianapolis
REFRESH-INTERVAL;VALUE=DURATION:PT1H
X-Robots-Tag:noindex
X-PUBLISHED-TTL:PT1H
BEGIN:VTIMEZONE
TZID:America/New_York
BEGIN:DAYLIGHT
TZOFFSETFROM:-0500
TZOFFSETTO:-0400
TZNAME:EDT
DTSTART:20230312T070000
END:DAYLIGHT
BEGIN:STANDARD
TZOFFSETFROM:-0400
TZOFFSETTO:-0500
TZNAME:EST
DTSTART:20231105T060000
END:STANDARD
BEGIN:DAYLIGHT
TZOFFSETFROM:-0500
TZOFFSETTO:-0400
TZNAME:EDT
DTSTART:20240310T070000
END:DAYLIGHT
BEGIN:STANDARD
TZOFFSETFROM:-0400
TZOFFSETTO:-0500
TZNAME:EST
DTSTART:20241103T060000
END:STANDARD
BEGIN:DAYLIGHT
TZOFFSETFROM:-0500
TZOFFSETTO:-0400
TZNAME:EDT
DTSTART:20250309T070000
END:DAYLIGHT
BEGIN:STANDARD
TZOFFSETFROM:-0400
TZOFFSETTO:-0500
TZNAME:EST
DTSTART:20251102T060000
END:STANDARD
END:VTIMEZONE
BEGIN:VEVENT
DTSTART;TZID=America/New_York:20240105T183000
DTEND;TZID=America/New_York:20240105T220000
DTSTAMP:20260423T082016
CREATED:20230110T023151Z
LAST-MODIFIED:20231211T191754Z
UID:10000072-1704479400-1704492000@chapters.theprimetimersww.com
SUMMARY:FRI 6:30 PM - Game Night & Pizza - RSVP required
DESCRIPTION:This event is hosted by Michael L.  Pizza will be served. \nPlease bring a $2 contribution for the pizza\, a snack to share\, and your beverage of choice. \nPlease RSVP to kws82751@gmail.com
URL:https://chapters.theprimetimersww.com/indianapolis/event/fri-630-pm-game-night-pizza-rsvp-required-9/
LOCATION:Game Night\, 25 East 40th Street\, Indianapolis\, IN\, 46205\, United States
ATTACH;FMTTYPE=image/jpeg:https://chapters.theprimetimersww.com/indianapolis/wp-content/uploads/2022/11/Dominos-e1668204776163.jpg
END:VEVENT
BEGIN:VEVENT
DTSTART;TZID=America/New_York:20240114T133000
DTEND;TZID=America/New_York:20240114T153000
DTSTAMP:20260423T082016
CREATED:20221128T231957Z
LAST-MODIFIED:20231211T203331Z
UID:10000021-1705239000-1705246200@chapters.theprimetimersww.com
SUMMARY:SUN 1:30 PM First Watch (Downtown) - RSVP required
DESCRIPTION:Please RSVP to kws82751@gmail.com
URL:https://chapters.theprimetimersww.com/indianapolis/event/sun-130-pm-brunch-at-big-bear-biscuits-rsvp-required/
LOCATION:First Watch\, 143 N. Illinois Street\, Indianapolis\, 46204\, United States
ATTACH;FMTTYPE=image/png:https://chapters.theprimetimersww.com/indianapolis/wp-content/uploads/2022/11/Unknown.png
END:VEVENT
BEGIN:VEVENT
DTSTART;TZID=America/New_York:20240117T183000
DTEND;TZID=America/New_York:20240117T210000
DTSTAMP:20260423T082016
CREATED:20231211T200116Z
LAST-MODIFIED:20231211T200116Z
UID:10000096-1705516200-1705525200@chapters.theprimetimersww.com
SUMMARY:WED 6:30pm - Trivia Night - RSVP Required
DESCRIPTION:Join us at Trivia Night every third Wednesday of the month. \nPlease RSVP at Scott.trout@gmail.com
URL:https://chapters.theprimetimersww.com/indianapolis/event/wed-630pm-trivia-night-rsvp-required/2024-01-17/
LOCATION:Trivia Night\, 714 N. Capitol Ave.\, Indianapolis\, IN\, 46204\, United States
ATTACH;FMTTYPE=image/webp:https://chapters.theprimetimersww.com/indianapolis/wp-content/uploads/2023/07/Logo-Brewlink.webp
ORGANIZER;CN="Scott":MAILTO:Scott.trout@gmail.com
END:VEVENT
BEGIN:VEVENT
DTSTART;TZID=America/New_York:20240120T180000
DTEND;TZID=America/New_York:20240120T210000
DTSTAMP:20260423T082016
CREATED:20221129T061301Z
LAST-MODIFIED:20231211T194127Z
UID:10000039-1705773600-1705784400@chapters.theprimetimersww.com
SUMMARY:SAT 6:00 PM - Pitch-in Dinner - RSVP required
DESCRIPTION:Please RSVP to kws82751@gmail.com.
URL:https://chapters.theprimetimersww.com/indianapolis/event/sat-600-pm-pitch-in-dinner-rsvp-required-2/
LOCATION:Pitch-In\, 4902 Oakwood Trail\, Indianapolis\, IN\, 46268\, United States
ATTACH;FMTTYPE=image/jpeg:https://chapters.theprimetimersww.com/indianapolis/wp-content/uploads/2022/11/food-gd549ed460_640-e1668215908696.jpg
END:VEVENT
BEGIN:VEVENT
DTSTART;TZID=America/New_York:20240124T170000
DTEND;TZID=America/New_York:20240124T213000
DTSTAMP:20260423T082016
CREATED:20231220T222816Z
LAST-MODIFIED:20240102T222043Z
UID:10000206-1706115600-1706131800@chapters.theprimetimersww.com
SUMMARY:Chamber Music Society of Lincoln Center
DESCRIPTION:Join Prime Timers for the Chamber Music Society of Lincoln Center.  Prime Timers Member Steve Hamilton is sponsoring the event in memory of his deceased husband and former Prime Time member Keith O. Norwalk. Tickets for the performance can be purchased at www.violin.org \nAlso\, Join us for dinner at English Ivy’s Restaurant prior to the performance at 5:00 pm.  Performance starts at 7:30
URL:https://chapters.theprimetimersww.com/indianapolis/event/chamber-music-society-of-lincoln-center/
LOCATION:Indiana Landmarks Center\, 1201 Central Avenue\, Indianapolis\, 46202\, United States
ATTACH;FMTTYPE=image/jpeg:https://chapters.theprimetimersww.com/indianapolis/wp-content/uploads/2023/12/CMS_Square_fullcolor.jpg
END:VEVENT
BEGIN:VEVENT
DTSTART;TZID=America/New_York:20240131T183000
DTEND;TZID=America/New_York:20240131T210000
DTSTAMP:20260423T082016
CREATED:20231211T223436Z
LAST-MODIFIED:20231211T223436Z
UID:10000125-1706725800-1706734800@chapters.theprimetimersww.com
SUMMARY:WED 6:30 PM  Dinner at Hibachi Grill - RSVP required
DESCRIPTION:Please RSVP to kws82751@gmail.com
URL:https://chapters.theprimetimersww.com/indianapolis/event/wed-630-pm-dinner-at-hibachi-grill-rsvp-required/
LOCATION:Hibachi Grill\, 7737 US 31 South\, Indianapolis\, IN\, 46227\, United States
ATTACH;FMTTYPE=image/jpeg:https://chapters.theprimetimersww.com/indianapolis/wp-content/uploads/2022/11/Logo-Hibachi-Grill-e1669677767930.jpg
END:VEVENT
END:VCALENDAR