BEGIN:VCALENDAR
VERSION:2.0
PRODID:-//PrimeTimers Indianapolis - ECPv6.15.20//NONSGML v1.0//EN
CALSCALE:GREGORIAN
METHOD:PUBLISH
X-WR-CALNAME:PrimeTimers Indianapolis
X-ORIGINAL-URL:https://chapters.theprimetimersww.com/indianapolis
X-WR-CALDESC:Events for PrimeTimers Indianapolis
REFRESH-INTERVAL;VALUE=DURATION:PT1H
X-Robots-Tag:noindex
X-PUBLISHED-TTL:PT1H
BEGIN:VTIMEZONE
TZID:America/New_York
BEGIN:DAYLIGHT
TZOFFSETFROM:-0500
TZOFFSETTO:-0400
TZNAME:EDT
DTSTART:20230312T070000
END:DAYLIGHT
BEGIN:STANDARD
TZOFFSETFROM:-0400
TZOFFSETTO:-0500
TZNAME:EST
DTSTART:20231105T060000
END:STANDARD
BEGIN:DAYLIGHT
TZOFFSETFROM:-0500
TZOFFSETTO:-0400
TZNAME:EDT
DTSTART:20240310T070000
END:DAYLIGHT
BEGIN:STANDARD
TZOFFSETFROM:-0400
TZOFFSETTO:-0500
TZNAME:EST
DTSTART:20241103T060000
END:STANDARD
BEGIN:DAYLIGHT
TZOFFSETFROM:-0500
TZOFFSETTO:-0400
TZNAME:EDT
DTSTART:20250309T070000
END:DAYLIGHT
BEGIN:STANDARD
TZOFFSETFROM:-0400
TZOFFSETTO:-0500
TZNAME:EST
DTSTART:20251102T060000
END:STANDARD
END:VTIMEZONE
BEGIN:VEVENT
DTSTART;TZID=America/New_York:20240202T183000
DTEND;TZID=America/New_York:20240202T220000
DTSTAMP:20260423T171905
CREATED:20231211T191928Z
LAST-MODIFIED:20240129T154909Z
UID:10000070-1706898600-1706911200@chapters.theprimetimersww.com
SUMMARY:FRI 6:30 PM - Game Night & Pizza - RSVP required
DESCRIPTION:This event is hosted by Michael L.  Pizza will be served. \nPlease bring a $2 contribution for the pizza\, a snack to share\, and your beverage of choice. \n RSVP to kws82751@gmail.com 
URL:https://chapters.theprimetimersww.com/indianapolis/event/fri-630-pm-game-night-pizza-rsvp-required-8-2/
LOCATION:Game Night\, 25 East 40th Street\, Indianapolis\, IN\, 46205\, United States
END:VEVENT
BEGIN:VEVENT
DTSTART;TZID=America/New_York:20240205T120000
DTEND;TZID=America/New_York:20240205T133000
DTSTAMP:20260423T171905
CREATED:20231220T170722Z
LAST-MODIFIED:20241222T180344Z
UID:10000146-1707134400-1707139800@chapters.theprimetimersww.com
SUMMARY:First Monday Lunch - Lincoln Square Restaurant
DESCRIPTION:Join Prime Timers for a casual lunch at Lincoln Square Restaurant.  No need to RSVP.
URL:https://chapters.theprimetimersww.com/indianapolis/event/first-monday-lunch-lincoln-square-resturant/2024-02-05/
LOCATION:Lincolon Square Resturant\, 2330 North Meridan Street\, Indianapolis\, 46208\, United States
ATTACH;FMTTYPE=image/png:https://chapters.theprimetimersww.com/indianapolis/wp-content/uploads/2023/12/logo.png
END:VEVENT
BEGIN:VEVENT
DTSTART;TZID=America/New_York:20240217T180000
DTEND;TZID=America/New_York:20240217T210000
DTSTAMP:20260423T171905
CREATED:20221129T062435Z
LAST-MODIFIED:20231211T194324Z
UID:10000057-1708192800-1708203600@chapters.theprimetimersww.com
SUMMARY:SAT 6:00 PM - Pitch-in Dinner - RSVP required
DESCRIPTION:Please RSVP to kws82751@gmail.com.
URL:https://chapters.theprimetimersww.com/indianapolis/event/sat-600-pm-pitch-in-dinner-rsvp-required-9/
LOCATION:Pitch-In\, 4902 Oakwood Trail\, Indianapolis\, IN\, 46268\, United States
ATTACH;FMTTYPE=image/jpeg:https://chapters.theprimetimersww.com/indianapolis/wp-content/uploads/2022/11/food-gd549ed460_640-e1668215908696.jpg
END:VEVENT
BEGIN:VEVENT
DTSTART;TZID=America/New_York:20240221T183000
DTEND;TZID=America/New_York:20240221T210000
DTSTAMP:20260423T171905
CREATED:20231211T200310Z
LAST-MODIFIED:20231211T200310Z
UID:10000102-1708540200-1708549200@chapters.theprimetimersww.com
SUMMARY:WED 6:30pm - Trivia Night - RSVP Required
DESCRIPTION:Join us at Trivia Night every third Wednesday of the month. \nPlease RSVP at Scott.trout@gmail.com
URL:https://chapters.theprimetimersww.com/indianapolis/event/wed-630pm-trivia-night-rsvp-required-2/2024-02-21/
LOCATION:Trivia Night\, 714 N. Capitol Ave.\, Indianapolis\, IN\, 46204\, United States
ATTACH;FMTTYPE=image/webp:https://chapters.theprimetimersww.com/indianapolis/wp-content/uploads/2023/07/Logo-Brewlink.webp
ORGANIZER;CN="Scott":MAILTO:Scott.trout@gmail.com
END:VEVENT
END:VCALENDAR