BEGIN:VCALENDAR
VERSION:2.0
PRODID:-//PrimeTimers Indianapolis - ECPv6.15.20//NONSGML v1.0//EN
CALSCALE:GREGORIAN
METHOD:PUBLISH
X-WR-CALNAME:PrimeTimers Indianapolis
X-ORIGINAL-URL:https://chapters.theprimetimersww.com/indianapolis
X-WR-CALDESC:Events for PrimeTimers Indianapolis
REFRESH-INTERVAL;VALUE=DURATION:PT1H
X-Robots-Tag:noindex
X-PUBLISHED-TTL:PT1H
BEGIN:VTIMEZONE
TZID:America/New_York
BEGIN:DAYLIGHT
TZOFFSETFROM:-0500
TZOFFSETTO:-0400
TZNAME:EDT
DTSTART:20240310T070000
END:DAYLIGHT
BEGIN:STANDARD
TZOFFSETFROM:-0400
TZOFFSETTO:-0500
TZNAME:EST
DTSTART:20241103T060000
END:STANDARD
BEGIN:DAYLIGHT
TZOFFSETFROM:-0500
TZOFFSETTO:-0400
TZNAME:EDT
DTSTART:20250309T070000
END:DAYLIGHT
BEGIN:STANDARD
TZOFFSETFROM:-0400
TZOFFSETTO:-0500
TZNAME:EST
DTSTART:20251102T060000
END:STANDARD
BEGIN:DAYLIGHT
TZOFFSETFROM:-0500
TZOFFSETTO:-0400
TZNAME:EDT
DTSTART:20260308T070000
END:DAYLIGHT
BEGIN:STANDARD
TZOFFSETFROM:-0400
TZOFFSETTO:-0500
TZNAME:EST
DTSTART:20261101T060000
END:STANDARD
END:VTIMEZONE
BEGIN:VEVENT
DTSTART;TZID=America/New_York:20250404T183000
DTEND;TZID=America/New_York:20250404T220000
DTSTAMP:20260423T171909
CREATED:20241221T232304Z
LAST-MODIFIED:20241221T232304Z
UID:10000431-1743791400-1743804000@chapters.theprimetimersww.com
SUMMARY:FRI 6:30 PM - Game Night & Pizza - RSVP required
DESCRIPTION:This event is hosted by Michael L.  Pizza will be served. \nPlease bring a $2 contribution for the pizza\, a snack to share\, and your beverage of choice. \nPlease RSVP to kws82751@gmail.com
URL:https://chapters.theprimetimersww.com/indianapolis/event/fri-630-pm-game-night-pizza-rsvp-required-11/2025-04-04/
LOCATION:IN
ATTACH;FMTTYPE=image/jpeg:https://chapters.theprimetimersww.com/indianapolis/wp-content/uploads/2022/11/Dominos-e1668204776163.jpg
END:VEVENT
BEGIN:VEVENT
DTSTART;TZID=America/New_York:20250407T120000
DTEND;TZID=America/New_York:20250407T133000
DTSTAMP:20260423T171909
CREATED:20250217T225510Z
LAST-MODIFIED:20250217T225511Z
UID:10001090-1744027200-1744032600@chapters.theprimetimersww.com
SUMMARY:First Monday Lunch - Lincoln Square Restaurant
DESCRIPTION:Join Prime Timers for a casual lunch at Lincoln Square Restaurant.  No need to RSVP.
URL:https://chapters.theprimetimersww.com/indianapolis/event/first-monday-lunch-lincoln-square-resturant-4/2025-04-07/
LOCATION:Lincolon Square Resturant\, 2330 North Meridan Street\, Indianapolis\, 46208\, United States
ATTACH;FMTTYPE=image/png:https://chapters.theprimetimersww.com/indianapolis/wp-content/uploads/2023/12/logo.png
END:VEVENT
BEGIN:VEVENT
DTSTART;TZID=America/New_York:20250409T190000
DTEND;TZID=America/New_York:20250409T210000
DTSTAMP:20260423T171909
CREATED:20241221T233754Z
LAST-MODIFIED:20250511T213645Z
UID:10000552-1744225200-1744232400@chapters.theprimetimersww.com
SUMMARY:WED 7:00 pm - Book Club - RSVP Required
DESCRIPTION:Join PTI for their monthly Book Club hosted by \n  \n  \nRSVP: kknotts2347@yahoo.com
URL:https://chapters.theprimetimersww.com/indianapolis/event/wed-630pm-book-club-rsvp-required/2025-04-09/
LOCATION:IN
ATTACH;FMTTYPE=image/jpeg:https://chapters.theprimetimersww.com/indianapolis/wp-content/uploads/2024/09/book-icon-black-good-galleries-24.jpg
END:VEVENT
BEGIN:VEVENT
DTSTART;TZID=America/New_York:20250410T190000
DTEND;TZID=America/New_York:20250410T210000
DTSTAMP:20260423T171909
CREATED:20240706T204711Z
LAST-MODIFIED:20251213T215449Z
UID:10000612-1744311600-1744318800@chapters.theprimetimersww.com
SUMMARY:Euchre Night - RSVP
DESCRIPTION:Hosted by Michael\, 25 E 40th Street\, Apt 3J\, Intercom code 262 \nBring a snack to share and the beverage of your choice. \nThere will not be pizza for the Euchre game night. \nPlease RSVP to kws82751@gmail.com
URL:https://chapters.theprimetimersww.com/indianapolis/event/euchre-night-rsvp/2025-04-10/
LOCATION:Game Night\, 25 East 40th Street\, Indianapolis\, IN\, 46205\, United States
ATTACH;FMTTYPE=image/jpeg:https://chapters.theprimetimersww.com/indianapolis/wp-content/uploads/2024/07/cards.jpg
END:VEVENT
BEGIN:VEVENT
DTSTART;TZID=America/New_York:20250413T130000
DTEND;TZID=America/New_York:20250413T150000
DTSTAMP:20260423T171909
CREATED:20250317T174248Z
LAST-MODIFIED:20250317T174248Z
UID:10001192-1744549200-1744556400@chapters.theprimetimersww.com
SUMMARY:Prime Timers Walk -  RSVP
DESCRIPTION:Join Prime Timers for a walk at Holiday Park. \n  \nQuestions and RSVP to Jeff: jeffjonesjlj@gmail.com
URL:https://chapters.theprimetimersww.com/indianapolis/event/prime-timers-walk-rsvp-7/
LOCATION:IN
END:VEVENT
BEGIN:VEVENT
DTSTART;TZID=America/New_York:20250415T190000
DTEND;TZID=America/New_York:20250415T203000
DTSTAMP:20260423T171909
CREATED:20250122T190151Z
LAST-MODIFIED:20250122T190410Z
UID:10000945-1744743600-1744749000@chapters.theprimetimersww.com
SUMMARY:Tues. 7:00 PM Prime Timers Indy Board Meeting
DESCRIPTION:Paid Members are invited to attend the Prime Timers Indianapolis Board Meeting that is held on the third Tuesday of the month.
URL:https://chapters.theprimetimersww.com/indianapolis/event/tues-700-pm-prime-timers-indy-board-meeting/2025-04-15/
LOCATION:Board Meeting\, 25 East 40th Street Unit 3J\, Indianapolis\, 46205\, United States
END:VEVENT
BEGIN:VEVENT
DTSTART;TZID=America/New_York:20250416T183000
DTEND;TZID=America/New_York:20250416T210000
DTSTAMP:20260423T171909
CREATED:20231211T202016Z
LAST-MODIFIED:20241221T232740Z
UID:10000492-1744828200-1744837200@chapters.theprimetimersww.com
SUMMARY:WED 6:30pm - Trivia Night - RSVP Required
DESCRIPTION:  \nJoin us at Trivia Night every third Wednesday of the month. \nPlease RSVP at Scott.trout@gmail.com
URL:https://chapters.theprimetimersww.com/indianapolis/event/wed-630pm-trivia-night-rsvp-required-12/2025-04-16/
LOCATION:Trivia Night\, 714 N. Capitol Ave.\, Indianapolis\, IN\, 46204\, United States
ORGANIZER;CN="Scott":MAILTO:Scott.trout@gmail.com
END:VEVENT
BEGIN:VEVENT
DTSTART;TZID=America/New_York:20250419T170000
DTEND;TZID=America/New_York:20250419T190000
DTSTAMP:20260423T171909
CREATED:20241222T165023Z
LAST-MODIFIED:20250319T144542Z
UID:10000733-1745082000-1745089200@chapters.theprimetimersww.com
SUMMARY:SAT 5:00 PM - Pitch-in Dinner - RSVP required
DESCRIPTION:Join Prime Timers Indy for a pitch-in\n\nPlease RSVP to kws82751@gmail.com.
URL:https://chapters.theprimetimersww.com/indianapolis/event/sat-600-pm-pitch-in-dinner-rsvp-required-15-7/
LOCATION:Pitch-In\, 4902 Oakwood Trail\, Indianapolis\, IN\, 46268\, United States
ATTACH;FMTTYPE=image/jpeg:https://chapters.theprimetimersww.com/indianapolis/wp-content/uploads/2022/11/food-gd549ed460_640-e1668215908696.jpg
END:VEVENT
BEGIN:VEVENT
DTSTART;TZID=America/New_York:20250419T200000
DTEND;TZID=America/New_York:20250419T220000
DTSTAMP:20260423T171909
CREATED:20250319T144959Z
LAST-MODIFIED:20250319T144959Z
UID:10001193-1745092800-1745100000@chapters.theprimetimersww.com
SUMMARY:SAT. 8:00 pm.  Indianapolis Men's Chorus - RSVP
DESCRIPTION:Join PTI members as they attend the Indianapolis Men’s Chorus\nThe IMC will preform at the Warren Performing Arts Center\, 9500 East 16th Door 27.  The performance starts at 8:00.\n\nRSVP: KWS82751@gmail.com\n  \n 
URL:https://chapters.theprimetimersww.com/indianapolis/event/sat-800-pm-indianapolis-mens-chorus-rsvp/
LOCATION:IN
ATTACH;FMTTYPE=image/jpeg:https://chapters.theprimetimersww.com/indianapolis/wp-content/uploads/2023/12/channels4_profile.jpg
END:VEVENT
BEGIN:VEVENT
DTSTART;TZID=America/New_York:20250423T183000
DTEND;TZID=America/New_York:20250423T210000
DTSTAMP:20260423T171909
CREATED:20231211T224813Z
LAST-MODIFIED:20241222T165159Z
UID:10000128-1745433000-1745442000@chapters.theprimetimersww.com
SUMMARY:WED - Annual Meeting - 6:30 PM Dinner at Hollyhock Hill - RSVP required
DESCRIPTION:Please RSVP to kws82751@gmail.com\n\nThis is our annual meeting.
URL:https://chapters.theprimetimersww.com/indianapolis/event/wed-annual-meeting-630-pm-dinner-at-hollyhock-hill-rsvp-required/
LOCATION:Hollyhock Hill\, 8110 North College Avenue\, Indianapolis\, IN\, 46240\, United States
ATTACH;FMTTYPE=image/jpeg:https://chapters.theprimetimersww.com/indianapolis/wp-content/uploads/2022/11/Hollyhock-Hill-logo-e1668215492333.jpg
END:VEVENT
BEGIN:VEVENT
DTSTART;TZID=America/New_York:20250424T183000
DTEND;TZID=America/New_York:20250424T210000
DTSTAMP:20260423T171909
CREATED:20240117T181910Z
LAST-MODIFIED:20241222T164629Z
UID:10000210-1745519400-1745528400@chapters.theprimetimersww.com
SUMMARY:Thurs. Dining out for Life 6:30 pm - RSVP Required.
DESCRIPTION:TBD \n  \nRSVP:  kws82751@gmail.com
URL:https://chapters.theprimetimersww.com/indianapolis/event/thurs-dining-out-for-life-630-pm-rsvp-required/
LOCATION:IN
ATTACH;FMTTYPE=image/png:https://chapters.theprimetimersww.com/indianapolis/wp-content/uploads/2024/01/DOFL-FB1.png
END:VEVENT
BEGIN:VEVENT
DTSTART;TZID=America/New_York:20250427T133000
DTEND;TZID=America/New_York:20250427T153000
DTSTAMP:20260423T171909
CREATED:20231212T000158Z
LAST-MODIFIED:20241222T165342Z
UID:10000144-1745760600-1745767800@chapters.theprimetimersww.com
SUMMARY:SUN 1:30 PM Brunch at English Ivy's - RSVP required
DESCRIPTION:Please RSVP to kws82751@gmail.com
URL:https://chapters.theprimetimersww.com/indianapolis/event/sun-130-pm-brunch-at-english-ivys-rsvp-required/
LOCATION:English Ivy’s\, 944 North Alabama Street\, Indianapolis\, IN\, 46202\, United States
ATTACH;FMTTYPE=image/jpeg:https://chapters.theprimetimersww.com/indianapolis/wp-content/uploads/2022/11/Logo-English-Ivys-e1678996679468.jpg
END:VEVENT
END:VCALENDAR