BEGIN:VCALENDAR
VERSION:2.0
PRODID:-//PrimeTimers Indianapolis - ECPv6.15.20//NONSGML v1.0//EN
CALSCALE:GREGORIAN
METHOD:PUBLISH
X-ORIGINAL-URL:https://chapters.theprimetimersww.com/indianapolis
X-WR-CALDESC:Events for PrimeTimers Indianapolis
REFRESH-INTERVAL;VALUE=DURATION:PT1H
X-Robots-Tag:noindex
X-PUBLISHED-TTL:PT1H
BEGIN:VTIMEZONE
TZID:America/New_York
BEGIN:DAYLIGHT
TZOFFSETFROM:-0500
TZOFFSETTO:-0400
TZNAME:EDT
DTSTART:20240310T070000
END:DAYLIGHT
BEGIN:STANDARD
TZOFFSETFROM:-0400
TZOFFSETTO:-0500
TZNAME:EST
DTSTART:20241103T060000
END:STANDARD
BEGIN:DAYLIGHT
TZOFFSETFROM:-0500
TZOFFSETTO:-0400
TZNAME:EDT
DTSTART:20250309T070000
END:DAYLIGHT
BEGIN:STANDARD
TZOFFSETFROM:-0400
TZOFFSETTO:-0500
TZNAME:EST
DTSTART:20251102T060000
END:STANDARD
BEGIN:DAYLIGHT
TZOFFSETFROM:-0500
TZOFFSETTO:-0400
TZNAME:EDT
DTSTART:20260308T070000
END:DAYLIGHT
BEGIN:STANDARD
TZOFFSETFROM:-0400
TZOFFSETTO:-0500
TZNAME:EST
DTSTART:20261101T060000
END:STANDARD
END:VTIMEZONE
BEGIN:VEVENT
DTSTART;TZID=America/New_York:20250601T150000
DTEND;TZID=America/New_York:20250601T170000
DTSTAMP:20260422T130308
CREATED:20231211T232913Z
LAST-MODIFIED:20241222T182216Z
UID:10000132-1748790000-1748797200@chapters.theprimetimersww.com
SUMMARY:SUN 3:00 pm Indianapolis Men's Chorus Gives Back  - Dinner at McAllister's - RSVP Required
DESCRIPTION:The Indianapolis Men’s Chorus finds it imperative to give back to the community that supports us every step of the way. The annual IMC Gives Back is a benefit concert to do just that. All proceeds from this concert will be donated to a unique nonprofit organization\, one that provides imperative resources and services to the greater Indianapolis area. This year’s recipient is Indiana Youth Group. IYG creates safer spaces to foster community and provides programming that empowers LGBTQ+ youth and magnifies their voices. \nAfter the event joins us at McAllister’s for dinner.   McAllister’s is located at 9450 North Meridian Street\, #C \nPlease RSVP to kws82751@gmail.com
URL:https://chapters.theprimetimersww.com/indianapolis/event/sun-300-pm-indianapolis-mens-chorus-gives-back-rsvp-required/
LOCATION:St. Paul’s Episcopal Church\, 6050 N Meridian Street\, Indianapolis\, 46208\, United States
ATTACH;FMTTYPE=image/jpeg:https://chapters.theprimetimersww.com/indianapolis/wp-content/uploads/2023/12/channels4_profile.jpg
END:VEVENT
BEGIN:VEVENT
DTSTART;TZID=America/New_York:20250602T120000
DTEND;TZID=America/New_York:20250602T133000
DTSTAMP:20260422T130308
CREATED:20250217T225510Z
LAST-MODIFIED:20250217T225511Z
UID:10001142-1748865600-1748871000@chapters.theprimetimersww.com
SUMMARY:First Monday Lunch - Lincoln Square Restaurant
DESCRIPTION:Join Prime Timers for a casual lunch at Lincoln Square Restaurant.  No need to RSVP.
URL:https://chapters.theprimetimersww.com/indianapolis/event/first-monday-lunch-lincoln-square-resturant-4/2025-06-02/
LOCATION:Lincolon Square Resturant\, 2330 North Meridan Street\, Indianapolis\, 46208\, United States
ATTACH;FMTTYPE=image/png:https://chapters.theprimetimersww.com/indianapolis/wp-content/uploads/2023/12/logo.png
END:VEVENT
BEGIN:VEVENT
DTSTART;TZID=America/New_York:20250606T183000
DTEND;TZID=America/New_York:20250606T220000
DTSTAMP:20260422T130308
CREATED:20241221T232304Z
LAST-MODIFIED:20241221T232304Z
UID:10000433-1749234600-1749247200@chapters.theprimetimersww.com
SUMMARY:FRI 6:30 PM - Game Night & Pizza - RSVP required
DESCRIPTION:This event is hosted by Michael L.  Pizza will be served. \nPlease bring a $2 contribution for the pizza\, a snack to share\, and your beverage of choice. \nPlease RSVP to kws82751@gmail.com
URL:https://chapters.theprimetimersww.com/indianapolis/event/fri-630-pm-game-night-pizza-rsvp-required-11/2025-06-06/
LOCATION:IN
ATTACH;FMTTYPE=image/jpeg:https://chapters.theprimetimersww.com/indianapolis/wp-content/uploads/2022/11/Dominos-e1668204776163.jpg
END:VEVENT
BEGIN:VEVENT
DTSTART;TZID=America/New_York:20250608T133000
DTEND;TZID=America/New_York:20250608T153000
DTSTAMP:20260422T130308
CREATED:20221128T233803Z
LAST-MODIFIED:20250518T001327Z
UID:10000026-1749389400-1749396600@chapters.theprimetimersww.com
SUMMARY:SUN 1:30 PM Brunch at Another Broken Egg - RSVP required
DESCRIPTION:Please RSVP to kws82751@gmail.com
URL:https://chapters.theprimetimersww.com/indianapolis/event/sun-130-pm-brunch-at-another-broken-egg-rsvp-required/
LOCATION:Another Broken Egg on East 82nd\, 5025 East 82nd Street\, Suite 2500\, Indianapolis\, IN\, 46250\, United States
ATTACH;FMTTYPE=image/jpeg:https://chapters.theprimetimersww.com/indianapolis/wp-content/uploads/2022/11/Logo-Another-Broken-Egg-Cafe.jpg
END:VEVENT
BEGIN:VEVENT
DTSTART;TZID=America/New_York:20250610T180000
DTEND;TZID=America/New_York:20250610T210000
DTSTAMP:20260422T130308
CREATED:20231211T195916Z
LAST-MODIFIED:20241221T234825Z
UID:10001359-1749578400-1749589200@chapters.theprimetimersww.com
SUMMARY:SAT 6:00 PM - Pitch-in Dinner - RSVP required
DESCRIPTION:Join Prime Timers Indy for a pitch-in!  Bring a dish to share.\n\n\n\nPlease RSVP to kws82751@gmail.com.
URL:https://chapters.theprimetimersww.com/indianapolis/event/sat-600-pm-pitch-in-dinner-rsvp-required-15/2025-06-10/
LOCATION:Pitch-In\, 4902 Oakwood Trail\, Indianapolis\, IN\, 46268\, United States
ATTACH;FMTTYPE=image/jpeg:https://chapters.theprimetimersww.com/indianapolis/wp-content/uploads/2022/11/food-gd549ed460_640-e1668215908696.jpg
END:VEVENT
BEGIN:VEVENT
DTSTART;TZID=America/New_York:20250612T190000
DTEND;TZID=America/New_York:20250612T210000
DTSTAMP:20260422T130308
CREATED:20240706T204711Z
LAST-MODIFIED:20251213T215449Z
UID:10000614-1749754800-1749762000@chapters.theprimetimersww.com
SUMMARY:Euchre Night - RSVP
DESCRIPTION:Hosted by Michael\, 25 E 40th Street\, Apt 3J\, Intercom code 262 \nBring a snack to share and the beverage of your choice. \nThere will not be pizza for the Euchre game night. \nPlease RSVP to kws82751@gmail.com
URL:https://chapters.theprimetimersww.com/indianapolis/event/euchre-night-rsvp/2025-06-12/
LOCATION:Game Night\, 25 East 40th Street\, Indianapolis\, IN\, 46205\, United States
ATTACH;FMTTYPE=image/jpeg:https://chapters.theprimetimersww.com/indianapolis/wp-content/uploads/2024/07/cards.jpg
END:VEVENT
BEGIN:VEVENT
DTSTART;TZID=America/New_York:20250614T080000
DTEND;TZID=America/New_York:20250614T093000
DTSTAMP:20260422T130308
CREATED:20250518T234535Z
LAST-MODIFIED:20250518T234535Z
UID:10001216-1749888000-1749893400@chapters.theprimetimersww.com
SUMMARY:Breakfast for Prime Timers participating in the Pride Parade.
DESCRIPTION:PTI members participating in the parade\, Steve Hamilton is preparing breakfast in his condo at 333 Massachusetts Avenue. Please call Steve at (317) 501-0567 to RSVP. Breakfast begins at 8:00 am\, then we will go to the staging station at 9:30 a.m.
URL:https://chapters.theprimetimersww.com/indianapolis/event/breakfast-for-prime-timers-participating-in-the-pride-parade/
LOCATION:IN
ATTACH;FMTTYPE=image/png:https://chapters.theprimetimersww.com/indianapolis/wp-content/uploads/2024/06/images-2.png
END:VEVENT
BEGIN:VEVENT
DTSTART;TZID=America/New_York:20250617T190000
DTEND;TZID=America/New_York:20250617T203000
DTSTAMP:20260422T130308
CREATED:20250122T190151Z
LAST-MODIFIED:20250122T190410Z
UID:10000947-1750186800-1750192200@chapters.theprimetimersww.com
SUMMARY:Tues. 7:00 PM Prime Timers Indy Board Meeting
DESCRIPTION:Paid Members are invited to attend the Prime Timers Indianapolis Board Meeting that is held on the third Tuesday of the month.
URL:https://chapters.theprimetimersww.com/indianapolis/event/tues-700-pm-prime-timers-indy-board-meeting/2025-06-17/
LOCATION:Board Meeting\, 25 East 40th Street Unit 3J\, Indianapolis\, 46205\, United States
END:VEVENT
BEGIN:VEVENT
DTSTART;TZID=America/New_York:20250618T183000
DTEND;TZID=America/New_York:20250618T210000
DTSTAMP:20260422T130308
CREATED:20231211T202016Z
LAST-MODIFIED:20241221T232740Z
UID:10000494-1750271400-1750280400@chapters.theprimetimersww.com
SUMMARY:WED 6:30pm - Trivia Night - RSVP Required
DESCRIPTION:  \nJoin us at Trivia Night every third Wednesday of the month. \nPlease RSVP at Scott.trout@gmail.com
URL:https://chapters.theprimetimersww.com/indianapolis/event/wed-630pm-trivia-night-rsvp-required-12/2025-06-18/
LOCATION:Trivia Night\, 714 N. Capitol Ave.\, Indianapolis\, IN\, 46204\, United States
ORGANIZER;CN="Scott":MAILTO:Scott.trout@gmail.com
END:VEVENT
BEGIN:VEVENT
DTSTART;TZID=America/New_York:20250619T140000
DTEND;TZID=America/New_York:20250619T160000
DTSTAMP:20260422T130308
CREATED:20241222T000153Z
LAST-MODIFIED:20241222T000153Z
UID:10000796-1750341600-1750348800@chapters.theprimetimersww.com
SUMMARY:Prime Timers Walk - RSVP
DESCRIPTION:Join Prime Timers for a walk  location TBD \n  \nQuestions and RSVP to Jeff: jeffjonesjlj@gmail.com
URL:https://chapters.theprimetimersww.com/indianapolis/event/prime-timers-walk-rsvp-5/2025-06-19/
LOCATION:IN
ATTACH;FMTTYPE=image/jpeg:https://chapters.theprimetimersww.com/indianapolis/wp-content/uploads/2023/10/istockphoto-814632144-612x612-1.jpg
END:VEVENT
BEGIN:VEVENT
DTSTART;TZID=America/New_York:20250621T180000
DTEND;TZID=America/New_York:20250621T210000
DTSTAMP:20260422T130308
CREATED:20250518T000742Z
LAST-MODIFIED:20250518T000944Z
UID:10000735-1750528800-1750539600@chapters.theprimetimersww.com
SUMMARY:SAT 6:00 PM - Pitch-in Dinner - RSVP required
DESCRIPTION:Join Prime Timers Indy for a pitch-in!  Bring a dish to share.\n\n\n\nPlease RSVP to kws82751@gmail.com.
URL:https://chapters.theprimetimersww.com/indianapolis/event/sat-600-pm-pitch-in-dinner-rsvp-required-15-8/
LOCATION:Pitch-In\, 4902 Oakwood Trail\, Indianapolis\, IN\, 46268\, United States
ATTACH;FMTTYPE=image/jpeg:https://chapters.theprimetimersww.com/indianapolis/wp-content/uploads/2022/11/food-gd549ed460_640-e1668215908696.jpg
END:VEVENT
BEGIN:VEVENT
DTSTART;TZID=America/New_York:20250625T183000
DTEND;TZID=America/New_York:20250625T210000
DTSTAMP:20260422T130308
CREATED:20231211T234525Z
LAST-MODIFIED:20241222T171006Z
UID:10000135-1750876200-1750885200@chapters.theprimetimersww.com
SUMMARY:WED 6:30 PM Dinner at Dawson's on Main - RSVP required
DESCRIPTION:Please RSVP to kws82751@gmail.com
URL:https://chapters.theprimetimersww.com/indianapolis/event/wed-630-pm-dinner-at-dawsons-on-main-rsvp-required/
LOCATION:Dawson’s on Main\, 1464 Main Street\, Speedway\, IN\, 46224\, United States
ATTACH;FMTTYPE=image/jpeg:https://chapters.theprimetimersww.com/indianapolis/wp-content/uploads/2022/11/Dawsons-Main-logo.jpg
END:VEVENT
BEGIN:VEVENT
DTSTART;TZID=America/New_York:20250628T170000
DTEND;TZID=America/New_York:20250628T210000
DTSTAMP:20260422T130308
CREATED:20250618T025149Z
LAST-MODIFIED:20250618T025149Z
UID:10001229-1751130000-1751144400@chapters.theprimetimersww.com
SUMMARY:SAT 5:00 pm Summer Celebration Open House RSVP required
DESCRIPTION:Brian Army and Dave Craker have graciously opened their home to Prime Timers members to celebrate the beginning of summer. \nBrian and Dave will be furnishing hamburgers and brats along with condiments\, plates\, plastic ware\, and cups\, plus the ice.  Please bring something to share\, an entrée\, side dish\, salad\, or dessert\, along with BYOB.  When you RSVP\, please indicate what you are bringing so we have a variety of items. \nPlease RSVP to dave@craker.net no later than Thursday\, June 26.
URL:https://chapters.theprimetimersww.com/indianapolis/event/sat-500-pm-summer-celebration-open-house-rsvp-required/
LOCATION:Brian & Dave’s Home\, 5756 Madison Anne Court\, Noblesville\, 46062\, United States
END:VEVENT
END:VCALENDAR