BEGIN:VCALENDAR
VERSION:2.0
PRODID:-//PrimeTimers Indianapolis - ECPv6.15.20//NONSGML v1.0//EN
CALSCALE:GREGORIAN
METHOD:PUBLISH
X-WR-CALNAME:PrimeTimers Indianapolis
X-ORIGINAL-URL:https://chapters.theprimetimersww.com/indianapolis
X-WR-CALDESC:Events for PrimeTimers Indianapolis
REFRESH-INTERVAL;VALUE=DURATION:PT1H
X-Robots-Tag:noindex
X-PUBLISHED-TTL:PT1H
BEGIN:VTIMEZONE
TZID:America/New_York
BEGIN:DAYLIGHT
TZOFFSETFROM:-0500
TZOFFSETTO:-0400
TZNAME:EDT
DTSTART:20250309T070000
END:DAYLIGHT
BEGIN:STANDARD
TZOFFSETFROM:-0400
TZOFFSETTO:-0500
TZNAME:EST
DTSTART:20251102T060000
END:STANDARD
BEGIN:DAYLIGHT
TZOFFSETFROM:-0500
TZOFFSETTO:-0400
TZNAME:EDT
DTSTART:20260308T070000
END:DAYLIGHT
BEGIN:STANDARD
TZOFFSETFROM:-0400
TZOFFSETTO:-0500
TZNAME:EST
DTSTART:20261101T060000
END:STANDARD
BEGIN:DAYLIGHT
TZOFFSETFROM:-0500
TZOFFSETTO:-0400
TZNAME:EDT
DTSTART:20270314T070000
END:DAYLIGHT
BEGIN:STANDARD
TZOFFSETFROM:-0400
TZOFFSETTO:-0500
TZNAME:EST
DTSTART:20271107T060000
END:STANDARD
END:VTIMEZONE
BEGIN:VEVENT
DTSTART;TZID=America/New_York:20260302T120000
DTEND;TZID=America/New_York:20260302T133000
DTSTAMP:20260419T151251
CREATED:20250217T225510Z
LAST-MODIFIED:20250217T225511Z
UID:10001150-1772452800-1772458200@chapters.theprimetimersww.com
SUMMARY:First Monday Lunch - Lincoln Square Restaurant
DESCRIPTION:Join Prime Timers for a casual lunch at Lincoln Square Restaurant.  No need to RSVP.
URL:https://chapters.theprimetimersww.com/indianapolis/event/first-monday-lunch-lincoln-square-resturant-4/2026-03-02/
LOCATION:Lincolon Square Resturant\, 2330 North Meridan Street\, Indianapolis\, 46208\, United States
ATTACH;FMTTYPE=image/png:https://chapters.theprimetimersww.com/indianapolis/wp-content/uploads/2023/12/logo.png
END:VEVENT
BEGIN:VEVENT
DTSTART;TZID=America/New_York:20260306T183000
DTEND;TZID=America/New_York:20260306T220000
DTSTAMP:20260419T151251
CREATED:20251213T214315Z
LAST-MODIFIED:20251213T214317Z
UID:10000442-1772821800-1772834400@chapters.theprimetimersww.com
SUMMARY:FRI 6:30 PM - Game Night & Pizza - RSVP required
DESCRIPTION:This event is hosted by Michael L. 25 E 40th Street\, Apt 3J\, Intercom code 262 \nPizza will be served. Please bring a snack to share\, and your beverage of choice. \nYou are also welcome to bring a game. \nPlease RSVP to kws82751@gmail.com
URL:https://chapters.theprimetimersww.com/indianapolis/event/fri-630-pm-game-night-pizza-rsvp-required-11-2-2/2026-03-06/
LOCATION:Michael Landon’s\, 25 E 40th Street\, Indianapolis\, 46205\, United States
ATTACH;FMTTYPE=image/jpeg:https://chapters.theprimetimersww.com/indianapolis/wp-content/uploads/2022/11/Dominos-e1668204776163.jpg
END:VEVENT
BEGIN:VEVENT
DTSTART;TZID=America/New_York:20260311T190000
DTEND;TZID=America/New_York:20260311T203000
DTSTAMP:20260419T151251
CREATED:20251216T205850Z
LAST-MODIFIED:20251216T205850Z
UID:10001353-1773255600-1773261000@chapters.theprimetimersww.com
SUMMARY:WED - 7:00 - PTI Book Club - RSVP
DESCRIPTION:The Prime Timers Book Club will discuss “Gay Poems for Red States” by Willie Edward Taylor Carver\, Jr. \nThe meeting will be at the home of Steve Hamilton. \n333 Massachusetts Ave\, Unit 201 \nRSVP: kknotts2347@yahoo.com 
URL:https://chapters.theprimetimersww.com/indianapolis/event/wed-700-pti-book-club-rsvp/
LOCATION:Steve Hamilton’s Home\, 333 Massachusetts Ave\, Indianapolis\, United States
END:VEVENT
BEGIN:VEVENT
DTSTART;TZID=America/New_York:20260312T190000
DTEND;TZID=America/New_York:20260312T210000
DTSTAMP:20260419T151251
CREATED:20240706T204711Z
LAST-MODIFIED:20251213T215449Z
UID:10000623-1773342000-1773349200@chapters.theprimetimersww.com
SUMMARY:Euchre Night - RSVP
DESCRIPTION:Hosted by Michael\, 25 E 40th Street\, Apt 3J\, Intercom code 262 \nBring a snack to share and the beverage of your choice. \nThere will not be pizza for the Euchre game night. \nPlease RSVP to kws82751@gmail.com
URL:https://chapters.theprimetimersww.com/indianapolis/event/euchre-night-rsvp/2026-03-12/
LOCATION:Game Night\, 25 East 40th Street\, Indianapolis\, IN\, 46205\, United States
ATTACH;FMTTYPE=image/jpeg:https://chapters.theprimetimersww.com/indianapolis/wp-content/uploads/2024/07/cards.jpg
END:VEVENT
BEGIN:VEVENT
DTSTART;TZID=America/New_York:20260313T200000
DTEND;TZID=America/New_York:20260313T220000
DTSTAMP:20260419T151251
CREATED:20260310T001939Z
LAST-MODIFIED:20260310T001939Z
UID:10001558-1773432000-1773439200@chapters.theprimetimersww.com
SUMMARY:FRI - "Six" at the Phoenix Theatre
DESCRIPTION:“Six” a Drag Parody Musical\, 8:00 pm at the Phoenix Theater Cultural Centre\, 705 North Illinois Street\, VIP tickets still available at $52.00
URL:https://chapters.theprimetimersww.com/indianapolis/event/fri-six-at-the-phoenix-theatre/
LOCATION:Phoenix Theatre\, 705 N Illinois St\, Indianapolis\, United States
END:VEVENT
BEGIN:VEVENT
DTSTART;TZID=America/New_York:20260314T170000
DTEND;TZID=America/New_York:20260314T190000
DTSTAMP:20260419T151251
CREATED:20251216T194411Z
LAST-MODIFIED:20251216T214123Z
UID:10001417-1773507600-1773514800@chapters.theprimetimersww.com
SUMMARY:SAT 5:00 PM - Pitch-in Dinner - RSVP required
DESCRIPTION:Join Prime Timers Indy for a pitch-in!  Bring a dish to share.\n\n\n\nPlease RSVP to kws82751@gmail.com.
URL:https://chapters.theprimetimersww.com/indianapolis/event/sat-500-pm-pitch-in-dinner-rsvp-required-15/2026-03-14/
LOCATION:Pitch-In\, 4902 Oakwood Trail\, Indianapolis\, IN\, 46268\, United States
ATTACH;FMTTYPE=image/jpeg:https://chapters.theprimetimersww.com/indianapolis/wp-content/uploads/2022/11/food-gd549ed460_640-e1668215908696.jpg
END:VEVENT
BEGIN:VEVENT
DTSTART;TZID=America/New_York:20260317T190000
DTEND;TZID=America/New_York:20260317T203000
DTSTAMP:20260419T151251
CREATED:20251214T213731Z
LAST-MODIFIED:20251214T213733Z
UID:10000956-1773774000-1773779400@chapters.theprimetimersww.com
SUMMARY:Tues. 7:00 PM Prime Timers Indy Board Meeting
DESCRIPTION:Paid Members are invited to attend the Prime Timers Indianapolis Board Meeting that is held on the third Tuesday of the month. \nHost: Michael Landon\, 25 E 40th Street\, Apt 3J\, Intercom Code 262
URL:https://chapters.theprimetimersww.com/indianapolis/event/tues-700-pm-prime-timers-indy-board-meeting-2/2026-03-17/
LOCATION:Board Meeting\, 25 East 40th Street Unit 3J\, Indianapolis\, 46205\, United States
END:VEVENT
BEGIN:VEVENT
DTSTART;TZID=America/New_York:20260318T183000
DTEND;TZID=America/New_York:20260318T210000
DTSTAMP:20260419T151251
CREATED:20231211T202016Z
LAST-MODIFIED:20241221T232740Z
UID:10000503-1773858600-1773867600@chapters.theprimetimersww.com
SUMMARY:WED 6:30pm - Trivia Night - RSVP Required
DESCRIPTION:  \nJoin us at Trivia Night every third Wednesday of the month. \nPlease RSVP at Scott.trout@gmail.com
URL:https://chapters.theprimetimersww.com/indianapolis/event/wed-630pm-trivia-night-rsvp-required-12/2026-03-18/
LOCATION:Trivia Night\, 714 N. Capitol Ave.\, Indianapolis\, IN\, 46204\, United States
ORGANIZER;CN="Scott":MAILTO:Scott.trout@gmail.com
END:VEVENT
BEGIN:VEVENT
DTSTART;TZID=America/New_York:20260319T140000
DTEND;TZID=America/New_York:20260319T160000
DTSTAMP:20260419T151251
CREATED:20260225T211811Z
LAST-MODIFIED:20260225T211909Z
UID:10001544-1773928800-1773936000@chapters.theprimetimersww.com
SUMMARY:THUR - Prime Timers Walk - 2:00 pm RSVP MANDATORY
DESCRIPTION:The PTI Walk for March will be Thursday the 19th at 2:00 pm. We will walk the Canal Towpath starting at Burdsal Parkway. \nWe will meet at the bridge over the canal. This is the address nearest the bridge: 980 Burdsal Pkwy\, Indianapolis\, IN 46208. Parking is available along Burdsal Parkway. \nRSVP: jeffjonesjlj@gmail.com
URL:https://chapters.theprimetimersww.com/indianapolis/event/thur-prime-timers-walk-200-pm-rsvp-mandatory/
LOCATION:Canal Towpath @ Burdsal Pkwy\, 980 Burdsal Pkwy\, Indianapolis\, United States
END:VEVENT
BEGIN:VEVENT
DTSTART;TZID=America/New_York:20260322T133000
DTEND;TZID=America/New_York:20260322T153000
DTSTAMP:20260419T151251
CREATED:20251216T215224Z
LAST-MODIFIED:20251216T215224Z
UID:10001475-1774186200-1774193400@chapters.theprimetimersww.com
SUMMARY:SUN - 1:30 pm - PTI Brunch - RSVP REQUIRED
DESCRIPTION:Prime Timers March Brunch will be at Lincoln Square Pancake House – Irvington \n5648 E Washington St. Indianapolis \nRSVP: kws82751@gmail.com
URL:https://chapters.theprimetimersww.com/indianapolis/event/sun-130-pm-pti-brunch-rsvp-required-2/
LOCATION:Lincoln Square Pancke House\, 5648E. Washington\, Indianapolis\, 46219\, United States
END:VEVENT
BEGIN:VEVENT
DTSTART;TZID=America/New_York:20260331T183000
DTEND;TZID=America/New_York:20260331T203000
DTSTAMP:20260419T151251
CREATED:20251216T220146Z
LAST-MODIFIED:20251216T220146Z
UID:10001476-1774981800-1774989000@chapters.theprimetimersww.com
SUMMARY:TUES - 6:30 pm - PTI Dinner - RSVP REQUIRED
DESCRIPTION:Prime Timers March Dinner will be at The Harrison \n555 N Delaware St. Indianapolis \nRSVP: kws82751@gmail.com
URL:https://chapters.theprimetimersww.com/indianapolis/event/tues-630-pm-pti-dinner-rsvp-required/
LOCATION:The Harrison Restaurant\, 555 N Delaware St\, Indianapolis\, United States
END:VEVENT
END:VCALENDAR