BEGIN:VCALENDAR
VERSION:2.0
PRODID:-//PrimeTimers Indianapolis - ECPv6.15.20//NONSGML v1.0//EN
CALSCALE:GREGORIAN
METHOD:PUBLISH
X-WR-CALNAME:PrimeTimers Indianapolis
X-ORIGINAL-URL:https://chapters.theprimetimersww.com/indianapolis
X-WR-CALDESC:Events for PrimeTimers Indianapolis
REFRESH-INTERVAL;VALUE=DURATION:PT1H
X-Robots-Tag:noindex
X-PUBLISHED-TTL:PT1H
BEGIN:VTIMEZONE
TZID:America/New_York
BEGIN:DAYLIGHT
TZOFFSETFROM:-0500
TZOFFSETTO:-0400
TZNAME:EDT
DTSTART:20220313T070000
END:DAYLIGHT
BEGIN:STANDARD
TZOFFSETFROM:-0400
TZOFFSETTO:-0500
TZNAME:EST
DTSTART:20221106T060000
END:STANDARD
BEGIN:DAYLIGHT
TZOFFSETFROM:-0500
TZOFFSETTO:-0400
TZNAME:EDT
DTSTART:20230312T070000
END:DAYLIGHT
BEGIN:STANDARD
TZOFFSETFROM:-0400
TZOFFSETTO:-0500
TZNAME:EST
DTSTART:20231105T060000
END:STANDARD
BEGIN:DAYLIGHT
TZOFFSETFROM:-0500
TZOFFSETTO:-0400
TZNAME:EDT
DTSTART:20240310T070000
END:DAYLIGHT
BEGIN:STANDARD
TZOFFSETFROM:-0400
TZOFFSETTO:-0500
TZNAME:EST
DTSTART:20241103T060000
END:STANDARD
BEGIN:DAYLIGHT
TZOFFSETFROM:-0500
TZOFFSETTO:-0400
TZNAME:EDT
DTSTART:20250309T070000
END:DAYLIGHT
BEGIN:STANDARD
TZOFFSETFROM:-0400
TZOFFSETTO:-0500
TZNAME:EST
DTSTART:20251102T060000
END:STANDARD
BEGIN:DAYLIGHT
TZOFFSETFROM:-0500
TZOFFSETTO:-0400
TZNAME:EDT
DTSTART:20260308T070000
END:DAYLIGHT
BEGIN:STANDARD
TZOFFSETFROM:-0400
TZOFFSETTO:-0500
TZNAME:EST
DTSTART:20261101T060000
END:STANDARD
BEGIN:DAYLIGHT
TZOFFSETFROM:-0500
TZOFFSETTO:-0400
TZNAME:EDT
DTSTART:20270314T070000
END:DAYLIGHT
BEGIN:STANDARD
TZOFFSETFROM:-0400
TZOFFSETTO:-0500
TZNAME:EST
DTSTART:20271107T060000
END:STANDARD
END:VTIMEZONE
BEGIN:VEVENT
DTSTART;TZID=America/New_York:20260415T183000
DTEND;TZID=America/New_York:20260415T210000
DTSTAMP:20260420T021223
CREATED:20231211T202016Z
LAST-MODIFIED:20241221T232740Z
UID:10000504-1776277800-1776286800@chapters.theprimetimersww.com
SUMMARY:WED 6:30pm - Trivia Night - RSVP Required
DESCRIPTION:  \nJoin us at Trivia Night every third Wednesday of the month. \nPlease RSVP at Scott.trout@gmail.com
URL:https://chapters.theprimetimersww.com/indianapolis/event/wed-630pm-trivia-night-rsvp-required-12/2026-04-15/
LOCATION:Trivia Night\, 714 N. Capitol Ave.\, Indianapolis\, IN\, 46204\, United States
ORGANIZER;CN="Scott":MAILTO:Scott.trout@gmail.com
END:VEVENT
BEGIN:VEVENT
DTSTART;TZID=America/New_York:20260318T183000
DTEND;TZID=America/New_York:20260318T210000
DTSTAMP:20260420T021223
CREATED:20231211T202016Z
LAST-MODIFIED:20241221T232740Z
UID:10000503-1773858600-1773867600@chapters.theprimetimersww.com
SUMMARY:WED 6:30pm - Trivia Night - RSVP Required
DESCRIPTION:  \nJoin us at Trivia Night every third Wednesday of the month. \nPlease RSVP at Scott.trout@gmail.com
URL:https://chapters.theprimetimersww.com/indianapolis/event/wed-630pm-trivia-night-rsvp-required-12/2026-03-18/
LOCATION:Trivia Night\, 714 N. Capitol Ave.\, Indianapolis\, IN\, 46204\, United States
ORGANIZER;CN="Scott":MAILTO:Scott.trout@gmail.com
END:VEVENT
BEGIN:VEVENT
DTSTART;TZID=America/New_York:20260218T183000
DTEND;TZID=America/New_York:20260218T210000
DTSTAMP:20260420T021223
CREATED:20231211T202016Z
LAST-MODIFIED:20241221T232740Z
UID:10000502-1771439400-1771448400@chapters.theprimetimersww.com
SUMMARY:WED 6:30pm - Trivia Night - RSVP Required
DESCRIPTION:  \nJoin us at Trivia Night every third Wednesday of the month. \nPlease RSVP at Scott.trout@gmail.com
URL:https://chapters.theprimetimersww.com/indianapolis/event/wed-630pm-trivia-night-rsvp-required-12/2026-02-18/
LOCATION:Trivia Night\, 714 N. Capitol Ave.\, Indianapolis\, IN\, 46204\, United States
ORGANIZER;CN="Scott":MAILTO:Scott.trout@gmail.com
END:VEVENT
BEGIN:VEVENT
DTSTART;TZID=America/New_York:20260121T183000
DTEND;TZID=America/New_York:20260121T210000
DTSTAMP:20260420T021223
CREATED:20231211T202016Z
LAST-MODIFIED:20241221T232740Z
UID:10000501-1769020200-1769029200@chapters.theprimetimersww.com
SUMMARY:WED 6:30pm - Trivia Night - RSVP Required
DESCRIPTION:  \nJoin us at Trivia Night every third Wednesday of the month. \nPlease RSVP at Scott.trout@gmail.com
URL:https://chapters.theprimetimersww.com/indianapolis/event/wed-630pm-trivia-night-rsvp-required-12/2026-01-21/
LOCATION:Trivia Night\, 714 N. Capitol Ave.\, Indianapolis\, IN\, 46204\, United States
ORGANIZER;CN="Scott":MAILTO:Scott.trout@gmail.com
END:VEVENT
BEGIN:VEVENT
DTSTART;TZID=America/New_York:20251217T183000
DTEND;TZID=America/New_York:20251217T210000
DTSTAMP:20260420T021223
CREATED:20231211T202016Z
LAST-MODIFIED:20241221T232740Z
UID:10000500-1765996200-1766005200@chapters.theprimetimersww.com
SUMMARY:WED 6:30pm - Trivia Night - RSVP Required
DESCRIPTION:  \nJoin us at Trivia Night every third Wednesday of the month. \nPlease RSVP at Scott.trout@gmail.com
URL:https://chapters.theprimetimersww.com/indianapolis/event/wed-630pm-trivia-night-rsvp-required-12/2025-12-17/
LOCATION:Trivia Night\, 714 N. Capitol Ave.\, Indianapolis\, IN\, 46204\, United States
ORGANIZER;CN="Scott":MAILTO:Scott.trout@gmail.com
END:VEVENT
BEGIN:VEVENT
DTSTART;TZID=America/New_York:20251119T183000
DTEND;TZID=America/New_York:20251119T210000
DTSTAMP:20260420T021223
CREATED:20231211T202016Z
LAST-MODIFIED:20241221T232740Z
UID:10000499-1763577000-1763586000@chapters.theprimetimersww.com
SUMMARY:WED 6:30pm - Trivia Night - RSVP Required
DESCRIPTION:  \nJoin us at Trivia Night every third Wednesday of the month. \nPlease RSVP at Scott.trout@gmail.com
URL:https://chapters.theprimetimersww.com/indianapolis/event/wed-630pm-trivia-night-rsvp-required-12/2025-11-19/
LOCATION:Trivia Night\, 714 N. Capitol Ave.\, Indianapolis\, IN\, 46204\, United States
ORGANIZER;CN="Scott":MAILTO:Scott.trout@gmail.com
END:VEVENT
BEGIN:VEVENT
DTSTART;TZID=America/New_York:20251015T183000
DTEND;TZID=America/New_York:20251015T210000
DTSTAMP:20260420T021223
CREATED:20231211T202016Z
LAST-MODIFIED:20241221T232740Z
UID:10000498-1760553000-1760562000@chapters.theprimetimersww.com
SUMMARY:WED 6:30pm - Trivia Night - RSVP Required
DESCRIPTION:  \nJoin us at Trivia Night every third Wednesday of the month. \nPlease RSVP at Scott.trout@gmail.com
URL:https://chapters.theprimetimersww.com/indianapolis/event/wed-630pm-trivia-night-rsvp-required-12/2025-10-15/
LOCATION:Trivia Night\, 714 N. Capitol Ave.\, Indianapolis\, IN\, 46204\, United States
ORGANIZER;CN="Scott":MAILTO:Scott.trout@gmail.com
END:VEVENT
BEGIN:VEVENT
DTSTART;TZID=America/New_York:20250917T183000
DTEND;TZID=America/New_York:20250917T210000
DTSTAMP:20260420T021223
CREATED:20231211T202016Z
LAST-MODIFIED:20241221T232740Z
UID:10000497-1758133800-1758142800@chapters.theprimetimersww.com
SUMMARY:WED 6:30pm - Trivia Night - RSVP Required
DESCRIPTION:  \nJoin us at Trivia Night every third Wednesday of the month. \nPlease RSVP at Scott.trout@gmail.com
URL:https://chapters.theprimetimersww.com/indianapolis/event/wed-630pm-trivia-night-rsvp-required-12/2025-09-17/
LOCATION:Trivia Night\, 714 N. Capitol Ave.\, Indianapolis\, IN\, 46204\, United States
ORGANIZER;CN="Scott":MAILTO:Scott.trout@gmail.com
END:VEVENT
BEGIN:VEVENT
DTSTART;TZID=America/New_York:20250820T183000
DTEND;TZID=America/New_York:20250820T210000
DTSTAMP:20260420T021223
CREATED:20231211T202016Z
LAST-MODIFIED:20241221T232740Z
UID:10000496-1755714600-1755723600@chapters.theprimetimersww.com
SUMMARY:WED 6:30pm - Trivia Night - RSVP Required
DESCRIPTION:  \nJoin us at Trivia Night every third Wednesday of the month. \nPlease RSVP at Scott.trout@gmail.com
URL:https://chapters.theprimetimersww.com/indianapolis/event/wed-630pm-trivia-night-rsvp-required-12/2025-08-20/
LOCATION:Trivia Night\, 714 N. Capitol Ave.\, Indianapolis\, IN\, 46204\, United States
ORGANIZER;CN="Scott":MAILTO:Scott.trout@gmail.com
END:VEVENT
BEGIN:VEVENT
DTSTART;TZID=America/New_York:20250716T183000
DTEND;TZID=America/New_York:20250716T210000
DTSTAMP:20260420T021223
CREATED:20231211T202016Z
LAST-MODIFIED:20241221T232740Z
UID:10000495-1752690600-1752699600@chapters.theprimetimersww.com
SUMMARY:WED 6:30pm - Trivia Night - RSVP Required
DESCRIPTION:  \nJoin us at Trivia Night every third Wednesday of the month. \nPlease RSVP at Scott.trout@gmail.com
URL:https://chapters.theprimetimersww.com/indianapolis/event/wed-630pm-trivia-night-rsvp-required-12/2025-07-16/
LOCATION:Trivia Night\, 714 N. Capitol Ave.\, Indianapolis\, IN\, 46204\, United States
ORGANIZER;CN="Scott":MAILTO:Scott.trout@gmail.com
END:VEVENT
BEGIN:VEVENT
DTSTART;TZID=America/New_York:20250618T183000
DTEND;TZID=America/New_York:20250618T210000
DTSTAMP:20260420T021223
CREATED:20231211T202016Z
LAST-MODIFIED:20241221T232740Z
UID:10000494-1750271400-1750280400@chapters.theprimetimersww.com
SUMMARY:WED 6:30pm - Trivia Night - RSVP Required
DESCRIPTION:  \nJoin us at Trivia Night every third Wednesday of the month. \nPlease RSVP at Scott.trout@gmail.com
URL:https://chapters.theprimetimersww.com/indianapolis/event/wed-630pm-trivia-night-rsvp-required-12/2025-06-18/
LOCATION:Trivia Night\, 714 N. Capitol Ave.\, Indianapolis\, IN\, 46204\, United States
ORGANIZER;CN="Scott":MAILTO:Scott.trout@gmail.com
END:VEVENT
BEGIN:VEVENT
DTSTART;TZID=America/New_York:20250521T183000
DTEND;TZID=America/New_York:20250521T210000
DTSTAMP:20260420T021223
CREATED:20231211T202016Z
LAST-MODIFIED:20241221T232740Z
UID:10000493-1747852200-1747861200@chapters.theprimetimersww.com
SUMMARY:WED 6:30pm - Trivia Night - RSVP Required
DESCRIPTION:  \nJoin us at Trivia Night every third Wednesday of the month. \nPlease RSVP at Scott.trout@gmail.com
URL:https://chapters.theprimetimersww.com/indianapolis/event/wed-630pm-trivia-night-rsvp-required-12/2025-05-21/
LOCATION:Trivia Night\, 714 N. Capitol Ave.\, Indianapolis\, IN\, 46204\, United States
ORGANIZER;CN="Scott":MAILTO:Scott.trout@gmail.com
END:VEVENT
BEGIN:VEVENT
DTSTART;TZID=America/New_York:20250416T183000
DTEND;TZID=America/New_York:20250416T210000
DTSTAMP:20260420T021223
CREATED:20231211T202016Z
LAST-MODIFIED:20241221T232740Z
UID:10000492-1744828200-1744837200@chapters.theprimetimersww.com
SUMMARY:WED 6:30pm - Trivia Night - RSVP Required
DESCRIPTION:  \nJoin us at Trivia Night every third Wednesday of the month. \nPlease RSVP at Scott.trout@gmail.com
URL:https://chapters.theprimetimersww.com/indianapolis/event/wed-630pm-trivia-night-rsvp-required-12/2025-04-16/
LOCATION:Trivia Night\, 714 N. Capitol Ave.\, Indianapolis\, IN\, 46204\, United States
ORGANIZER;CN="Scott":MAILTO:Scott.trout@gmail.com
END:VEVENT
BEGIN:VEVENT
DTSTART;TZID=America/New_York:20250319T183000
DTEND;TZID=America/New_York:20250319T210000
DTSTAMP:20260420T021223
CREATED:20231211T202016Z
LAST-MODIFIED:20241221T232740Z
UID:10000491-1742409000-1742418000@chapters.theprimetimersww.com
SUMMARY:WED 6:30pm - Trivia Night - RSVP Required
DESCRIPTION:  \nJoin us at Trivia Night every third Wednesday of the month. \nPlease RSVP at Scott.trout@gmail.com
URL:https://chapters.theprimetimersww.com/indianapolis/event/wed-630pm-trivia-night-rsvp-required-12/2025-03-19/
LOCATION:Trivia Night\, 714 N. Capitol Ave.\, Indianapolis\, IN\, 46204\, United States
ORGANIZER;CN="Scott":MAILTO:Scott.trout@gmail.com
END:VEVENT
BEGIN:VEVENT
DTSTART;TZID=America/New_York:20250219T183000
DTEND;TZID=America/New_York:20250219T210000
DTSTAMP:20260420T021223
CREATED:20231211T202016Z
LAST-MODIFIED:20241221T232740Z
UID:10000490-1739989800-1739998800@chapters.theprimetimersww.com
SUMMARY:WED 6:30pm - Trivia Night - RSVP Required
DESCRIPTION:  \nJoin us at Trivia Night every third Wednesday of the month. \nPlease RSVP at Scott.trout@gmail.com
URL:https://chapters.theprimetimersww.com/indianapolis/event/wed-630pm-trivia-night-rsvp-required-12/2025-02-19/
LOCATION:Trivia Night\, 714 N. Capitol Ave.\, Indianapolis\, IN\, 46204\, United States
ORGANIZER;CN="Scott":MAILTO:Scott.trout@gmail.com
END:VEVENT
BEGIN:VEVENT
DTSTART;TZID=America/New_York:20250115T183000
DTEND;TZID=America/New_York:20250115T210000
DTSTAMP:20260420T021223
CREATED:20231211T202016Z
LAST-MODIFIED:20241221T232740Z
UID:10000489-1736965800-1736974800@chapters.theprimetimersww.com
SUMMARY:WED 6:30pm - Trivia Night - RSVP Required
DESCRIPTION:  \nJoin us at Trivia Night every third Wednesday of the month. \nPlease RSVP at Scott.trout@gmail.com
URL:https://chapters.theprimetimersww.com/indianapolis/event/wed-630pm-trivia-night-rsvp-required-12/2025-01-15/2/
LOCATION:Trivia Night\, 714 N. Capitol Ave.\, Indianapolis\, IN\, 46204\, United States
ORGANIZER;CN="Scott":MAILTO:Scott.trout@gmail.com
END:VEVENT
BEGIN:VEVENT
DTSTART;TZID=America/New_York:20250115T080000
DTEND;TZID=America/New_York:20250115T170000
DTSTAMP:20260420T021223
CREATED:20231211T202016Z
LAST-MODIFIED:20241221T232740Z
UID:10000488-1736928000-1736960400@chapters.theprimetimersww.com
SUMMARY:WED 6:30pm - Trivia Night - RSVP Required
DESCRIPTION:  \nJoin us at Trivia Night every third Wednesday of the month. \nPlease RSVP at Scott.trout@gmail.com
URL:https://chapters.theprimetimersww.com/indianapolis/event/wed-630pm-trivia-night-rsvp-required-12/2025-01-15/1/
LOCATION:Trivia Night\, 714 N. Capitol Ave.\, Indianapolis\, IN\, 46204\, United States
ORGANIZER;CN="Scott":MAILTO:Scott.trout@gmail.com
END:VEVENT
BEGIN:VEVENT
DTSTART;TZID=America/New_York:20241120T183000
DTEND;TZID=America/New_York:20241120T210000
DTSTAMP:20260420T021223
CREATED:20231211T201928Z
LAST-MODIFIED:20240222T160232Z
UID:10000122-1732127400-1732136400@chapters.theprimetimersww.com
SUMMARY:WED 6:30pm - Trivia Night - RSVP Required
DESCRIPTION:  \n  \nJoin us at Trivia Night every third Wednesday of the month. \nPlease RSVP at Scott.trout@gmail.com
URL:https://chapters.theprimetimersww.com/indianapolis/event/wed-630pm-trivia-night-rsvp-required-11/
LOCATION:Trivia Night\, 714 N. Capitol Ave.\, Indianapolis\, IN\, 46204\, United States
ORGANIZER;CN="Scott":MAILTO:Scott.trout@gmail.com
END:VEVENT
BEGIN:VEVENT
DTSTART;TZID=America/New_York:20241016T183000
DTEND;TZID=America/New_York:20241016T210000
DTSTAMP:20260420T021223
CREATED:20231211T201838Z
LAST-MODIFIED:20240617T190931Z
UID:10000121-1729103400-1729112400@chapters.theprimetimersww.com
SUMMARY:WED 6:30pm - Trivia Night - RSVP Required
DESCRIPTION:  \n  \nJoin us at Trivia Night every third Wednesday of the month. \nPlease RSVP at Scott.trout@gmail.com
URL:https://chapters.theprimetimersww.com/indianapolis/event/wed-630pm-trivia-night-rsvp-required-10/
LOCATION:Trivia Night\, 714 N. Capitol Ave.\, Indianapolis\, IN\, 46204\, United States
ORGANIZER;CN="Scott":MAILTO:Scott.trout@gmail.com
END:VEVENT
BEGIN:VEVENT
DTSTART;TZID=America/New_York:20240918T183000
DTEND;TZID=America/New_York:20240918T210000
DTSTAMP:20260420T021223
CREATED:20240222T160448Z
LAST-MODIFIED:20240222T160448Z
UID:10000225-1726684200-1726693200@chapters.theprimetimersww.com
SUMMARY:WED 6:30pm - Trivia Night - RSVP Required
DESCRIPTION:  \nJoin us at Trivia Night every third Wednesday of the month. \nPlease RSVP at Scott.trout@gmail.com
URL:https://chapters.theprimetimersww.com/indianapolis/event/wed-630pm-trivia-night-rsvp-required-4/
LOCATION:Trivia Night\, 714 N. Capitol Ave.\, Indianapolis\, IN\, 46204\, United States
ORGANIZER;CN="Scott":MAILTO:Scott.trout@gmail.com
END:VEVENT
BEGIN:VEVENT
DTSTART;TZID=America/New_York:20240821T183000
DTEND;TZID=America/New_York:20240821T210000
DTSTAMP:20260420T021223
CREATED:20231211T201739Z
LAST-MODIFIED:20240222T160045Z
UID:10000120-1724265000-1724274000@chapters.theprimetimersww.com
SUMMARY:WED 6:30pm - Trivia Night - RSVP Required
DESCRIPTION:  \nJoin us at Trivia Night every third Wednesday of the month. \nPlease RSVP at Scott.trout@gmail.com
URL:https://chapters.theprimetimersww.com/indianapolis/event/wed-630pm-trivia-night-rsvp-required-9/
LOCATION:Trivia Night\, 714 N. Capitol Ave.\, Indianapolis\, IN\, 46204\, United States
ORGANIZER;CN="Scott":MAILTO:Scott.trout@gmail.com
END:VEVENT
BEGIN:VEVENT
DTSTART;TZID=America/New_York:20240717T183000
DTEND;TZID=America/New_York:20240717T203000
DTSTAMP:20260420T021223
CREATED:20231211T201550Z
LAST-MODIFIED:20240222T155938Z
UID:10000118-1721241000-1721248200@chapters.theprimetimersww.com
SUMMARY:WED 6:30pm - Trivia Night - RSVP Required
DESCRIPTION:  \n  \n  \n \nJoin us at Trivia Night every third Wednesday of the month. \nPlease RSVP at Scott.trout@gmail.com
URL:https://chapters.theprimetimersww.com/indianapolis/event/wed-630pm-trivia-night-rsvp-required-8/
LOCATION:Trivia Night\, 714 N. Capitol Ave.\, Indianapolis\, IN\, 46204\, United States
ORGANIZER;CN="Scott":MAILTO:Scott.trout@gmail.com
END:VEVENT
BEGIN:VEVENT
DTSTART;TZID=America/New_York:20240619T063000
DTEND;TZID=America/New_York:20240619T210000
DTSTAMP:20260420T021223
CREATED:20231211T201503Z
LAST-MODIFIED:20240222T155656Z
UID:10000117-1718778600-1718830800@chapters.theprimetimersww.com
SUMMARY:WED 6:30pm - Trivia Night - RSVP Required
DESCRIPTION:  \n  \n \nJoin us at Trivia Night every third Wednesday of the month. \nPlease RSVP at Scott.trout@gmail.com
URL:https://chapters.theprimetimersww.com/indianapolis/event/wed-630pm-trivia-night-rsvp-required-7/
LOCATION:Trivia Night\, 714 N. Capitol Ave.\, Indianapolis\, IN\, 46204\, United States
ORGANIZER;CN="Scott":MAILTO:Scott.trout@gmail.com
END:VEVENT
BEGIN:VEVENT
DTSTART;TZID=America/New_York:20240515T183000
DTEND;TZID=America/New_York:20240515T210000
DTSTAMP:20260420T021223
CREATED:20231211T201325Z
LAST-MODIFIED:20240222T153946Z
UID:10000115-1715797800-1715806800@chapters.theprimetimersww.com
SUMMARY:WED 6:30pm - Trivia Night - RSVP Required
DESCRIPTION:Join us at Trivia Night every third Wednesday of the month. \nPlease RSVP at Scott.trout@gmail.com
URL:https://chapters.theprimetimersww.com/indianapolis/event/wed-630pm-trivia-night-rsvp-required-5/
LOCATION:Trivia Night\, 714 N. Capitol Ave.\, Indianapolis\, IN\, 46204\, United States
ATTACH;FMTTYPE=image/webp:https://chapters.theprimetimersww.com/indianapolis/wp-content/uploads/2023/07/Logo-Brewlink.webp
ORGANIZER;CN="Scott":MAILTO:Scott.trout@gmail.com
END:VEVENT
BEGIN:VEVENT
DTSTART;TZID=America/New_York:20240417T183000
DTEND;TZID=America/New_York:20240417T210000
DTSTAMP:20260420T021223
CREATED:20231211T201219Z
LAST-MODIFIED:20240222T160554Z
UID:10000113-1713378600-1713387600@chapters.theprimetimersww.com
SUMMARY:WED 6:30pm - Trivia Night - RSVP Required
DESCRIPTION:  \n  \nJoin us at Trivia Night every third Wednesday of the month. \nPlease RSVP at Scott.trout@gmail.com
URL:https://chapters.theprimetimersww.com/indianapolis/event/wed-630pm-trivia-night-rsvp-required-4-2/
LOCATION:Trivia Night\, 714 N. Capitol Ave.\, Indianapolis\, IN\, 46204\, United States
ORGANIZER;CN="Scott":MAILTO:Scott.trout@gmail.com
END:VEVENT
BEGIN:VEVENT
DTSTART;TZID=America/New_York:20240320T183000
DTEND;TZID=America/New_York:20240320T210000
DTSTAMP:20260420T021223
CREATED:20231211T201052Z
LAST-MODIFIED:20240117T184058Z
UID:10000078-1710959400-1710968400@chapters.theprimetimersww.com
SUMMARY:WED 6:30pm - Trivia Night - RSVP Required
DESCRIPTION:  \nJoin us at Trivia Night every third Wednesday of the month. \nPlease RSVP at Scott.trout@gmail.com
URL:https://chapters.theprimetimersww.com/indianapolis/event/wed-630-pm-trivia-night-rsvp-required-3/
LOCATION:Trivia Night\, 714 N. Capitol Ave.\, Indianapolis\, IN\, 46204\, United States
ORGANIZER;CN="Scott":MAILTO:Scott.trout@gmail.com
END:VEVENT
BEGIN:VEVENT
DTSTART;TZID=America/New_York:20240221T183000
DTEND;TZID=America/New_York:20240221T210000
DTSTAMP:20260420T021223
CREATED:20231211T200310Z
LAST-MODIFIED:20231211T200310Z
UID:10000102-1708540200-1708549200@chapters.theprimetimersww.com
SUMMARY:WED 6:30pm - Trivia Night - RSVP Required
DESCRIPTION:Join us at Trivia Night every third Wednesday of the month. \nPlease RSVP at Scott.trout@gmail.com
URL:https://chapters.theprimetimersww.com/indianapolis/event/wed-630pm-trivia-night-rsvp-required-2/2024-02-21/
LOCATION:Trivia Night\, 714 N. Capitol Ave.\, Indianapolis\, IN\, 46204\, United States
ATTACH;FMTTYPE=image/webp:https://chapters.theprimetimersww.com/indianapolis/wp-content/uploads/2023/07/Logo-Brewlink.webp
ORGANIZER;CN="Scott":MAILTO:Scott.trout@gmail.com
END:VEVENT
BEGIN:VEVENT
DTSTART;TZID=America/New_York:20240117T183000
DTEND;TZID=America/New_York:20240117T210000
DTSTAMP:20260420T021223
CREATED:20231211T200116Z
LAST-MODIFIED:20231211T200116Z
UID:10000096-1705516200-1705525200@chapters.theprimetimersww.com
SUMMARY:WED 6:30pm - Trivia Night - RSVP Required
DESCRIPTION:Join us at Trivia Night every third Wednesday of the month. \nPlease RSVP at Scott.trout@gmail.com
URL:https://chapters.theprimetimersww.com/indianapolis/event/wed-630pm-trivia-night-rsvp-required/2024-01-17/
LOCATION:Trivia Night\, 714 N. Capitol Ave.\, Indianapolis\, IN\, 46204\, United States
ATTACH;FMTTYPE=image/webp:https://chapters.theprimetimersww.com/indianapolis/wp-content/uploads/2023/07/Logo-Brewlink.webp
ORGANIZER;CN="Scott":MAILTO:Scott.trout@gmail.com
END:VEVENT
BEGIN:VEVENT
DTSTART;TZID=America/New_York:20231220T183000
DTEND;TZID=America/New_York:20231220T210000
DTSTAMP:20260420T021223
CREATED:20231211T200537Z
LAST-MODIFIED:20231211T200540Z
UID:10000079-1703097000-1703106000@chapters.theprimetimersww.com
SUMMARY:WED 6:30pm - Trivia Night - RSVP Required
DESCRIPTION:Join us at Trivia Night every third Wednesday of the month. \nPlease RSVP at Scott.trout@gmail.com
URL:https://chapters.theprimetimersww.com/indianapolis/event/wed-630-pm-trivia-night-rsvp-required-2/
LOCATION:Trivia Night\, 714 N. Capitol Ave.\, Indianapolis\, IN\, 46204\, United States
ATTACH;FMTTYPE=image/webp:https://chapters.theprimetimersww.com/indianapolis/wp-content/uploads/2023/07/Logo-Brewlink.webp
ORGANIZER;CN="Scott":MAILTO:Scott.trout@gmail.com
END:VEVENT
BEGIN:VEVENT
DTSTART;TZID=America/New_York:20231018T183000
DTEND;TZID=America/New_York:20231018T210000
DTSTAMP:20260420T021223
CREATED:20230725T133052Z
LAST-MODIFIED:20230725T135454Z
UID:10000077-1697653800-1697662800@chapters.theprimetimersww.com
SUMMARY:WED 6:30pm - Trivia Night - RSVP Required
DESCRIPTION:Join us at Trivia Night every third Wednesday of the month. \nPlease RSVP at Scott.trout@gmail.com
URL:https://chapters.theprimetimersww.com/indianapolis/event/wed-630-pm-trivia-night-rsvp-required/2023-10-18/
LOCATION:Trivia Night\, 714 N. Capitol Ave.\, Indianapolis\, IN\, 46204\, United States
ATTACH;FMTTYPE=image/webp:https://chapters.theprimetimersww.com/indianapolis/wp-content/uploads/2023/07/Logo-Brewlink.webp
ORGANIZER;CN="Scott":MAILTO:Scott.trout@gmail.com
END:VEVENT
END:VCALENDAR