BEGIN:VCALENDAR
VERSION:2.0
PRODID:-//PrimeTimers Indianapolis - ECPv6.15.20//NONSGML v1.0//EN
CALSCALE:GREGORIAN
METHOD:PUBLISH
X-ORIGINAL-URL:https://chapters.theprimetimersww.com/indianapolis
X-WR-CALDESC:Events for PrimeTimers Indianapolis
REFRESH-INTERVAL;VALUE=DURATION:PT1H
X-Robots-Tag:noindex
X-PUBLISHED-TTL:PT1H
BEGIN:VTIMEZONE
TZID:America/New_York
BEGIN:DAYLIGHT
TZOFFSETFROM:-0500
TZOFFSETTO:-0400
TZNAME:EDT
DTSTART:20250309T070000
END:DAYLIGHT
BEGIN:STANDARD
TZOFFSETFROM:-0400
TZOFFSETTO:-0500
TZNAME:EST
DTSTART:20251102T060000
END:STANDARD
BEGIN:DAYLIGHT
TZOFFSETFROM:-0500
TZOFFSETTO:-0400
TZNAME:EDT
DTSTART:20260308T070000
END:DAYLIGHT
BEGIN:STANDARD
TZOFFSETFROM:-0400
TZOFFSETTO:-0500
TZNAME:EST
DTSTART:20261101T060000
END:STANDARD
BEGIN:DAYLIGHT
TZOFFSETFROM:-0500
TZOFFSETTO:-0400
TZNAME:EDT
DTSTART:20270314T070000
END:DAYLIGHT
BEGIN:STANDARD
TZOFFSETFROM:-0400
TZOFFSETTO:-0500
TZNAME:EST
DTSTART:20271107T060000
END:STANDARD
BEGIN:DAYLIGHT
TZOFFSETFROM:-0500
TZOFFSETTO:-0400
TZNAME:EDT
DTSTART:20280312T070000
END:DAYLIGHT
BEGIN:STANDARD
TZOFFSETFROM:-0400
TZOFFSETTO:-0500
TZNAME:EST
DTSTART:20281105T060000
END:STANDARD
BEGIN:DAYLIGHT
TZOFFSETFROM:-0500
TZOFFSETTO:-0400
TZNAME:EDT
DTSTART:20290311T070000
END:DAYLIGHT
BEGIN:STANDARD
TZOFFSETFROM:-0400
TZOFFSETTO:-0500
TZNAME:EST
DTSTART:20291104T060000
END:STANDARD
END:VTIMEZONE
BEGIN:VEVENT
DTSTART;TZID=America/New_York:20260520T183000
DTEND;TZID=America/New_York:20260520T210000
DTSTAMP:20260420T021228
CREATED:20231211T202016Z
LAST-MODIFIED:20241221T232740Z
UID:10000505-1779301800-1779310800@chapters.theprimetimersww.com
SUMMARY:WED 6:30pm - Trivia Night - RSVP Required
DESCRIPTION:  \nJoin us at Trivia Night every third Wednesday of the month. \nPlease RSVP at Scott.trout@gmail.com
URL:https://chapters.theprimetimersww.com/indianapolis/event/wed-630pm-trivia-night-rsvp-required-12/2026-05-20/
LOCATION:Trivia Night\, 714 N. Capitol Ave.\, Indianapolis\, IN\, 46204\, United States
ORGANIZER;CN="Scott":MAILTO:Scott.trout@gmail.com
END:VEVENT
BEGIN:VEVENT
DTSTART;TZID=America/New_York:20260617T183000
DTEND;TZID=America/New_York:20260617T210000
DTSTAMP:20260420T021228
CREATED:20231211T202016Z
LAST-MODIFIED:20241221T232740Z
UID:10000506-1781721000-1781730000@chapters.theprimetimersww.com
SUMMARY:WED 6:30pm - Trivia Night - RSVP Required
DESCRIPTION:  \nJoin us at Trivia Night every third Wednesday of the month. \nPlease RSVP at Scott.trout@gmail.com
URL:https://chapters.theprimetimersww.com/indianapolis/event/wed-630pm-trivia-night-rsvp-required-12/2026-06-17/
LOCATION:Trivia Night\, 714 N. Capitol Ave.\, Indianapolis\, IN\, 46204\, United States
ORGANIZER;CN="Scott":MAILTO:Scott.trout@gmail.com
END:VEVENT
BEGIN:VEVENT
DTSTART;TZID=America/New_York:20260715T183000
DTEND;TZID=America/New_York:20260715T210000
DTSTAMP:20260420T021228
CREATED:20231211T202016Z
LAST-MODIFIED:20241221T232740Z
UID:10000507-1784140200-1784149200@chapters.theprimetimersww.com
SUMMARY:WED 6:30pm - Trivia Night - RSVP Required
DESCRIPTION:  \nJoin us at Trivia Night every third Wednesday of the month. \nPlease RSVP at Scott.trout@gmail.com
URL:https://chapters.theprimetimersww.com/indianapolis/event/wed-630pm-trivia-night-rsvp-required-12/2026-07-15/
LOCATION:Trivia Night\, 714 N. Capitol Ave.\, Indianapolis\, IN\, 46204\, United States
ORGANIZER;CN="Scott":MAILTO:Scott.trout@gmail.com
END:VEVENT
BEGIN:VEVENT
DTSTART;TZID=America/New_York:20260819T183000
DTEND;TZID=America/New_York:20260819T210000
DTSTAMP:20260420T021228
CREATED:20231211T202016Z
LAST-MODIFIED:20241221T232740Z
UID:10000508-1787164200-1787173200@chapters.theprimetimersww.com
SUMMARY:WED 6:30pm - Trivia Night - RSVP Required
DESCRIPTION:  \nJoin us at Trivia Night every third Wednesday of the month. \nPlease RSVP at Scott.trout@gmail.com
URL:https://chapters.theprimetimersww.com/indianapolis/event/wed-630pm-trivia-night-rsvp-required-12/2026-08-19/
LOCATION:Trivia Night\, 714 N. Capitol Ave.\, Indianapolis\, IN\, 46204\, United States
ORGANIZER;CN="Scott":MAILTO:Scott.trout@gmail.com
END:VEVENT
BEGIN:VEVENT
DTSTART;TZID=America/New_York:20260916T183000
DTEND;TZID=America/New_York:20260916T210000
DTSTAMP:20260420T021228
CREATED:20231211T202016Z
LAST-MODIFIED:20241221T232740Z
UID:10000509-1789583400-1789592400@chapters.theprimetimersww.com
SUMMARY:WED 6:30pm - Trivia Night - RSVP Required
DESCRIPTION:  \nJoin us at Trivia Night every third Wednesday of the month. \nPlease RSVP at Scott.trout@gmail.com
URL:https://chapters.theprimetimersww.com/indianapolis/event/wed-630pm-trivia-night-rsvp-required-12/2026-09-16/
LOCATION:Trivia Night\, 714 N. Capitol Ave.\, Indianapolis\, IN\, 46204\, United States
ORGANIZER;CN="Scott":MAILTO:Scott.trout@gmail.com
END:VEVENT
BEGIN:VEVENT
DTSTART;TZID=America/New_York:20261021T183000
DTEND;TZID=America/New_York:20261021T210000
DTSTAMP:20260420T021228
CREATED:20231211T202016Z
LAST-MODIFIED:20241221T232740Z
UID:10000510-1792607400-1792616400@chapters.theprimetimersww.com
SUMMARY:WED 6:30pm - Trivia Night - RSVP Required
DESCRIPTION:  \nJoin us at Trivia Night every third Wednesday of the month. \nPlease RSVP at Scott.trout@gmail.com
URL:https://chapters.theprimetimersww.com/indianapolis/event/wed-630pm-trivia-night-rsvp-required-12/2026-10-21/
LOCATION:Trivia Night\, 714 N. Capitol Ave.\, Indianapolis\, IN\, 46204\, United States
ORGANIZER;CN="Scott":MAILTO:Scott.trout@gmail.com
END:VEVENT
BEGIN:VEVENT
DTSTART;TZID=America/New_York:20261118T183000
DTEND;TZID=America/New_York:20261118T210000
DTSTAMP:20260420T021228
CREATED:20231211T202016Z
LAST-MODIFIED:20241221T232740Z
UID:10000511-1795026600-1795035600@chapters.theprimetimersww.com
SUMMARY:WED 6:30pm - Trivia Night - RSVP Required
DESCRIPTION:  \nJoin us at Trivia Night every third Wednesday of the month. \nPlease RSVP at Scott.trout@gmail.com
URL:https://chapters.theprimetimersww.com/indianapolis/event/wed-630pm-trivia-night-rsvp-required-12/2026-11-18/
LOCATION:Trivia Night\, 714 N. Capitol Ave.\, Indianapolis\, IN\, 46204\, United States
ORGANIZER;CN="Scott":MAILTO:Scott.trout@gmail.com
END:VEVENT
BEGIN:VEVENT
DTSTART;TZID=America/New_York:20261216T183000
DTEND;TZID=America/New_York:20261216T210000
DTSTAMP:20260420T021228
CREATED:20231211T202016Z
LAST-MODIFIED:20241221T232740Z
UID:10000512-1797445800-1797454800@chapters.theprimetimersww.com
SUMMARY:WED 6:30pm - Trivia Night - RSVP Required
DESCRIPTION:  \nJoin us at Trivia Night every third Wednesday of the month. \nPlease RSVP at Scott.trout@gmail.com
URL:https://chapters.theprimetimersww.com/indianapolis/event/wed-630pm-trivia-night-rsvp-required-12/2026-12-16/
LOCATION:Trivia Night\, 714 N. Capitol Ave.\, Indianapolis\, IN\, 46204\, United States
ORGANIZER;CN="Scott":MAILTO:Scott.trout@gmail.com
END:VEVENT
BEGIN:VEVENT
DTSTART;TZID=America/New_York:20270120T183000
DTEND;TZID=America/New_York:20270120T210000
DTSTAMP:20260420T021228
CREATED:20231211T202016Z
LAST-MODIFIED:20241221T232740Z
UID:10000513-1800469800-1800478800@chapters.theprimetimersww.com
SUMMARY:WED 6:30pm - Trivia Night - RSVP Required
DESCRIPTION:  \nJoin us at Trivia Night every third Wednesday of the month. \nPlease RSVP at Scott.trout@gmail.com
URL:https://chapters.theprimetimersww.com/indianapolis/event/wed-630pm-trivia-night-rsvp-required-12/2027-01-20/
LOCATION:Trivia Night\, 714 N. Capitol Ave.\, Indianapolis\, IN\, 46204\, United States
ORGANIZER;CN="Scott":MAILTO:Scott.trout@gmail.com
END:VEVENT
BEGIN:VEVENT
DTSTART;TZID=America/New_York:20270217T183000
DTEND;TZID=America/New_York:20270217T210000
DTSTAMP:20260420T021228
CREATED:20231211T202016Z
LAST-MODIFIED:20241221T232740Z
UID:10000514-1802889000-1802898000@chapters.theprimetimersww.com
SUMMARY:WED 6:30pm - Trivia Night - RSVP Required
DESCRIPTION:  \nJoin us at Trivia Night every third Wednesday of the month. \nPlease RSVP at Scott.trout@gmail.com
URL:https://chapters.theprimetimersww.com/indianapolis/event/wed-630pm-trivia-night-rsvp-required-12/2027-02-17/
LOCATION:Trivia Night\, 714 N. Capitol Ave.\, Indianapolis\, IN\, 46204\, United States
ORGANIZER;CN="Scott":MAILTO:Scott.trout@gmail.com
END:VEVENT
BEGIN:VEVENT
DTSTART;TZID=America/New_York:20270317T183000
DTEND;TZID=America/New_York:20270317T210000
DTSTAMP:20260420T021228
CREATED:20231211T202016Z
LAST-MODIFIED:20241221T232740Z
UID:10000515-1805308200-1805317200@chapters.theprimetimersww.com
SUMMARY:WED 6:30pm - Trivia Night - RSVP Required
DESCRIPTION:  \nJoin us at Trivia Night every third Wednesday of the month. \nPlease RSVP at Scott.trout@gmail.com
URL:https://chapters.theprimetimersww.com/indianapolis/event/wed-630pm-trivia-night-rsvp-required-12/2027-03-17/
LOCATION:Trivia Night\, 714 N. Capitol Ave.\, Indianapolis\, IN\, 46204\, United States
ORGANIZER;CN="Scott":MAILTO:Scott.trout@gmail.com
END:VEVENT
BEGIN:VEVENT
DTSTART;TZID=America/New_York:20270421T183000
DTEND;TZID=America/New_York:20270421T210000
DTSTAMP:20260420T021228
CREATED:20231211T202016Z
LAST-MODIFIED:20241221T232740Z
UID:10000516-1808332200-1808341200@chapters.theprimetimersww.com
SUMMARY:WED 6:30pm - Trivia Night - RSVP Required
DESCRIPTION:  \nJoin us at Trivia Night every third Wednesday of the month. \nPlease RSVP at Scott.trout@gmail.com
URL:https://chapters.theprimetimersww.com/indianapolis/event/wed-630pm-trivia-night-rsvp-required-12/2027-04-21/
LOCATION:Trivia Night\, 714 N. Capitol Ave.\, Indianapolis\, IN\, 46204\, United States
ORGANIZER;CN="Scott":MAILTO:Scott.trout@gmail.com
END:VEVENT
BEGIN:VEVENT
DTSTART;TZID=America/New_York:20270519T183000
DTEND;TZID=America/New_York:20270519T210000
DTSTAMP:20260420T021229
CREATED:20231211T202016Z
LAST-MODIFIED:20241221T232740Z
UID:10000517-1810751400-1810760400@chapters.theprimetimersww.com
SUMMARY:WED 6:30pm - Trivia Night - RSVP Required
DESCRIPTION:  \nJoin us at Trivia Night every third Wednesday of the month. \nPlease RSVP at Scott.trout@gmail.com
URL:https://chapters.theprimetimersww.com/indianapolis/event/wed-630pm-trivia-night-rsvp-required-12/2027-05-19/
LOCATION:Trivia Night\, 714 N. Capitol Ave.\, Indianapolis\, IN\, 46204\, United States
ORGANIZER;CN="Scott":MAILTO:Scott.trout@gmail.com
END:VEVENT
BEGIN:VEVENT
DTSTART;TZID=America/New_York:20270616T183000
DTEND;TZID=America/New_York:20270616T210000
DTSTAMP:20260420T021229
CREATED:20231211T202016Z
LAST-MODIFIED:20241221T232740Z
UID:10000518-1813170600-1813179600@chapters.theprimetimersww.com
SUMMARY:WED 6:30pm - Trivia Night - RSVP Required
DESCRIPTION:  \nJoin us at Trivia Night every third Wednesday of the month. \nPlease RSVP at Scott.trout@gmail.com
URL:https://chapters.theprimetimersww.com/indianapolis/event/wed-630pm-trivia-night-rsvp-required-12/2027-06-16/
LOCATION:Trivia Night\, 714 N. Capitol Ave.\, Indianapolis\, IN\, 46204\, United States
ORGANIZER;CN="Scott":MAILTO:Scott.trout@gmail.com
END:VEVENT
BEGIN:VEVENT
DTSTART;TZID=America/New_York:20270721T183000
DTEND;TZID=America/New_York:20270721T210000
DTSTAMP:20260420T021229
CREATED:20231211T202016Z
LAST-MODIFIED:20241221T232740Z
UID:10000519-1816194600-1816203600@chapters.theprimetimersww.com
SUMMARY:WED 6:30pm - Trivia Night - RSVP Required
DESCRIPTION:  \nJoin us at Trivia Night every third Wednesday of the month. \nPlease RSVP at Scott.trout@gmail.com
URL:https://chapters.theprimetimersww.com/indianapolis/event/wed-630pm-trivia-night-rsvp-required-12/2027-07-21/
LOCATION:Trivia Night\, 714 N. Capitol Ave.\, Indianapolis\, IN\, 46204\, United States
ORGANIZER;CN="Scott":MAILTO:Scott.trout@gmail.com
END:VEVENT
BEGIN:VEVENT
DTSTART;TZID=America/New_York:20270818T183000
DTEND;TZID=America/New_York:20270818T210000
DTSTAMP:20260420T021229
CREATED:20231211T202016Z
LAST-MODIFIED:20241221T232740Z
UID:10000520-1818613800-1818622800@chapters.theprimetimersww.com
SUMMARY:WED 6:30pm - Trivia Night - RSVP Required
DESCRIPTION:  \nJoin us at Trivia Night every third Wednesday of the month. \nPlease RSVP at Scott.trout@gmail.com
URL:https://chapters.theprimetimersww.com/indianapolis/event/wed-630pm-trivia-night-rsvp-required-12/2027-08-18/
LOCATION:Trivia Night\, 714 N. Capitol Ave.\, Indianapolis\, IN\, 46204\, United States
ORGANIZER;CN="Scott":MAILTO:Scott.trout@gmail.com
END:VEVENT
BEGIN:VEVENT
DTSTART;TZID=America/New_York:20270915T183000
DTEND;TZID=America/New_York:20270915T210000
DTSTAMP:20260420T021229
CREATED:20231211T202016Z
LAST-MODIFIED:20241221T232740Z
UID:10000521-1821033000-1821042000@chapters.theprimetimersww.com
SUMMARY:WED 6:30pm - Trivia Night - RSVP Required
DESCRIPTION:  \nJoin us at Trivia Night every third Wednesday of the month. \nPlease RSVP at Scott.trout@gmail.com
URL:https://chapters.theprimetimersww.com/indianapolis/event/wed-630pm-trivia-night-rsvp-required-12/2027-09-15/
LOCATION:Trivia Night\, 714 N. Capitol Ave.\, Indianapolis\, IN\, 46204\, United States
ORGANIZER;CN="Scott":MAILTO:Scott.trout@gmail.com
END:VEVENT
BEGIN:VEVENT
DTSTART;TZID=America/New_York:20271020T183000
DTEND;TZID=America/New_York:20271020T210000
DTSTAMP:20260420T021229
CREATED:20231211T202016Z
LAST-MODIFIED:20241221T232740Z
UID:10000522-1824057000-1824066000@chapters.theprimetimersww.com
SUMMARY:WED 6:30pm - Trivia Night - RSVP Required
DESCRIPTION:  \nJoin us at Trivia Night every third Wednesday of the month. \nPlease RSVP at Scott.trout@gmail.com
URL:https://chapters.theprimetimersww.com/indianapolis/event/wed-630pm-trivia-night-rsvp-required-12/2027-10-20/
LOCATION:Trivia Night\, 714 N. Capitol Ave.\, Indianapolis\, IN\, 46204\, United States
ORGANIZER;CN="Scott":MAILTO:Scott.trout@gmail.com
END:VEVENT
BEGIN:VEVENT
DTSTART;TZID=America/New_York:20271117T183000
DTEND;TZID=America/New_York:20271117T210000
DTSTAMP:20260420T021229
CREATED:20231211T202016Z
LAST-MODIFIED:20241221T232740Z
UID:10000523-1826476200-1826485200@chapters.theprimetimersww.com
SUMMARY:WED 6:30pm - Trivia Night - RSVP Required
DESCRIPTION:  \nJoin us at Trivia Night every third Wednesday of the month. \nPlease RSVP at Scott.trout@gmail.com
URL:https://chapters.theprimetimersww.com/indianapolis/event/wed-630pm-trivia-night-rsvp-required-12/2027-11-17/
LOCATION:Trivia Night\, 714 N. Capitol Ave.\, Indianapolis\, IN\, 46204\, United States
ORGANIZER;CN="Scott":MAILTO:Scott.trout@gmail.com
END:VEVENT
BEGIN:VEVENT
DTSTART;TZID=America/New_York:20271215T183000
DTEND;TZID=America/New_York:20271215T210000
DTSTAMP:20260420T021229
CREATED:20231211T202016Z
LAST-MODIFIED:20241221T232740Z
UID:10000524-1828895400-1828904400@chapters.theprimetimersww.com
SUMMARY:WED 6:30pm - Trivia Night - RSVP Required
DESCRIPTION:  \nJoin us at Trivia Night every third Wednesday of the month. \nPlease RSVP at Scott.trout@gmail.com
URL:https://chapters.theprimetimersww.com/indianapolis/event/wed-630pm-trivia-night-rsvp-required-12/2027-12-15/
LOCATION:Trivia Night\, 714 N. Capitol Ave.\, Indianapolis\, IN\, 46204\, United States
ORGANIZER;CN="Scott":MAILTO:Scott.trout@gmail.com
END:VEVENT
BEGIN:VEVENT
DTSTART;TZID=America/New_York:20280119T183000
DTEND;TZID=America/New_York:20280119T210000
DTSTAMP:20260420T021229
CREATED:20231211T202016Z
LAST-MODIFIED:20241221T232740Z
UID:10000525-1831919400-1831928400@chapters.theprimetimersww.com
SUMMARY:WED 6:30pm - Trivia Night - RSVP Required
DESCRIPTION:  \nJoin us at Trivia Night every third Wednesday of the month. \nPlease RSVP at Scott.trout@gmail.com
URL:https://chapters.theprimetimersww.com/indianapolis/event/wed-630pm-trivia-night-rsvp-required-12/2028-01-19/
LOCATION:Trivia Night\, 714 N. Capitol Ave.\, Indianapolis\, IN\, 46204\, United States
ORGANIZER;CN="Scott":MAILTO:Scott.trout@gmail.com
END:VEVENT
BEGIN:VEVENT
DTSTART;TZID=America/New_York:20280216T183000
DTEND;TZID=America/New_York:20280216T210000
DTSTAMP:20260420T021229
CREATED:20231211T202016Z
LAST-MODIFIED:20241221T232740Z
UID:10000526-1834338600-1834347600@chapters.theprimetimersww.com
SUMMARY:WED 6:30pm - Trivia Night - RSVP Required
DESCRIPTION:  \nJoin us at Trivia Night every third Wednesday of the month. \nPlease RSVP at Scott.trout@gmail.com
URL:https://chapters.theprimetimersww.com/indianapolis/event/wed-630pm-trivia-night-rsvp-required-12/2028-02-16/
LOCATION:Trivia Night\, 714 N. Capitol Ave.\, Indianapolis\, IN\, 46204\, United States
ORGANIZER;CN="Scott":MAILTO:Scott.trout@gmail.com
END:VEVENT
BEGIN:VEVENT
DTSTART;TZID=America/New_York:20280315T183000
DTEND;TZID=America/New_York:20280315T210000
DTSTAMP:20260420T021229
CREATED:20231211T202016Z
LAST-MODIFIED:20241221T232740Z
UID:10000527-1836757800-1836766800@chapters.theprimetimersww.com
SUMMARY:WED 6:30pm - Trivia Night - RSVP Required
DESCRIPTION:  \nJoin us at Trivia Night every third Wednesday of the month. \nPlease RSVP at Scott.trout@gmail.com
URL:https://chapters.theprimetimersww.com/indianapolis/event/wed-630pm-trivia-night-rsvp-required-12/2028-03-15/
LOCATION:Trivia Night\, 714 N. Capitol Ave.\, Indianapolis\, IN\, 46204\, United States
ORGANIZER;CN="Scott":MAILTO:Scott.trout@gmail.com
END:VEVENT
BEGIN:VEVENT
DTSTART;TZID=America/New_York:20280419T183000
DTEND;TZID=America/New_York:20280419T210000
DTSTAMP:20260420T021229
CREATED:20231211T202016Z
LAST-MODIFIED:20241221T232740Z
UID:10000528-1839781800-1839790800@chapters.theprimetimersww.com
SUMMARY:WED 6:30pm - Trivia Night - RSVP Required
DESCRIPTION:  \nJoin us at Trivia Night every third Wednesday of the month. \nPlease RSVP at Scott.trout@gmail.com
URL:https://chapters.theprimetimersww.com/indianapolis/event/wed-630pm-trivia-night-rsvp-required-12/2028-04-19/
LOCATION:Trivia Night\, 714 N. Capitol Ave.\, Indianapolis\, IN\, 46204\, United States
ORGANIZER;CN="Scott":MAILTO:Scott.trout@gmail.com
END:VEVENT
BEGIN:VEVENT
DTSTART;TZID=America/New_York:20280517T183000
DTEND;TZID=America/New_York:20280517T210000
DTSTAMP:20260420T021229
CREATED:20231211T202016Z
LAST-MODIFIED:20241221T232740Z
UID:10000529-1842201000-1842210000@chapters.theprimetimersww.com
SUMMARY:WED 6:30pm - Trivia Night - RSVP Required
DESCRIPTION:  \nJoin us at Trivia Night every third Wednesday of the month. \nPlease RSVP at Scott.trout@gmail.com
URL:https://chapters.theprimetimersww.com/indianapolis/event/wed-630pm-trivia-night-rsvp-required-12/2028-05-17/
LOCATION:Trivia Night\, 714 N. Capitol Ave.\, Indianapolis\, IN\, 46204\, United States
ORGANIZER;CN="Scott":MAILTO:Scott.trout@gmail.com
END:VEVENT
BEGIN:VEVENT
DTSTART;TZID=America/New_York:20280621T183000
DTEND;TZID=America/New_York:20280621T210000
DTSTAMP:20260420T021229
CREATED:20231211T202016Z
LAST-MODIFIED:20241221T232740Z
UID:10000530-1845225000-1845234000@chapters.theprimetimersww.com
SUMMARY:WED 6:30pm - Trivia Night - RSVP Required
DESCRIPTION:  \nJoin us at Trivia Night every third Wednesday of the month. \nPlease RSVP at Scott.trout@gmail.com
URL:https://chapters.theprimetimersww.com/indianapolis/event/wed-630pm-trivia-night-rsvp-required-12/2028-06-21/
LOCATION:Trivia Night\, 714 N. Capitol Ave.\, Indianapolis\, IN\, 46204\, United States
ORGANIZER;CN="Scott":MAILTO:Scott.trout@gmail.com
END:VEVENT
BEGIN:VEVENT
DTSTART;TZID=America/New_York:20280719T183000
DTEND;TZID=America/New_York:20280719T210000
DTSTAMP:20260420T021229
CREATED:20231211T202016Z
LAST-MODIFIED:20241221T232740Z
UID:10000531-1847644200-1847653200@chapters.theprimetimersww.com
SUMMARY:WED 6:30pm - Trivia Night - RSVP Required
DESCRIPTION:  \nJoin us at Trivia Night every third Wednesday of the month. \nPlease RSVP at Scott.trout@gmail.com
URL:https://chapters.theprimetimersww.com/indianapolis/event/wed-630pm-trivia-night-rsvp-required-12/2028-07-19/
LOCATION:Trivia Night\, 714 N. Capitol Ave.\, Indianapolis\, IN\, 46204\, United States
ORGANIZER;CN="Scott":MAILTO:Scott.trout@gmail.com
END:VEVENT
BEGIN:VEVENT
DTSTART;TZID=America/New_York:20280816T183000
DTEND;TZID=America/New_York:20280816T210000
DTSTAMP:20260420T021229
CREATED:20231211T202016Z
LAST-MODIFIED:20241221T232740Z
UID:10000532-1850063400-1850072400@chapters.theprimetimersww.com
SUMMARY:WED 6:30pm - Trivia Night - RSVP Required
DESCRIPTION:  \nJoin us at Trivia Night every third Wednesday of the month. \nPlease RSVP at Scott.trout@gmail.com
URL:https://chapters.theprimetimersww.com/indianapolis/event/wed-630pm-trivia-night-rsvp-required-12/2028-08-16/
LOCATION:Trivia Night\, 714 N. Capitol Ave.\, Indianapolis\, IN\, 46204\, United States
ORGANIZER;CN="Scott":MAILTO:Scott.trout@gmail.com
END:VEVENT
BEGIN:VEVENT
DTSTART;TZID=America/New_York:20280920T183000
DTEND;TZID=America/New_York:20280920T210000
DTSTAMP:20260420T021229
CREATED:20231211T202016Z
LAST-MODIFIED:20241221T232740Z
UID:10000533-1853087400-1853096400@chapters.theprimetimersww.com
SUMMARY:WED 6:30pm - Trivia Night - RSVP Required
DESCRIPTION:  \nJoin us at Trivia Night every third Wednesday of the month. \nPlease RSVP at Scott.trout@gmail.com
URL:https://chapters.theprimetimersww.com/indianapolis/event/wed-630pm-trivia-night-rsvp-required-12/2028-09-20/
LOCATION:Trivia Night\, 714 N. Capitol Ave.\, Indianapolis\, IN\, 46204\, United States
ORGANIZER;CN="Scott":MAILTO:Scott.trout@gmail.com
END:VEVENT
BEGIN:VEVENT
DTSTART;TZID=America/New_York:20281018T183000
DTEND;TZID=America/New_York:20281018T210000
DTSTAMP:20260420T021229
CREATED:20231211T202016Z
LAST-MODIFIED:20241221T232740Z
UID:10000534-1855506600-1855515600@chapters.theprimetimersww.com
SUMMARY:WED 6:30pm - Trivia Night - RSVP Required
DESCRIPTION:  \nJoin us at Trivia Night every third Wednesday of the month. \nPlease RSVP at Scott.trout@gmail.com
URL:https://chapters.theprimetimersww.com/indianapolis/event/wed-630pm-trivia-night-rsvp-required-12/2028-10-18/
LOCATION:Trivia Night\, 714 N. Capitol Ave.\, Indianapolis\, IN\, 46204\, United States
ORGANIZER;CN="Scott":MAILTO:Scott.trout@gmail.com
END:VEVENT
END:VCALENDAR