BEGIN:VCALENDAR
VERSION:2.0
PRODID:-//PrimeTimers Indianapolis - ECPv6.15.20//NONSGML v1.0//EN
CALSCALE:GREGORIAN
METHOD:PUBLISH
X-WR-CALNAME:PrimeTimers Indianapolis
X-ORIGINAL-URL:https://chapters.theprimetimersww.com/indianapolis
X-WR-CALDESC:Events for PrimeTimers Indianapolis
REFRESH-INTERVAL;VALUE=DURATION:PT1H
X-Robots-Tag:noindex
X-PUBLISHED-TTL:PT1H
BEGIN:VTIMEZONE
TZID:America/New_York
BEGIN:DAYLIGHT
TZOFFSETFROM:-0500
TZOFFSETTO:-0400
TZNAME:EDT
DTSTART:20240310T070000
END:DAYLIGHT
BEGIN:STANDARD
TZOFFSETFROM:-0400
TZOFFSETTO:-0500
TZNAME:EST
DTSTART:20241103T060000
END:STANDARD
BEGIN:DAYLIGHT
TZOFFSETFROM:-0500
TZOFFSETTO:-0400
TZNAME:EDT
DTSTART:20250309T070000
END:DAYLIGHT
BEGIN:STANDARD
TZOFFSETFROM:-0400
TZOFFSETTO:-0500
TZNAME:EST
DTSTART:20251102T060000
END:STANDARD
BEGIN:DAYLIGHT
TZOFFSETFROM:-0500
TZOFFSETTO:-0400
TZNAME:EDT
DTSTART:20260308T070000
END:DAYLIGHT
BEGIN:STANDARD
TZOFFSETFROM:-0400
TZOFFSETTO:-0500
TZNAME:EST
DTSTART:20261101T060000
END:STANDARD
BEGIN:DAYLIGHT
TZOFFSETFROM:-0500
TZOFFSETTO:-0400
TZNAME:EDT
DTSTART:20270314T070000
END:DAYLIGHT
BEGIN:STANDARD
TZOFFSETFROM:-0400
TZOFFSETTO:-0500
TZNAME:EST
DTSTART:20271107T060000
END:STANDARD
END:VTIMEZONE
BEGIN:VEVENT
DTSTART;TZID=America/New_York:20260414T190000
DTEND;TZID=America/New_York:20260414T203000
DTSTAMP:20260419T164656
CREATED:20260227T221833Z
LAST-MODIFIED:20260310T003335Z
UID:10001557-1776193200-1776198600@chapters.theprimetimersww.com
SUMMARY:TUE - PTI Board Meeting - 7:00 pm
DESCRIPTION:Paid Members are invited to attend the Prime Timers Indianapolis Board Meeting. \nHost: Michael Landon\, 25 E 40th Street\, Apt 3J\, Intercom Code 262
URL:https://chapters.theprimetimersww.com/indianapolis/event/tue-pti-board-meeting-700-pm/
LOCATION:Board Meeting\, 25 East 40th Street Unit 3J\, Indianapolis\, 46205\, United States
END:VEVENT
BEGIN:VEVENT
DTSTART;TZID=America/New_York:20260317T190000
DTEND;TZID=America/New_York:20260317T203000
DTSTAMP:20260419T164656
CREATED:20251214T213731Z
LAST-MODIFIED:20251214T213733Z
UID:10000956-1773774000-1773779400@chapters.theprimetimersww.com
SUMMARY:Tues. 7:00 PM Prime Timers Indy Board Meeting
DESCRIPTION:Paid Members are invited to attend the Prime Timers Indianapolis Board Meeting that is held on the third Tuesday of the month. \nHost: Michael Landon\, 25 E 40th Street\, Apt 3J\, Intercom Code 262
URL:https://chapters.theprimetimersww.com/indianapolis/event/tues-700-pm-prime-timers-indy-board-meeting-2/2026-03-17/
LOCATION:Board Meeting\, 25 East 40th Street Unit 3J\, Indianapolis\, 46205\, United States
END:VEVENT
BEGIN:VEVENT
DTSTART;TZID=America/New_York:20260217T190000
DTEND;TZID=America/New_York:20260217T203000
DTSTAMP:20260419T164656
CREATED:20251214T213731Z
LAST-MODIFIED:20251214T213733Z
UID:10000955-1771354800-1771360200@chapters.theprimetimersww.com
SUMMARY:Tues. 7:00 PM Prime Timers Indy Board Meeting
DESCRIPTION:Paid Members are invited to attend the Prime Timers Indianapolis Board Meeting that is held on the third Tuesday of the month. \nHost: Michael Landon\, 25 E 40th Street\, Apt 3J\, Intercom Code 262
URL:https://chapters.theprimetimersww.com/indianapolis/event/tues-700-pm-prime-timers-indy-board-meeting-2/2026-02-17/
LOCATION:Board Meeting\, 25 East 40th Street Unit 3J\, Indianapolis\, 46205\, United States
END:VEVENT
BEGIN:VEVENT
DTSTART;TZID=America/New_York:20260120T190000
DTEND;TZID=America/New_York:20260120T203000
DTSTAMP:20260419T164656
CREATED:20251214T213731Z
LAST-MODIFIED:20251214T213733Z
UID:10000954-1768935600-1768941000@chapters.theprimetimersww.com
SUMMARY:Tues. 7:00 PM Prime Timers Indy Board Meeting
DESCRIPTION:Paid Members are invited to attend the Prime Timers Indianapolis Board Meeting that is held on the third Tuesday of the month. \nHost: Michael Landon\, 25 E 40th Street\, Apt 3J\, Intercom Code 262
URL:https://chapters.theprimetimersww.com/indianapolis/event/tues-700-pm-prime-timers-indy-board-meeting-2/2026-01-20/
LOCATION:Board Meeting\, 25 East 40th Street Unit 3J\, Indianapolis\, 46205\, United States
END:VEVENT
BEGIN:VEVENT
DTSTART;TZID=America/New_York:20251216T190000
DTEND;TZID=America/New_York:20251216T203000
DTSTAMP:20260419T164656
CREATED:20251214T213731Z
LAST-MODIFIED:20251214T213733Z
UID:10000953-1765911600-1765917000@chapters.theprimetimersww.com
SUMMARY:Tues. 7:00 PM Prime Timers Indy Board Meeting
DESCRIPTION:Paid Members are invited to attend the Prime Timers Indianapolis Board Meeting that is held on the third Tuesday of the month. \nHost: Michael Landon\, 25 E 40th Street\, Apt 3J\, Intercom Code 262
URL:https://chapters.theprimetimersww.com/indianapolis/event/tues-700-pm-prime-timers-indy-board-meeting-2/2025-12-16/
LOCATION:Board Meeting\, 25 East 40th Street Unit 3J\, Indianapolis\, 46205\, United States
END:VEVENT
BEGIN:VEVENT
DTSTART;TZID=America/New_York:20251118T190000
DTEND;TZID=America/New_York:20251118T203000
DTSTAMP:20260419T164656
CREATED:20250122T190151Z
LAST-MODIFIED:20250122T190410Z
UID:10000952-1763492400-1763497800@chapters.theprimetimersww.com
SUMMARY:Tues. 7:00 PM Prime Timers Indy Board Meeting
DESCRIPTION:Paid Members are invited to attend the Prime Timers Indianapolis Board Meeting that is held on the third Tuesday of the month.
URL:https://chapters.theprimetimersww.com/indianapolis/event/tues-700-pm-prime-timers-indy-board-meeting/2025-11-18/
LOCATION:Board Meeting\, 25 East 40th Street Unit 3J\, Indianapolis\, 46205\, United States
END:VEVENT
BEGIN:VEVENT
DTSTART;TZID=America/New_York:20251021T190000
DTEND;TZID=America/New_York:20251021T203000
DTSTAMP:20260419T164656
CREATED:20250122T190151Z
LAST-MODIFIED:20250122T190410Z
UID:10000951-1761073200-1761078600@chapters.theprimetimersww.com
SUMMARY:Tues. 7:00 PM Prime Timers Indy Board Meeting
DESCRIPTION:Paid Members are invited to attend the Prime Timers Indianapolis Board Meeting that is held on the third Tuesday of the month.
URL:https://chapters.theprimetimersww.com/indianapolis/event/tues-700-pm-prime-timers-indy-board-meeting/2025-10-21/
LOCATION:Board Meeting\, 25 East 40th Street Unit 3J\, Indianapolis\, 46205\, United States
END:VEVENT
BEGIN:VEVENT
DTSTART;TZID=America/New_York:20250916T190000
DTEND;TZID=America/New_York:20250916T203000
DTSTAMP:20260419T164656
CREATED:20250122T190151Z
LAST-MODIFIED:20250122T190410Z
UID:10000950-1758049200-1758054600@chapters.theprimetimersww.com
SUMMARY:Tues. 7:00 PM Prime Timers Indy Board Meeting
DESCRIPTION:Paid Members are invited to attend the Prime Timers Indianapolis Board Meeting that is held on the third Tuesday of the month.
URL:https://chapters.theprimetimersww.com/indianapolis/event/tues-700-pm-prime-timers-indy-board-meeting/2025-09-16/
LOCATION:Board Meeting\, 25 East 40th Street Unit 3J\, Indianapolis\, 46205\, United States
END:VEVENT
BEGIN:VEVENT
DTSTART;TZID=America/New_York:20250819T190000
DTEND;TZID=America/New_York:20250819T203000
DTSTAMP:20260419T164656
CREATED:20250122T190151Z
LAST-MODIFIED:20250122T190410Z
UID:10000949-1755630000-1755635400@chapters.theprimetimersww.com
SUMMARY:Tues. 7:00 PM Prime Timers Indy Board Meeting
DESCRIPTION:Paid Members are invited to attend the Prime Timers Indianapolis Board Meeting that is held on the third Tuesday of the month.
URL:https://chapters.theprimetimersww.com/indianapolis/event/tues-700-pm-prime-timers-indy-board-meeting/2025-08-19/
LOCATION:Board Meeting\, 25 East 40th Street Unit 3J\, Indianapolis\, 46205\, United States
END:VEVENT
BEGIN:VEVENT
DTSTART;TZID=America/New_York:20250715T190000
DTEND;TZID=America/New_York:20250715T203000
DTSTAMP:20260419T164656
CREATED:20250122T190151Z
LAST-MODIFIED:20250122T190410Z
UID:10000948-1752606000-1752611400@chapters.theprimetimersww.com
SUMMARY:Tues. 7:00 PM Prime Timers Indy Board Meeting
DESCRIPTION:Paid Members are invited to attend the Prime Timers Indianapolis Board Meeting that is held on the third Tuesday of the month.
URL:https://chapters.theprimetimersww.com/indianapolis/event/tues-700-pm-prime-timers-indy-board-meeting/2025-07-15/
LOCATION:Board Meeting\, 25 East 40th Street Unit 3J\, Indianapolis\, 46205\, United States
END:VEVENT
BEGIN:VEVENT
DTSTART;TZID=America/New_York:20250617T190000
DTEND;TZID=America/New_York:20250617T203000
DTSTAMP:20260419T164656
CREATED:20250122T190151Z
LAST-MODIFIED:20250122T190410Z
UID:10000947-1750186800-1750192200@chapters.theprimetimersww.com
SUMMARY:Tues. 7:00 PM Prime Timers Indy Board Meeting
DESCRIPTION:Paid Members are invited to attend the Prime Timers Indianapolis Board Meeting that is held on the third Tuesday of the month.
URL:https://chapters.theprimetimersww.com/indianapolis/event/tues-700-pm-prime-timers-indy-board-meeting/2025-06-17/
LOCATION:Board Meeting\, 25 East 40th Street Unit 3J\, Indianapolis\, 46205\, United States
END:VEVENT
BEGIN:VEVENT
DTSTART;TZID=America/New_York:20250520T190000
DTEND;TZID=America/New_York:20250520T203000
DTSTAMP:20260419T164656
CREATED:20250122T190151Z
LAST-MODIFIED:20250122T190410Z
UID:10000946-1747767600-1747773000@chapters.theprimetimersww.com
SUMMARY:Tues. 7:00 PM Prime Timers Indy Board Meeting
DESCRIPTION:Paid Members are invited to attend the Prime Timers Indianapolis Board Meeting that is held on the third Tuesday of the month.
URL:https://chapters.theprimetimersww.com/indianapolis/event/tues-700-pm-prime-timers-indy-board-meeting/2025-05-20/
LOCATION:Board Meeting\, 25 East 40th Street Unit 3J\, Indianapolis\, 46205\, United States
END:VEVENT
BEGIN:VEVENT
DTSTART;TZID=America/New_York:20250415T190000
DTEND;TZID=America/New_York:20250415T203000
DTSTAMP:20260419T164656
CREATED:20250122T190151Z
LAST-MODIFIED:20250122T190410Z
UID:10000945-1744743600-1744749000@chapters.theprimetimersww.com
SUMMARY:Tues. 7:00 PM Prime Timers Indy Board Meeting
DESCRIPTION:Paid Members are invited to attend the Prime Timers Indianapolis Board Meeting that is held on the third Tuesday of the month.
URL:https://chapters.theprimetimersww.com/indianapolis/event/tues-700-pm-prime-timers-indy-board-meeting/2025-04-15/
LOCATION:Board Meeting\, 25 East 40th Street Unit 3J\, Indianapolis\, 46205\, United States
END:VEVENT
BEGIN:VEVENT
DTSTART;TZID=America/New_York:20250318T190000
DTEND;TZID=America/New_York:20250318T203000
DTSTAMP:20260419T164656
CREATED:20250122T190151Z
LAST-MODIFIED:20250122T190410Z
UID:10000944-1742324400-1742329800@chapters.theprimetimersww.com
SUMMARY:Tues. 7:00 PM Prime Timers Indy Board Meeting
DESCRIPTION:Paid Members are invited to attend the Prime Timers Indianapolis Board Meeting that is held on the third Tuesday of the month.
URL:https://chapters.theprimetimersww.com/indianapolis/event/tues-700-pm-prime-timers-indy-board-meeting/2025-03-18/
LOCATION:Board Meeting\, 25 East 40th Street Unit 3J\, Indianapolis\, 46205\, United States
END:VEVENT
BEGIN:VEVENT
DTSTART;TZID=America/New_York:20250218T190000
DTEND;TZID=America/New_York:20250218T203000
DTSTAMP:20260419T164656
CREATED:20250122T190151Z
LAST-MODIFIED:20250122T190410Z
UID:10000943-1739905200-1739910600@chapters.theprimetimersww.com
SUMMARY:Tues. 7:00 PM Prime Timers Indy Board Meeting
DESCRIPTION:Paid Members are invited to attend the Prime Timers Indianapolis Board Meeting that is held on the third Tuesday of the month.
URL:https://chapters.theprimetimersww.com/indianapolis/event/tues-700-pm-prime-timers-indy-board-meeting/2025-02-18/
LOCATION:Board Meeting\, 25 East 40th Street Unit 3J\, Indianapolis\, 46205\, United States
END:VEVENT
BEGIN:VEVENT
DTSTART;TZID=America/New_York:20250121T190000
DTEND;TZID=America/New_York:20250121T210000
DTSTAMP:20260419T164656
CREATED:20250118T210934Z
LAST-MODIFIED:20250118T210935Z
UID:10000211-1737486000-1737493200@chapters.theprimetimersww.com
SUMMARY:Tues 7:00 pm Prime Timers Indianapolis Board Meeting
DESCRIPTION:Paid Members are invited to attend the Prime Timers Indianapolis Board Meeting that is held on the third Tuesday of the month.
URL:https://chapters.theprimetimersww.com/indianapolis/event/tues-700-pm-prime-timers-indianapolis-board-meeting-2/
LOCATION:Board Meeting\, 25 East 40th Street Unit 3J\, Indianapolis\, 46205\, United States
ATTACH;FMTTYPE=image/jpeg:https://chapters.theprimetimersww.com/indianapolis/wp-content/uploads/2024/01/Board-Meeting-Pic.jpg
END:VEVENT
END:VCALENDAR