BEGIN:VCALENDAR
VERSION:2.0
PRODID:-//PrimeTimers Indianapolis - ECPv6.15.20//NONSGML v1.0//EN
CALSCALE:GREGORIAN
METHOD:PUBLISH
X-ORIGINAL-URL:https://chapters.theprimetimersww.com/indianapolis
X-WR-CALDESC:Events for PrimeTimers Indianapolis
REFRESH-INTERVAL;VALUE=DURATION:PT1H
X-Robots-Tag:noindex
X-PUBLISHED-TTL:PT1H
BEGIN:VTIMEZONE
TZID:America/New_York
BEGIN:DAYLIGHT
TZOFFSETFROM:-0500
TZOFFSETTO:-0400
TZNAME:EDT
DTSTART:20240310T070000
END:DAYLIGHT
BEGIN:STANDARD
TZOFFSETFROM:-0400
TZOFFSETTO:-0500
TZNAME:EST
DTSTART:20241103T060000
END:STANDARD
BEGIN:DAYLIGHT
TZOFFSETFROM:-0500
TZOFFSETTO:-0400
TZNAME:EDT
DTSTART:20250309T070000
END:DAYLIGHT
BEGIN:STANDARD
TZOFFSETFROM:-0400
TZOFFSETTO:-0500
TZNAME:EST
DTSTART:20251102T060000
END:STANDARD
BEGIN:DAYLIGHT
TZOFFSETFROM:-0500
TZOFFSETTO:-0400
TZNAME:EDT
DTSTART:20260308T070000
END:DAYLIGHT
BEGIN:STANDARD
TZOFFSETFROM:-0400
TZOFFSETTO:-0500
TZNAME:EST
DTSTART:20261101T060000
END:STANDARD
END:VTIMEZONE
BEGIN:VEVENT
DTSTART;TZID=America/New_York:20250415T190000
DTEND;TZID=America/New_York:20250415T203000
DTSTAMP:20260419T181721
CREATED:20250122T190151Z
LAST-MODIFIED:20250122T190410Z
UID:10000945-1744743600-1744749000@chapters.theprimetimersww.com
SUMMARY:Tues. 7:00 PM Prime Timers Indy Board Meeting
DESCRIPTION:Paid Members are invited to attend the Prime Timers Indianapolis Board Meeting that is held on the third Tuesday of the month.
URL:https://chapters.theprimetimersww.com/indianapolis/event/tues-700-pm-prime-timers-indy-board-meeting/2025-04-15/
LOCATION:Board Meeting\, 25 East 40th Street Unit 3J\, Indianapolis\, 46205\, United States
END:VEVENT
BEGIN:VEVENT
DTSTART;TZID=America/New_York:20250318T190000
DTEND;TZID=America/New_York:20250318T203000
DTSTAMP:20260419T181721
CREATED:20250122T190151Z
LAST-MODIFIED:20250122T190410Z
UID:10000944-1742324400-1742329800@chapters.theprimetimersww.com
SUMMARY:Tues. 7:00 PM Prime Timers Indy Board Meeting
DESCRIPTION:Paid Members are invited to attend the Prime Timers Indianapolis Board Meeting that is held on the third Tuesday of the month.
URL:https://chapters.theprimetimersww.com/indianapolis/event/tues-700-pm-prime-timers-indy-board-meeting/2025-03-18/
LOCATION:Board Meeting\, 25 East 40th Street Unit 3J\, Indianapolis\, 46205\, United States
END:VEVENT
BEGIN:VEVENT
DTSTART;TZID=America/New_York:20250218T190000
DTEND;TZID=America/New_York:20250218T203000
DTSTAMP:20260419T181721
CREATED:20250122T190151Z
LAST-MODIFIED:20250122T190410Z
UID:10000943-1739905200-1739910600@chapters.theprimetimersww.com
SUMMARY:Tues. 7:00 PM Prime Timers Indy Board Meeting
DESCRIPTION:Paid Members are invited to attend the Prime Timers Indianapolis Board Meeting that is held on the third Tuesday of the month.
URL:https://chapters.theprimetimersww.com/indianapolis/event/tues-700-pm-prime-timers-indy-board-meeting/2025-02-18/
LOCATION:Board Meeting\, 25 East 40th Street Unit 3J\, Indianapolis\, 46205\, United States
END:VEVENT
BEGIN:VEVENT
DTSTART;TZID=America/New_York:20250121T190000
DTEND;TZID=America/New_York:20250121T210000
DTSTAMP:20260419T181721
CREATED:20250118T210934Z
LAST-MODIFIED:20250118T210935Z
UID:10000211-1737486000-1737493200@chapters.theprimetimersww.com
SUMMARY:Tues 7:00 pm Prime Timers Indianapolis Board Meeting
DESCRIPTION:Paid Members are invited to attend the Prime Timers Indianapolis Board Meeting that is held on the third Tuesday of the month.
URL:https://chapters.theprimetimersww.com/indianapolis/event/tues-700-pm-prime-timers-indianapolis-board-meeting-2/
LOCATION:Board Meeting\, 25 East 40th Street Unit 3J\, Indianapolis\, 46205\, United States
ATTACH;FMTTYPE=image/jpeg:https://chapters.theprimetimersww.com/indianapolis/wp-content/uploads/2024/01/Board-Meeting-Pic.jpg
END:VEVENT
END:VCALENDAR