BEGIN:VCALENDAR
VERSION:2.0
PRODID:-//PrimeTimers Indianapolis - ECPv6.15.20//NONSGML v1.0//EN
CALSCALE:GREGORIAN
METHOD:PUBLISH
X-ORIGINAL-URL:https://chapters.theprimetimersww.com/indianapolis
X-WR-CALDESC:Events for PrimeTimers Indianapolis
REFRESH-INTERVAL;VALUE=DURATION:PT1H
X-Robots-Tag:noindex
X-PUBLISHED-TTL:PT1H
BEGIN:VTIMEZONE
TZID:America/New_York
BEGIN:DAYLIGHT
TZOFFSETFROM:-0500
TZOFFSETTO:-0400
TZNAME:EDT
DTSTART:20220313T070000
END:DAYLIGHT
BEGIN:STANDARD
TZOFFSETFROM:-0400
TZOFFSETTO:-0500
TZNAME:EST
DTSTART:20221106T060000
END:STANDARD
BEGIN:DAYLIGHT
TZOFFSETFROM:-0500
TZOFFSETTO:-0400
TZNAME:EDT
DTSTART:20230312T070000
END:DAYLIGHT
BEGIN:STANDARD
TZOFFSETFROM:-0400
TZOFFSETTO:-0500
TZNAME:EST
DTSTART:20231105T060000
END:STANDARD
BEGIN:DAYLIGHT
TZOFFSETFROM:-0500
TZOFFSETTO:-0400
TZNAME:EDT
DTSTART:20240310T070000
END:DAYLIGHT
BEGIN:STANDARD
TZOFFSETFROM:-0400
TZOFFSETTO:-0500
TZNAME:EST
DTSTART:20241103T060000
END:STANDARD
BEGIN:DAYLIGHT
TZOFFSETFROM:-0500
TZOFFSETTO:-0400
TZNAME:EDT
DTSTART:20250309T070000
END:DAYLIGHT
BEGIN:STANDARD
TZOFFSETFROM:-0400
TZOFFSETTO:-0500
TZNAME:EST
DTSTART:20251102T060000
END:STANDARD
END:VTIMEZONE
BEGIN:VEVENT
DTSTART;TZID=America/New_York:20241023T190000
DTEND;TZID=America/New_York:20241023T210000
DTSTAMP:20260420T042025
CREATED:20231212T000043Z
LAST-MODIFIED:20241010T204516Z
UID:10000143-1729710000-1729717200@chapters.theprimetimersww.com
SUMMARY:WED 7:00 PM Dinner at Mama Carolla's - RSVP required
DESCRIPTION:Please RSVP to kws82751@gmail.com
URL:https://chapters.theprimetimersww.com/indianapolis/event/wed-630-pm-dinner-at-mama-carollas-rsvp-required/
LOCATION:Mama Carolla’s\, 1031 East 54th Street\, Indianapolis\, IN\, 46220\, United States
ATTACH;FMTTYPE=image/jpeg:https://chapters.theprimetimersww.com/indianapolis/wp-content/uploads/2022/11/Logo-Moma-Carollas.jpg
END:VEVENT
BEGIN:VEVENT
DTSTART;TZID=America/New_York:20230830T183000
DTEND;TZID=America/New_York:20230830T210000
DTSTAMP:20260420T042025
CREATED:20221129T055608Z
LAST-MODIFIED:20230824T194129Z
UID:10000032-1693420200-1693429200@chapters.theprimetimersww.com
SUMMARY:WED 7:15 PM Dinner at Mama Carolla's - RSVP required
DESCRIPTION:Please RSVP to kws82751@gmail.com
URL:https://chapters.theprimetimersww.com/indianapolis/event/wed-630-pm-drinks-700-pm-dinner-at-mama-carollas-rsvp-required/
LOCATION:Mama Carolla’s\, 1031 East 54th Street\, Indianapolis\, IN\, 46220\, United States
ATTACH;FMTTYPE=image/jpeg:https://chapters.theprimetimersww.com/indianapolis/wp-content/uploads/2022/11/Logo-Moma-Carollas.jpg
END:VEVENT
END:VCALENDAR