BEGIN:VCALENDAR
VERSION:2.0
PRODID:-//PrimeTimers Indianapolis - ECPv6.15.20//NONSGML v1.0//EN
CALSCALE:GREGORIAN
METHOD:PUBLISH
X-ORIGINAL-URL:https://chapters.theprimetimersww.com/indianapolis
X-WR-CALDESC:Events for PrimeTimers Indianapolis
REFRESH-INTERVAL;VALUE=DURATION:PT1H
X-Robots-Tag:noindex
X-PUBLISHED-TTL:PT1H
BEGIN:VTIMEZONE
TZID:America/New_York
BEGIN:DAYLIGHT
TZOFFSETFROM:-0500
TZOFFSETTO:-0400
TZNAME:EDT
DTSTART:20240310T070000
END:DAYLIGHT
BEGIN:STANDARD
TZOFFSETFROM:-0400
TZOFFSETTO:-0500
TZNAME:EST
DTSTART:20241103T060000
END:STANDARD
BEGIN:DAYLIGHT
TZOFFSETFROM:-0500
TZOFFSETTO:-0400
TZNAME:EDT
DTSTART:20250309T070000
END:DAYLIGHT
BEGIN:STANDARD
TZOFFSETFROM:-0400
TZOFFSETTO:-0500
TZNAME:EST
DTSTART:20251102T060000
END:STANDARD
BEGIN:DAYLIGHT
TZOFFSETFROM:-0500
TZOFFSETTO:-0400
TZNAME:EDT
DTSTART:20260308T070000
END:DAYLIGHT
BEGIN:STANDARD
TZOFFSETFROM:-0400
TZOFFSETTO:-0500
TZNAME:EST
DTSTART:20261101T060000
END:STANDARD
BEGIN:DAYLIGHT
TZOFFSETFROM:-0500
TZOFFSETTO:-0400
TZNAME:EDT
DTSTART:20270314T070000
END:DAYLIGHT
BEGIN:STANDARD
TZOFFSETFROM:-0400
TZOFFSETTO:-0500
TZNAME:EST
DTSTART:20271107T060000
END:STANDARD
END:VTIMEZONE
BEGIN:VEVENT
DTSTART;TZID=America/New_York:20260418T193000
DTEND;TZID=America/New_York:20260418T213000
DTSTAMP:20260420T112730
CREATED:20260406T021446Z
LAST-MODIFIED:20260406T021446Z
UID:10001564-1776540600-1776547800@chapters.theprimetimersww.com
SUMMARY:SAT 7:30 pm - Indianapolis Men's Chorus
DESCRIPTION:PTI members will attend the Indianapolis Men’s Chorus performance on Saturday\, April 18. The show begins at 7:30 p.m. \nThe venue is the Warren Performing Arts Center at 9500 East 16th Street\, Door 27. \nTickets are purchased at indianapolismenschorus.org.  When you purchase your ticket\, you will be asked if you know a chorus member.  Please flag our PTI  member Ken Ertel.
URL:https://chapters.theprimetimersww.com/indianapolis/event/sat-730-pm-indianapolis-mens-chorus/
LOCATION:Warren Performing Arts Center\, 9500 East 16th Street\, Indianapolis\, United States
END:VEVENT
BEGIN:VEVENT
DTSTART;TZID=America/New_York:20251220T193000
DTEND;TZID=America/New_York:20251220T213000
DTSTAMP:20260420T112730
CREATED:20251113T000830Z
LAST-MODIFIED:20251113T000830Z
UID:10001308-1766259000-1766266200@chapters.theprimetimersww.com
SUMMARY:SAT 7:30pm - Indy Men's Chorus Holiday Concert - RSVP
DESCRIPTION:Indianapolis Men’s Chorus performs their Holiday Season Concert.\nSaturday\, December 20\, 7:30 p.m.\nWarren Performing Arts Center\, 9500 East 16th Street\nRSVP: kws82751@gmail.com
URL:https://chapters.theprimetimersww.com/indianapolis/event/sat-730pm-indy-mens-chorus-holiday-concert-rsvp/
LOCATION:Warren Performing Arts Center\, 9500 East 16th Street\, Indianapolis\, United States
END:VEVENT
END:VCALENDAR