BEGIN:VCALENDAR
VERSION:2.0
PRODID:-//Prime Timers of Kamloops - ECPv6.15.20//NONSGML v1.0//EN
CALSCALE:GREGORIAN
METHOD:PUBLISH
X-ORIGINAL-URL:https://chapters.theprimetimersww.com/kamloops
X-WR-CALDESC:Events for Prime Timers of Kamloops
REFRESH-INTERVAL;VALUE=DURATION:PT1H
X-Robots-Tag:noindex
X-PUBLISHED-TTL:PT1H
BEGIN:VTIMEZONE
TZID:America/Los_Angeles
BEGIN:DAYLIGHT
TZOFFSETFROM:-0800
TZOFFSETTO:-0700
TZNAME:PDT
DTSTART:20220313T100000
END:DAYLIGHT
BEGIN:STANDARD
TZOFFSETFROM:-0700
TZOFFSETTO:-0800
TZNAME:PST
DTSTART:20221106T090000
END:STANDARD
BEGIN:DAYLIGHT
TZOFFSETFROM:-0800
TZOFFSETTO:-0700
TZNAME:PDT
DTSTART:20230312T100000
END:DAYLIGHT
BEGIN:STANDARD
TZOFFSETFROM:-0700
TZOFFSETTO:-0800
TZNAME:PST
DTSTART:20231105T090000
END:STANDARD
BEGIN:DAYLIGHT
TZOFFSETFROM:-0800
TZOFFSETTO:-0700
TZNAME:PDT
DTSTART:20240310T100000
END:DAYLIGHT
BEGIN:STANDARD
TZOFFSETFROM:-0700
TZOFFSETTO:-0800
TZNAME:PST
DTSTART:20241103T090000
END:STANDARD
END:VTIMEZONE
BEGIN:VEVENT
DTSTART;TZID=America/Los_Angeles:20230510T193000
DTEND;TZID=America/Los_Angeles:20230510T213000
DTSTAMP:20260424T042706
CREATED:20230428T000249Z
LAST-MODIFIED:20230428T000249Z
UID:10000084-1683747000-1683754200@chapters.theprimetimersww.com
SUMMARY:Swim Night
DESCRIPTION:Join us for an evening swim.  Hosted by Jessie. For more info:  jesse@naturekamloops.ca
URL:https://chapters.theprimetimersww.com/kamloops/event/swim-night/
LOCATION:Canada Games Aquatic Centre\, 910 Mc Gill Road\, Kamloops\, British Columbia\, V2V 6N6\, Canada
ATTACH;FMTTYPE=image/png:https://chapters.theprimetimersww.com/kamloops/wp-content/uploads/2023/04/canada.-games--e1682640132622.png
END:VEVENT
END:VCALENDAR