BEGIN:VCALENDAR
VERSION:2.0
PRODID:-//Prime Timers of Kamloops - ECPv6.15.20//NONSGML v1.0//EN
CALSCALE:GREGORIAN
METHOD:PUBLISH
X-ORIGINAL-URL:https://chapters.theprimetimersww.com/kamloops
X-WR-CALDESC:Events for Prime Timers of Kamloops
REFRESH-INTERVAL;VALUE=DURATION:PT1H
X-Robots-Tag:noindex
X-PUBLISHED-TTL:PT1H
BEGIN:VTIMEZONE
TZID:America/Los_Angeles
BEGIN:DAYLIGHT
TZOFFSETFROM:-0800
TZOFFSETTO:-0700
TZNAME:PDT
DTSTART:20260308T100000
END:DAYLIGHT
BEGIN:STANDARD
TZOFFSETFROM:-0700
TZOFFSETTO:-0800
TZNAME:PST
DTSTART:20261101T090000
END:STANDARD
BEGIN:DAYLIGHT
TZOFFSETFROM:-0800
TZOFFSETTO:-0700
TZNAME:PDT
DTSTART:20270314T100000
END:DAYLIGHT
BEGIN:STANDARD
TZOFFSETFROM:-0700
TZOFFSETTO:-0800
TZNAME:PST
DTSTART:20271107T090000
END:STANDARD
BEGIN:DAYLIGHT
TZOFFSETFROM:-0800
TZOFFSETTO:-0700
TZNAME:PDT
DTSTART:20280312T100000
END:DAYLIGHT
BEGIN:STANDARD
TZOFFSETFROM:-0700
TZOFFSETTO:-0800
TZNAME:PST
DTSTART:20281105T090000
END:STANDARD
END:VTIMEZONE
BEGIN:VEVENT
DTSTART;TZID=America/Los_Angeles:20270414T193000
DTEND;TZID=America/Los_Angeles:20270414T213000
DTSTAMP:20260424T002557
CREATED:20251201T005207Z
LAST-MODIFIED:20251201T005208Z
UID:10002596-1807731000-1807738200@chapters.theprimetimersww.com
SUMMARY:Trivia Night
DESCRIPTION:Join us for a great evening of testing those grey cells.  The Primetimers team is doing quite well…they have come in third place…but they need YOU so they can improve their standing.  Stephen will be looking after the Triva nights which are held each Wednesday night. Contact Steve for more information  stephen.griffiths@telus.net
URL:https://chapters.theprimetimersww.com/kamloops/event/trivia-night-2-2-4-2/2027-04-14/
LOCATION:Fox and Hounds Pub\, 945 W Columbia St #20\, Kamloops\, British Columbia\, V2C 1L5\, Canada
ATTACH;FMTTYPE=image/jpeg:https://chapters.theprimetimersww.com/kamloops/wp-content/uploads/2024/09/IMG_1421.jpg
END:VEVENT
BEGIN:VEVENT
DTSTART;TZID=America/Los_Angeles:20270421T193000
DTEND;TZID=America/Los_Angeles:20270421T213000
DTSTAMP:20260424T002557
CREATED:20251201T005207Z
LAST-MODIFIED:20251201T005208Z
UID:10002597-1808335800-1808343000@chapters.theprimetimersww.com
SUMMARY:Trivia Night
DESCRIPTION:Join us for a great evening of testing those grey cells.  The Primetimers team is doing quite well…they have come in third place…but they need YOU so they can improve their standing.  Stephen will be looking after the Triva nights which are held each Wednesday night. Contact Steve for more information  stephen.griffiths@telus.net
URL:https://chapters.theprimetimersww.com/kamloops/event/trivia-night-2-2-4-2/2027-04-21/
LOCATION:Fox and Hounds Pub\, 945 W Columbia St #20\, Kamloops\, British Columbia\, V2C 1L5\, Canada
ATTACH;FMTTYPE=image/jpeg:https://chapters.theprimetimersww.com/kamloops/wp-content/uploads/2024/09/IMG_1421.jpg
END:VEVENT
BEGIN:VEVENT
DTSTART;TZID=America/Los_Angeles:20270428T193000
DTEND;TZID=America/Los_Angeles:20270428T213000
DTSTAMP:20260424T002557
CREATED:20251201T005207Z
LAST-MODIFIED:20251201T005208Z
UID:10002598-1808940600-1808947800@chapters.theprimetimersww.com
SUMMARY:Trivia Night
DESCRIPTION:Join us for a great evening of testing those grey cells.  The Primetimers team is doing quite well…they have come in third place…but they need YOU so they can improve their standing.  Stephen will be looking after the Triva nights which are held each Wednesday night. Contact Steve for more information  stephen.griffiths@telus.net
URL:https://chapters.theprimetimersww.com/kamloops/event/trivia-night-2-2-4-2/2027-04-28/
LOCATION:Fox and Hounds Pub\, 945 W Columbia St #20\, Kamloops\, British Columbia\, V2C 1L5\, Canada
ATTACH;FMTTYPE=image/jpeg:https://chapters.theprimetimersww.com/kamloops/wp-content/uploads/2024/09/IMG_1421.jpg
END:VEVENT
BEGIN:VEVENT
DTSTART;TZID=America/Los_Angeles:20270505T193000
DTEND;TZID=America/Los_Angeles:20270505T213000
DTSTAMP:20260424T002557
CREATED:20251201T005207Z
LAST-MODIFIED:20251201T005208Z
UID:10002599-1809545400-1809552600@chapters.theprimetimersww.com
SUMMARY:Trivia Night
DESCRIPTION:Join us for a great evening of testing those grey cells.  The Primetimers team is doing quite well…they have come in third place…but they need YOU so they can improve their standing.  Stephen will be looking after the Triva nights which are held each Wednesday night. Contact Steve for more information  stephen.griffiths@telus.net
URL:https://chapters.theprimetimersww.com/kamloops/event/trivia-night-2-2-4-2/2027-05-05/
LOCATION:Fox and Hounds Pub\, 945 W Columbia St #20\, Kamloops\, British Columbia\, V2C 1L5\, Canada
ATTACH;FMTTYPE=image/jpeg:https://chapters.theprimetimersww.com/kamloops/wp-content/uploads/2024/09/IMG_1421.jpg
END:VEVENT
BEGIN:VEVENT
DTSTART;TZID=America/Los_Angeles:20270512T193000
DTEND;TZID=America/Los_Angeles:20270512T213000
DTSTAMP:20260424T002557
CREATED:20251201T005207Z
LAST-MODIFIED:20251201T005208Z
UID:10002600-1810150200-1810157400@chapters.theprimetimersww.com
SUMMARY:Trivia Night
DESCRIPTION:Join us for a great evening of testing those grey cells.  The Primetimers team is doing quite well…they have come in third place…but they need YOU so they can improve their standing.  Stephen will be looking after the Triva nights which are held each Wednesday night. Contact Steve for more information  stephen.griffiths@telus.net
URL:https://chapters.theprimetimersww.com/kamloops/event/trivia-night-2-2-4-2/2027-05-12/
LOCATION:Fox and Hounds Pub\, 945 W Columbia St #20\, Kamloops\, British Columbia\, V2C 1L5\, Canada
ATTACH;FMTTYPE=image/jpeg:https://chapters.theprimetimersww.com/kamloops/wp-content/uploads/2024/09/IMG_1421.jpg
END:VEVENT
BEGIN:VEVENT
DTSTART;TZID=America/Los_Angeles:20270519T193000
DTEND;TZID=America/Los_Angeles:20270519T213000
DTSTAMP:20260424T002557
CREATED:20251201T005207Z
LAST-MODIFIED:20251201T005208Z
UID:10002601-1810755000-1810762200@chapters.theprimetimersww.com
SUMMARY:Trivia Night
DESCRIPTION:Join us for a great evening of testing those grey cells.  The Primetimers team is doing quite well…they have come in third place…but they need YOU so they can improve their standing.  Stephen will be looking after the Triva nights which are held each Wednesday night. Contact Steve for more information  stephen.griffiths@telus.net
URL:https://chapters.theprimetimersww.com/kamloops/event/trivia-night-2-2-4-2/2027-05-19/
LOCATION:Fox and Hounds Pub\, 945 W Columbia St #20\, Kamloops\, British Columbia\, V2C 1L5\, Canada
ATTACH;FMTTYPE=image/jpeg:https://chapters.theprimetimersww.com/kamloops/wp-content/uploads/2024/09/IMG_1421.jpg
END:VEVENT
BEGIN:VEVENT
DTSTART;TZID=America/Los_Angeles:20270526T193000
DTEND;TZID=America/Los_Angeles:20270526T213000
DTSTAMP:20260424T002557
CREATED:20251201T005207Z
LAST-MODIFIED:20251201T005208Z
UID:10002602-1811359800-1811367000@chapters.theprimetimersww.com
SUMMARY:Trivia Night
DESCRIPTION:Join us for a great evening of testing those grey cells.  The Primetimers team is doing quite well…they have come in third place…but they need YOU so they can improve their standing.  Stephen will be looking after the Triva nights which are held each Wednesday night. Contact Steve for more information  stephen.griffiths@telus.net
URL:https://chapters.theprimetimersww.com/kamloops/event/trivia-night-2-2-4-2/2027-05-26/
LOCATION:Fox and Hounds Pub\, 945 W Columbia St #20\, Kamloops\, British Columbia\, V2C 1L5\, Canada
ATTACH;FMTTYPE=image/jpeg:https://chapters.theprimetimersww.com/kamloops/wp-content/uploads/2024/09/IMG_1421.jpg
END:VEVENT
BEGIN:VEVENT
DTSTART;TZID=America/Los_Angeles:20270602T193000
DTEND;TZID=America/Los_Angeles:20270602T213000
DTSTAMP:20260424T002557
CREATED:20251201T005207Z
LAST-MODIFIED:20251201T005208Z
UID:10002603-1811964600-1811971800@chapters.theprimetimersww.com
SUMMARY:Trivia Night
DESCRIPTION:Join us for a great evening of testing those grey cells.  The Primetimers team is doing quite well…they have come in third place…but they need YOU so they can improve their standing.  Stephen will be looking after the Triva nights which are held each Wednesday night. Contact Steve for more information  stephen.griffiths@telus.net
URL:https://chapters.theprimetimersww.com/kamloops/event/trivia-night-2-2-4-2/2027-06-02/
LOCATION:Fox and Hounds Pub\, 945 W Columbia St #20\, Kamloops\, British Columbia\, V2C 1L5\, Canada
ATTACH;FMTTYPE=image/jpeg:https://chapters.theprimetimersww.com/kamloops/wp-content/uploads/2024/09/IMG_1421.jpg
END:VEVENT
BEGIN:VEVENT
DTSTART;TZID=America/Los_Angeles:20270609T193000
DTEND;TZID=America/Los_Angeles:20270609T213000
DTSTAMP:20260424T002557
CREATED:20251201T005207Z
LAST-MODIFIED:20251201T005208Z
UID:10002604-1812569400-1812576600@chapters.theprimetimersww.com
SUMMARY:Trivia Night
DESCRIPTION:Join us for a great evening of testing those grey cells.  The Primetimers team is doing quite well…they have come in third place…but they need YOU so they can improve their standing.  Stephen will be looking after the Triva nights which are held each Wednesday night. Contact Steve for more information  stephen.griffiths@telus.net
URL:https://chapters.theprimetimersww.com/kamloops/event/trivia-night-2-2-4-2/2027-06-09/
LOCATION:Fox and Hounds Pub\, 945 W Columbia St #20\, Kamloops\, British Columbia\, V2C 1L5\, Canada
ATTACH;FMTTYPE=image/jpeg:https://chapters.theprimetimersww.com/kamloops/wp-content/uploads/2024/09/IMG_1421.jpg
END:VEVENT
BEGIN:VEVENT
DTSTART;TZID=America/Los_Angeles:20270616T193000
DTEND;TZID=America/Los_Angeles:20270616T213000
DTSTAMP:20260424T002557
CREATED:20251201T005207Z
LAST-MODIFIED:20251201T005208Z
UID:10002605-1813174200-1813181400@chapters.theprimetimersww.com
SUMMARY:Trivia Night
DESCRIPTION:Join us for a great evening of testing those grey cells.  The Primetimers team is doing quite well…they have come in third place…but they need YOU so they can improve their standing.  Stephen will be looking after the Triva nights which are held each Wednesday night. Contact Steve for more information  stephen.griffiths@telus.net
URL:https://chapters.theprimetimersww.com/kamloops/event/trivia-night-2-2-4-2/2027-06-16/
LOCATION:Fox and Hounds Pub\, 945 W Columbia St #20\, Kamloops\, British Columbia\, V2C 1L5\, Canada
ATTACH;FMTTYPE=image/jpeg:https://chapters.theprimetimersww.com/kamloops/wp-content/uploads/2024/09/IMG_1421.jpg
END:VEVENT
BEGIN:VEVENT
DTSTART;TZID=America/Los_Angeles:20270623T193000
DTEND;TZID=America/Los_Angeles:20270623T213000
DTSTAMP:20260424T002557
CREATED:20251201T005207Z
LAST-MODIFIED:20251201T005208Z
UID:10002606-1813779000-1813786200@chapters.theprimetimersww.com
SUMMARY:Trivia Night
DESCRIPTION:Join us for a great evening of testing those grey cells.  The Primetimers team is doing quite well…they have come in third place…but they need YOU so they can improve their standing.  Stephen will be looking after the Triva nights which are held each Wednesday night. Contact Steve for more information  stephen.griffiths@telus.net
URL:https://chapters.theprimetimersww.com/kamloops/event/trivia-night-2-2-4-2/2027-06-23/
LOCATION:Fox and Hounds Pub\, 945 W Columbia St #20\, Kamloops\, British Columbia\, V2C 1L5\, Canada
ATTACH;FMTTYPE=image/jpeg:https://chapters.theprimetimersww.com/kamloops/wp-content/uploads/2024/09/IMG_1421.jpg
END:VEVENT
BEGIN:VEVENT
DTSTART;TZID=America/Los_Angeles:20270630T193000
DTEND;TZID=America/Los_Angeles:20270630T213000
DTSTAMP:20260424T002557
CREATED:20251201T005207Z
LAST-MODIFIED:20251201T005208Z
UID:10002607-1814383800-1814391000@chapters.theprimetimersww.com
SUMMARY:Trivia Night
DESCRIPTION:Join us for a great evening of testing those grey cells.  The Primetimers team is doing quite well…they have come in third place…but they need YOU so they can improve their standing.  Stephen will be looking after the Triva nights which are held each Wednesday night. Contact Steve for more information  stephen.griffiths@telus.net
URL:https://chapters.theprimetimersww.com/kamloops/event/trivia-night-2-2-4-2/2027-06-30/
LOCATION:Fox and Hounds Pub\, 945 W Columbia St #20\, Kamloops\, British Columbia\, V2C 1L5\, Canada
ATTACH;FMTTYPE=image/jpeg:https://chapters.theprimetimersww.com/kamloops/wp-content/uploads/2024/09/IMG_1421.jpg
END:VEVENT
BEGIN:VEVENT
DTSTART;TZID=America/Los_Angeles:20270707T193000
DTEND;TZID=America/Los_Angeles:20270707T213000
DTSTAMP:20260424T002557
CREATED:20251201T005207Z
LAST-MODIFIED:20251201T005208Z
UID:10002608-1814988600-1814995800@chapters.theprimetimersww.com
SUMMARY:Trivia Night
DESCRIPTION:Join us for a great evening of testing those grey cells.  The Primetimers team is doing quite well…they have come in third place…but they need YOU so they can improve their standing.  Stephen will be looking after the Triva nights which are held each Wednesday night. Contact Steve for more information  stephen.griffiths@telus.net
URL:https://chapters.theprimetimersww.com/kamloops/event/trivia-night-2-2-4-2/2027-07-07/
LOCATION:Fox and Hounds Pub\, 945 W Columbia St #20\, Kamloops\, British Columbia\, V2C 1L5\, Canada
ATTACH;FMTTYPE=image/jpeg:https://chapters.theprimetimersww.com/kamloops/wp-content/uploads/2024/09/IMG_1421.jpg
END:VEVENT
BEGIN:VEVENT
DTSTART;TZID=America/Los_Angeles:20270714T193000
DTEND;TZID=America/Los_Angeles:20270714T213000
DTSTAMP:20260424T002557
CREATED:20251201T005207Z
LAST-MODIFIED:20251201T005208Z
UID:10002609-1815593400-1815600600@chapters.theprimetimersww.com
SUMMARY:Trivia Night
DESCRIPTION:Join us for a great evening of testing those grey cells.  The Primetimers team is doing quite well…they have come in third place…but they need YOU so they can improve their standing.  Stephen will be looking after the Triva nights which are held each Wednesday night. Contact Steve for more information  stephen.griffiths@telus.net
URL:https://chapters.theprimetimersww.com/kamloops/event/trivia-night-2-2-4-2/2027-07-14/
LOCATION:Fox and Hounds Pub\, 945 W Columbia St #20\, Kamloops\, British Columbia\, V2C 1L5\, Canada
ATTACH;FMTTYPE=image/jpeg:https://chapters.theprimetimersww.com/kamloops/wp-content/uploads/2024/09/IMG_1421.jpg
END:VEVENT
BEGIN:VEVENT
DTSTART;TZID=America/Los_Angeles:20270721T193000
DTEND;TZID=America/Los_Angeles:20270721T213000
DTSTAMP:20260424T002557
CREATED:20251201T005207Z
LAST-MODIFIED:20251201T005208Z
UID:10002610-1816198200-1816205400@chapters.theprimetimersww.com
SUMMARY:Trivia Night
DESCRIPTION:Join us for a great evening of testing those grey cells.  The Primetimers team is doing quite well…they have come in third place…but they need YOU so they can improve their standing.  Stephen will be looking after the Triva nights which are held each Wednesday night. Contact Steve for more information  stephen.griffiths@telus.net
URL:https://chapters.theprimetimersww.com/kamloops/event/trivia-night-2-2-4-2/2027-07-21/
LOCATION:Fox and Hounds Pub\, 945 W Columbia St #20\, Kamloops\, British Columbia\, V2C 1L5\, Canada
ATTACH;FMTTYPE=image/jpeg:https://chapters.theprimetimersww.com/kamloops/wp-content/uploads/2024/09/IMG_1421.jpg
END:VEVENT
BEGIN:VEVENT
DTSTART;TZID=America/Los_Angeles:20270728T193000
DTEND;TZID=America/Los_Angeles:20270728T213000
DTSTAMP:20260424T002557
CREATED:20251201T005207Z
LAST-MODIFIED:20251201T005208Z
UID:10002611-1816803000-1816810200@chapters.theprimetimersww.com
SUMMARY:Trivia Night
DESCRIPTION:Join us for a great evening of testing those grey cells.  The Primetimers team is doing quite well…they have come in third place…but they need YOU so they can improve their standing.  Stephen will be looking after the Triva nights which are held each Wednesday night. Contact Steve for more information  stephen.griffiths@telus.net
URL:https://chapters.theprimetimersww.com/kamloops/event/trivia-night-2-2-4-2/2027-07-28/
LOCATION:Fox and Hounds Pub\, 945 W Columbia St #20\, Kamloops\, British Columbia\, V2C 1L5\, Canada
ATTACH;FMTTYPE=image/jpeg:https://chapters.theprimetimersww.com/kamloops/wp-content/uploads/2024/09/IMG_1421.jpg
END:VEVENT
BEGIN:VEVENT
DTSTART;TZID=America/Los_Angeles:20270804T193000
DTEND;TZID=America/Los_Angeles:20270804T213000
DTSTAMP:20260424T002557
CREATED:20251201T005207Z
LAST-MODIFIED:20251201T005208Z
UID:10002612-1817407800-1817415000@chapters.theprimetimersww.com
SUMMARY:Trivia Night
DESCRIPTION:Join us for a great evening of testing those grey cells.  The Primetimers team is doing quite well…they have come in third place…but they need YOU so they can improve their standing.  Stephen will be looking after the Triva nights which are held each Wednesday night. Contact Steve for more information  stephen.griffiths@telus.net
URL:https://chapters.theprimetimersww.com/kamloops/event/trivia-night-2-2-4-2/2027-08-04/
LOCATION:Fox and Hounds Pub\, 945 W Columbia St #20\, Kamloops\, British Columbia\, V2C 1L5\, Canada
ATTACH;FMTTYPE=image/jpeg:https://chapters.theprimetimersww.com/kamloops/wp-content/uploads/2024/09/IMG_1421.jpg
END:VEVENT
BEGIN:VEVENT
DTSTART;TZID=America/Los_Angeles:20270811T193000
DTEND;TZID=America/Los_Angeles:20270811T213000
DTSTAMP:20260424T002557
CREATED:20251201T005207Z
LAST-MODIFIED:20251201T005208Z
UID:10002613-1818012600-1818019800@chapters.theprimetimersww.com
SUMMARY:Trivia Night
DESCRIPTION:Join us for a great evening of testing those grey cells.  The Primetimers team is doing quite well…they have come in third place…but they need YOU so they can improve their standing.  Stephen will be looking after the Triva nights which are held each Wednesday night. Contact Steve for more information  stephen.griffiths@telus.net
URL:https://chapters.theprimetimersww.com/kamloops/event/trivia-night-2-2-4-2/2027-08-11/
LOCATION:Fox and Hounds Pub\, 945 W Columbia St #20\, Kamloops\, British Columbia\, V2C 1L5\, Canada
ATTACH;FMTTYPE=image/jpeg:https://chapters.theprimetimersww.com/kamloops/wp-content/uploads/2024/09/IMG_1421.jpg
END:VEVENT
BEGIN:VEVENT
DTSTART;TZID=America/Los_Angeles:20270818T193000
DTEND;TZID=America/Los_Angeles:20270818T213000
DTSTAMP:20260424T002557
CREATED:20251201T005207Z
LAST-MODIFIED:20251201T005208Z
UID:10002614-1818617400-1818624600@chapters.theprimetimersww.com
SUMMARY:Trivia Night
DESCRIPTION:Join us for a great evening of testing those grey cells.  The Primetimers team is doing quite well…they have come in third place…but they need YOU so they can improve their standing.  Stephen will be looking after the Triva nights which are held each Wednesday night. Contact Steve for more information  stephen.griffiths@telus.net
URL:https://chapters.theprimetimersww.com/kamloops/event/trivia-night-2-2-4-2/2027-08-18/
LOCATION:Fox and Hounds Pub\, 945 W Columbia St #20\, Kamloops\, British Columbia\, V2C 1L5\, Canada
ATTACH;FMTTYPE=image/jpeg:https://chapters.theprimetimersww.com/kamloops/wp-content/uploads/2024/09/IMG_1421.jpg
END:VEVENT
BEGIN:VEVENT
DTSTART;TZID=America/Los_Angeles:20270825T193000
DTEND;TZID=America/Los_Angeles:20270825T213000
DTSTAMP:20260424T002557
CREATED:20251201T005207Z
LAST-MODIFIED:20251201T005208Z
UID:10002615-1819222200-1819229400@chapters.theprimetimersww.com
SUMMARY:Trivia Night
DESCRIPTION:Join us for a great evening of testing those grey cells.  The Primetimers team is doing quite well…they have come in third place…but they need YOU so they can improve their standing.  Stephen will be looking after the Triva nights which are held each Wednesday night. Contact Steve for more information  stephen.griffiths@telus.net
URL:https://chapters.theprimetimersww.com/kamloops/event/trivia-night-2-2-4-2/2027-08-25/
LOCATION:Fox and Hounds Pub\, 945 W Columbia St #20\, Kamloops\, British Columbia\, V2C 1L5\, Canada
ATTACH;FMTTYPE=image/jpeg:https://chapters.theprimetimersww.com/kamloops/wp-content/uploads/2024/09/IMG_1421.jpg
END:VEVENT
BEGIN:VEVENT
DTSTART;TZID=America/Los_Angeles:20270901T193000
DTEND;TZID=America/Los_Angeles:20270901T213000
DTSTAMP:20260424T002557
CREATED:20251201T005207Z
LAST-MODIFIED:20251201T005208Z
UID:10002616-1819827000-1819834200@chapters.theprimetimersww.com
SUMMARY:Trivia Night
DESCRIPTION:Join us for a great evening of testing those grey cells.  The Primetimers team is doing quite well…they have come in third place…but they need YOU so they can improve their standing.  Stephen will be looking after the Triva nights which are held each Wednesday night. Contact Steve for more information  stephen.griffiths@telus.net
URL:https://chapters.theprimetimersww.com/kamloops/event/trivia-night-2-2-4-2/2027-09-01/
LOCATION:Fox and Hounds Pub\, 945 W Columbia St #20\, Kamloops\, British Columbia\, V2C 1L5\, Canada
ATTACH;FMTTYPE=image/jpeg:https://chapters.theprimetimersww.com/kamloops/wp-content/uploads/2024/09/IMG_1421.jpg
END:VEVENT
BEGIN:VEVENT
DTSTART;TZID=America/Los_Angeles:20270908T193000
DTEND;TZID=America/Los_Angeles:20270908T213000
DTSTAMP:20260424T002557
CREATED:20251201T005207Z
LAST-MODIFIED:20251201T005208Z
UID:10002617-1820431800-1820439000@chapters.theprimetimersww.com
SUMMARY:Trivia Night
DESCRIPTION:Join us for a great evening of testing those grey cells.  The Primetimers team is doing quite well…they have come in third place…but they need YOU so they can improve their standing.  Stephen will be looking after the Triva nights which are held each Wednesday night. Contact Steve for more information  stephen.griffiths@telus.net
URL:https://chapters.theprimetimersww.com/kamloops/event/trivia-night-2-2-4-2/2027-09-08/
LOCATION:Fox and Hounds Pub\, 945 W Columbia St #20\, Kamloops\, British Columbia\, V2C 1L5\, Canada
ATTACH;FMTTYPE=image/jpeg:https://chapters.theprimetimersww.com/kamloops/wp-content/uploads/2024/09/IMG_1421.jpg
END:VEVENT
BEGIN:VEVENT
DTSTART;TZID=America/Los_Angeles:20270915T193000
DTEND;TZID=America/Los_Angeles:20270915T213000
DTSTAMP:20260424T002558
CREATED:20251201T005207Z
LAST-MODIFIED:20251201T005208Z
UID:10002618-1821036600-1821043800@chapters.theprimetimersww.com
SUMMARY:Trivia Night
DESCRIPTION:Join us for a great evening of testing those grey cells.  The Primetimers team is doing quite well…they have come in third place…but they need YOU so they can improve their standing.  Stephen will be looking after the Triva nights which are held each Wednesday night. Contact Steve for more information  stephen.griffiths@telus.net
URL:https://chapters.theprimetimersww.com/kamloops/event/trivia-night-2-2-4-2/2027-09-15/
LOCATION:Fox and Hounds Pub\, 945 W Columbia St #20\, Kamloops\, British Columbia\, V2C 1L5\, Canada
ATTACH;FMTTYPE=image/jpeg:https://chapters.theprimetimersww.com/kamloops/wp-content/uploads/2024/09/IMG_1421.jpg
END:VEVENT
BEGIN:VEVENT
DTSTART;TZID=America/Los_Angeles:20270922T193000
DTEND;TZID=America/Los_Angeles:20270922T213000
DTSTAMP:20260424T002558
CREATED:20251201T005207Z
LAST-MODIFIED:20251201T005208Z
UID:10002619-1821641400-1821648600@chapters.theprimetimersww.com
SUMMARY:Trivia Night
DESCRIPTION:Join us for a great evening of testing those grey cells.  The Primetimers team is doing quite well…they have come in third place…but they need YOU so they can improve their standing.  Stephen will be looking after the Triva nights which are held each Wednesday night. Contact Steve for more information  stephen.griffiths@telus.net
URL:https://chapters.theprimetimersww.com/kamloops/event/trivia-night-2-2-4-2/2027-09-22/
LOCATION:Fox and Hounds Pub\, 945 W Columbia St #20\, Kamloops\, British Columbia\, V2C 1L5\, Canada
ATTACH;FMTTYPE=image/jpeg:https://chapters.theprimetimersww.com/kamloops/wp-content/uploads/2024/09/IMG_1421.jpg
END:VEVENT
BEGIN:VEVENT
DTSTART;TZID=America/Los_Angeles:20270929T193000
DTEND;TZID=America/Los_Angeles:20270929T213000
DTSTAMP:20260424T002558
CREATED:20251201T005207Z
LAST-MODIFIED:20251201T005208Z
UID:10002620-1822246200-1822253400@chapters.theprimetimersww.com
SUMMARY:Trivia Night
DESCRIPTION:Join us for a great evening of testing those grey cells.  The Primetimers team is doing quite well…they have come in third place…but they need YOU so they can improve their standing.  Stephen will be looking after the Triva nights which are held each Wednesday night. Contact Steve for more information  stephen.griffiths@telus.net
URL:https://chapters.theprimetimersww.com/kamloops/event/trivia-night-2-2-4-2/2027-09-29/
LOCATION:Fox and Hounds Pub\, 945 W Columbia St #20\, Kamloops\, British Columbia\, V2C 1L5\, Canada
ATTACH;FMTTYPE=image/jpeg:https://chapters.theprimetimersww.com/kamloops/wp-content/uploads/2024/09/IMG_1421.jpg
END:VEVENT
BEGIN:VEVENT
DTSTART;TZID=America/Los_Angeles:20271006T193000
DTEND;TZID=America/Los_Angeles:20271006T213000
DTSTAMP:20260424T002558
CREATED:20251201T005207Z
LAST-MODIFIED:20251201T005208Z
UID:10002621-1822851000-1822858200@chapters.theprimetimersww.com
SUMMARY:Trivia Night
DESCRIPTION:Join us for a great evening of testing those grey cells.  The Primetimers team is doing quite well…they have come in third place…but they need YOU so they can improve their standing.  Stephen will be looking after the Triva nights which are held each Wednesday night. Contact Steve for more information  stephen.griffiths@telus.net
URL:https://chapters.theprimetimersww.com/kamloops/event/trivia-night-2-2-4-2/2027-10-06/
LOCATION:Fox and Hounds Pub\, 945 W Columbia St #20\, Kamloops\, British Columbia\, V2C 1L5\, Canada
ATTACH;FMTTYPE=image/jpeg:https://chapters.theprimetimersww.com/kamloops/wp-content/uploads/2024/09/IMG_1421.jpg
END:VEVENT
BEGIN:VEVENT
DTSTART;TZID=America/Los_Angeles:20271013T193000
DTEND;TZID=America/Los_Angeles:20271013T213000
DTSTAMP:20260424T002558
CREATED:20251201T005207Z
LAST-MODIFIED:20251201T005208Z
UID:10002622-1823455800-1823463000@chapters.theprimetimersww.com
SUMMARY:Trivia Night
DESCRIPTION:Join us for a great evening of testing those grey cells.  The Primetimers team is doing quite well…they have come in third place…but they need YOU so they can improve their standing.  Stephen will be looking after the Triva nights which are held each Wednesday night. Contact Steve for more information  stephen.griffiths@telus.net
URL:https://chapters.theprimetimersww.com/kamloops/event/trivia-night-2-2-4-2/2027-10-13/
LOCATION:Fox and Hounds Pub\, 945 W Columbia St #20\, Kamloops\, British Columbia\, V2C 1L5\, Canada
ATTACH;FMTTYPE=image/jpeg:https://chapters.theprimetimersww.com/kamloops/wp-content/uploads/2024/09/IMG_1421.jpg
END:VEVENT
BEGIN:VEVENT
DTSTART;TZID=America/Los_Angeles:20271020T193000
DTEND;TZID=America/Los_Angeles:20271020T213000
DTSTAMP:20260424T002558
CREATED:20251201T005207Z
LAST-MODIFIED:20251201T005208Z
UID:10002623-1824060600-1824067800@chapters.theprimetimersww.com
SUMMARY:Trivia Night
DESCRIPTION:Join us for a great evening of testing those grey cells.  The Primetimers team is doing quite well…they have come in third place…but they need YOU so they can improve their standing.  Stephen will be looking after the Triva nights which are held each Wednesday night. Contact Steve for more information  stephen.griffiths@telus.net
URL:https://chapters.theprimetimersww.com/kamloops/event/trivia-night-2-2-4-2/2027-10-20/
LOCATION:Fox and Hounds Pub\, 945 W Columbia St #20\, Kamloops\, British Columbia\, V2C 1L5\, Canada
ATTACH;FMTTYPE=image/jpeg:https://chapters.theprimetimersww.com/kamloops/wp-content/uploads/2024/09/IMG_1421.jpg
END:VEVENT
BEGIN:VEVENT
DTSTART;TZID=America/Los_Angeles:20271027T193000
DTEND;TZID=America/Los_Angeles:20271027T213000
DTSTAMP:20260424T002558
CREATED:20251201T005207Z
LAST-MODIFIED:20251201T005208Z
UID:10002624-1824665400-1824672600@chapters.theprimetimersww.com
SUMMARY:Trivia Night
DESCRIPTION:Join us for a great evening of testing those grey cells.  The Primetimers team is doing quite well…they have come in third place…but they need YOU so they can improve their standing.  Stephen will be looking after the Triva nights which are held each Wednesday night. Contact Steve for more information  stephen.griffiths@telus.net
URL:https://chapters.theprimetimersww.com/kamloops/event/trivia-night-2-2-4-2/2027-10-27/
LOCATION:Fox and Hounds Pub\, 945 W Columbia St #20\, Kamloops\, British Columbia\, V2C 1L5\, Canada
ATTACH;FMTTYPE=image/jpeg:https://chapters.theprimetimersww.com/kamloops/wp-content/uploads/2024/09/IMG_1421.jpg
END:VEVENT
BEGIN:VEVENT
DTSTART;TZID=America/Los_Angeles:20271103T193000
DTEND;TZID=America/Los_Angeles:20271103T213000
DTSTAMP:20260424T002558
CREATED:20251201T005207Z
LAST-MODIFIED:20251201T005208Z
UID:10002625-1825270200-1825277400@chapters.theprimetimersww.com
SUMMARY:Trivia Night
DESCRIPTION:Join us for a great evening of testing those grey cells.  The Primetimers team is doing quite well…they have come in third place…but they need YOU so they can improve their standing.  Stephen will be looking after the Triva nights which are held each Wednesday night. Contact Steve for more information  stephen.griffiths@telus.net
URL:https://chapters.theprimetimersww.com/kamloops/event/trivia-night-2-2-4-2/2027-11-03/
LOCATION:Fox and Hounds Pub\, 945 W Columbia St #20\, Kamloops\, British Columbia\, V2C 1L5\, Canada
ATTACH;FMTTYPE=image/jpeg:https://chapters.theprimetimersww.com/kamloops/wp-content/uploads/2024/09/IMG_1421.jpg
END:VEVENT
END:VCALENDAR