BEGIN:VCALENDAR
VERSION:2.0
PRODID:-//PrimeTimers of Kansas City - ECPv6.15.20//NONSGML v1.0//EN
CALSCALE:GREGORIAN
METHOD:PUBLISH
X-WR-CALNAME:PrimeTimers of Kansas City
X-ORIGINAL-URL:https://chapters.theprimetimersww.com/kansascity
X-WR-CALDESC:Events for PrimeTimers of Kansas City
REFRESH-INTERVAL;VALUE=DURATION:PT1H
X-Robots-Tag:noindex
X-PUBLISHED-TTL:PT1H
BEGIN:VTIMEZONE
TZID:America/Chicago
BEGIN:DAYLIGHT
TZOFFSETFROM:-0600
TZOFFSETTO:-0500
TZNAME:CDT
DTSTART:20250309T080000
END:DAYLIGHT
BEGIN:STANDARD
TZOFFSETFROM:-0500
TZOFFSETTO:-0600
TZNAME:CST
DTSTART:20251102T070000
END:STANDARD
BEGIN:DAYLIGHT
TZOFFSETFROM:-0600
TZOFFSETTO:-0500
TZNAME:CDT
DTSTART:20260308T080000
END:DAYLIGHT
BEGIN:STANDARD
TZOFFSETFROM:-0500
TZOFFSETTO:-0600
TZNAME:CST
DTSTART:20261101T070000
END:STANDARD
BEGIN:DAYLIGHT
TZOFFSETFROM:-0600
TZOFFSETTO:-0500
TZNAME:CDT
DTSTART:20270314T080000
END:DAYLIGHT
BEGIN:STANDARD
TZOFFSETFROM:-0500
TZOFFSETTO:-0600
TZNAME:CST
DTSTART:20271107T070000
END:STANDARD
END:VTIMEZONE
BEGIN:VEVENT
DTSTART;TZID=America/Chicago:20260216T170000
DTEND;TZID=America/Chicago:20260216T190000
DTSTAMP:20260424T005720
CREATED:20260115T221109Z
LAST-MODIFIED:20260115T221109Z
UID:10004194-1771261200-1771268400@chapters.theprimetimersww.com
SUMMARY:Happy Hour Dinner @ Barrio in Briarcliff
DESCRIPTION:¡Increíble! Barrio at Briarcliff has an amazing Happy Hour menu! I mean tacos galore\, a variety of quesadillas and too many nacho variations to mention here! Plus don’t get me started on their unique libations!\nThis is a fun\, festive\, laid-back place\, guys. So\, join your PTKC amigos tonight! You’ll enjoy it!\n  \n 
URL:https://chapters.theprimetimersww.com/kansascity/event/happy-hour-dinner-barrio-in-briarcliff/
LOCATION:Bario in Briarcliff\, 4125 North Mulberry Drive\, Kansas City\, MO\, 64116\, United States
END:VEVENT
END:VCALENDAR