BEGIN:VCALENDAR
VERSION:2.0
PRODID:-//PrimeTimers of Kansas City - ECPv6.15.20//NONSGML v1.0//EN
CALSCALE:GREGORIAN
METHOD:PUBLISH
X-ORIGINAL-URL:https://chapters.theprimetimersww.com/kansascity
X-WR-CALDESC:Events for PrimeTimers of Kansas City
REFRESH-INTERVAL;VALUE=DURATION:PT1H
X-Robots-Tag:noindex
X-PUBLISHED-TTL:PT1H
BEGIN:VTIMEZONE
TZID:America/Chicago
BEGIN:DAYLIGHT
TZOFFSETFROM:-0600
TZOFFSETTO:-0500
TZNAME:CDT
DTSTART:20250309T080000
END:DAYLIGHT
BEGIN:STANDARD
TZOFFSETFROM:-0500
TZOFFSETTO:-0600
TZNAME:CST
DTSTART:20251102T070000
END:STANDARD
BEGIN:DAYLIGHT
TZOFFSETFROM:-0600
TZOFFSETTO:-0500
TZNAME:CDT
DTSTART:20260308T080000
END:DAYLIGHT
BEGIN:STANDARD
TZOFFSETFROM:-0500
TZOFFSETTO:-0600
TZNAME:CST
DTSTART:20261101T070000
END:STANDARD
BEGIN:DAYLIGHT
TZOFFSETFROM:-0600
TZOFFSETTO:-0500
TZNAME:CDT
DTSTART:20270314T080000
END:DAYLIGHT
BEGIN:STANDARD
TZOFFSETFROM:-0500
TZOFFSETTO:-0600
TZNAME:CST
DTSTART:20271107T070000
END:STANDARD
END:VTIMEZONE
BEGIN:VEVENT
DTSTART;TZID=America/Chicago:20260302T170000
DTEND;TZID=America/Chicago:20260302T190000
DTSTAMP:20260423T055918
CREATED:20260119T183707Z
LAST-MODIFIED:20260122T210535Z
UID:10004201-1772470800-1772478000@chapters.theprimetimersww.com
SUMMARY:Happy Hour Dinner @ Hawg Jaw Que & Brew in North KC
DESCRIPTION:Slow cooked\, cherry wood smoked BBQ in North Kansas City. Family owned and always fresh and made to order. Fellas\, c’mon! Need you know more? I mean it’s…..\nBARBECUE!!\nSo\, strap in ’cause we’re eatin’ da’ meat tonight. Join us! (Oh and stay healthy please\, guys. Vinnie our Vaccine Fairy loves BBQ\, too!)\n  \n \n  \n 
URL:https://chapters.theprimetimersww.com/kansascity/event/happy-hour-dinner-hawg-jaw-que-brew-in-north-kc/
LOCATION:Hawg Jaw Que & Brew\, 900 Swift Street\, North Kansas City\, MO\, 64116\, United States
END:VEVENT
END:VCALENDAR