BEGIN:VCALENDAR
VERSION:2.0
PRODID:-//PrimeTimers of Kansas City - ECPv6.15.20//NONSGML v1.0//EN
CALSCALE:GREGORIAN
METHOD:PUBLISH
X-WR-CALNAME:PrimeTimers of Kansas City
X-ORIGINAL-URL:https://chapters.theprimetimersww.com/kansascity
X-WR-CALDESC:Events for PrimeTimers of Kansas City
REFRESH-INTERVAL;VALUE=DURATION:PT1H
X-Robots-Tag:noindex
X-PUBLISHED-TTL:PT1H
BEGIN:VTIMEZONE
TZID:America/Chicago
BEGIN:DAYLIGHT
TZOFFSETFROM:-0600
TZOFFSETTO:-0500
TZNAME:CDT
DTSTART:20250309T080000
END:DAYLIGHT
BEGIN:STANDARD
TZOFFSETFROM:-0500
TZOFFSETTO:-0600
TZNAME:CST
DTSTART:20251102T070000
END:STANDARD
BEGIN:DAYLIGHT
TZOFFSETFROM:-0600
TZOFFSETTO:-0500
TZNAME:CDT
DTSTART:20260308T080000
END:DAYLIGHT
BEGIN:STANDARD
TZOFFSETFROM:-0500
TZOFFSETTO:-0600
TZNAME:CST
DTSTART:20261101T070000
END:STANDARD
BEGIN:DAYLIGHT
TZOFFSETFROM:-0600
TZOFFSETTO:-0500
TZNAME:CDT
DTSTART:20270314T080000
END:DAYLIGHT
BEGIN:STANDARD
TZOFFSETFROM:-0500
TZOFFSETTO:-0600
TZNAME:CST
DTSTART:20271107T070000
END:STANDARD
END:VTIMEZONE
BEGIN:VEVENT
DTSTART;TZID=America/Chicago:20260311T100000
DTEND;TZID=America/Chicago:20260311T113000
DTSTAMP:20260423T070119
CREATED:20251102T214704Z
LAST-MODIFIED:20251102T214704Z
UID:10001979-1773223200-1773228600@chapters.theprimetimersww.com
SUMMARY:Coffee Talk at Denny's
DESCRIPTION:Okay. So\, by now you might know that Denny’s is closing many restaurants nationwide. But how do WE respond to this outrage? “HELL NO\, WE WON’T GO! HELL NO\, WE WON’T GO!” So\, be sure to join us at 105th and Metcalf with your fellow PTKC rebels! The food is fine\, prices are reasonable\, the coffee is hot and there’s a bunch of guys talkin’ away like crazy! Plus I finally subscribed to AARP so I get a discount!  Nothing is sacred here so come and enjoy yourselves.\nOh\, last thing. Cold and flu season is upon us. Guys\, please make sure you’re current with vaccines. Don’t make me sic Vinnie\, our Vaccine Fairy\, on ‘ya!\nSee you there!\n \n 
URL:https://chapters.theprimetimersww.com/kansascity/event/coffee-talk-at-dennys-every-wednesday-at-10-am-2-2-2/2026-03-11/
LOCATION:Denny’s on Metcalf Avenue\, 10480 Metcalf Avenue\, Overland Park\, 66212\, United States
ORGANIZER;CN="PTKC-Events Committee":MAILTO:primetimerskc@gmail.com
END:VEVENT
BEGIN:VEVENT
DTSTART;TZID=America/Chicago:20260311T190000
DTEND;TZID=America/Chicago:20260311T210000
DTSTAMP:20260423T070119
CREATED:20260119T204537Z
LAST-MODIFIED:20260119T210813Z
UID:10004207-1773255600-1773262800@chapters.theprimetimersww.com
SUMMARY:Hump Day Dinner @ Swagat Indian Restaurant
DESCRIPTION:Now I love Swagat’s online ad copy: Where Every Visit Feels Like A Grand Indian Welcome. “Swagat” [pronounced swah-gut] is a Sanskrit word that expresses joy in welcoming guests and for over two decades\, they’ve been bringing that warmth to Kansas City. Their menu is extensive and brimming with classic Indian cuisine and it’s impossible not to find something wonderfully succulent that you’ll enjoy. Even better\, you’re dining with your PTKC besties!\nSo\, off to Zona Rosa on this fine Wednesday evening. Stay healthy\, fellas\, and meet us there. We look forward to seeing ‘ya!
URL:https://chapters.theprimetimersww.com/kansascity/event/hump-day-dinner-swagat-indian-restaurant/
LOCATION:Swagat Indian Restaurant\, 7407 NW 87th Street\, Kansas City\, MO\, 64153\, United States
END:VEVENT
END:VCALENDAR